Workbook

Sheet PO - REFERENCIAL
A7: PO - PLANILHA ORÇAMENTARIA
A8: Orçamento Base para Licitação
A10: AÇÃO / MODALIDADE | E10: OBJETO | N10: MUNICÍPIO / UF
A11: PROJETO SOMBRA E AGUA FRESCA - AMPLIAÇÃO DE PREDIO ESCOLAR | E11: CONSTRUÇÃO DE SANITARIOS E SALA PARA QUADRA ESCOLAR - EMEB LELLIS DO AMARAL CAMPOS | N11: BEBEDOURO SP
A13: PREPONENTE / TOMADOR | F13: LOCALIDADE / ENDEREÇO
A14: PREFEITURA MUNICIPAL DE BEBEDOURO SP | F14: RUA MONSENHOR ARISTIDES DA SILVEIRA LEITE, Nº 317, VILA ANT. FARANI
A16: SINAPI - Sistema Nacional de Pesquisa de Custos e Índices da Construção Civil | K16: =P16*100%/P19 -> 0.63751928 | M16: EMENDA PARLAMENTAR - [REPASSE] | P16: 150000
A17: RELATÓRIO DE CUSTOS DE COMPOSIÇÕES | G17: Mês de Referência: 04/2025 | K17: =P17*100%/P19 -> 0.062144572 | M17: RENDIMENTOS | P17: 14621.81
A18: Localidade: SAO PAULO - SP | E18: Data de emissão: 09/05/2025 | K18: =P18*100%/P19 -> 0.30033615 | M18: RECURSOS PROPRIOS | P18: =P19-(P16+P17) -> 70665.193
A19: BDI SEM desoneração (Fórmula Acórdão TCU): | F19: 0.2055 | K19: 1 | M19: VALOR TOTAL DA OBRA | P19: =SUM(P22:P98)/2 -> 235287
A21: Código | B21: Descrição da Composição | J21: Unid. | K21: SEM desoneração | L21: COM desoneração | M21: QUANT. | N21: VALOR TOTAL | O21: BDI % | P21: VALOR TOTAL + BDI
B22: INICIO E APOIO DE OBRA | P22: =SUM(P23:P27) -> 11438.406
A23: 98458 | B23: TAPUME COM COMPENSADO DE MADEIRA. AF_03/2024 | J23: M2 | K23: 92.52 | L23: 88.98 | M23: 0 | N23: =K23*M23 -> 0 | O23: =F19 -> 0.2055 | P23: =(N23*O23)+N23 -> 0
A24: 103689 | B24: FORNECIMENTO E INSTALAÇÃO DE PLACA DE OBRA COM CHAPA GALVANIZADA E ESTRUTURA DE MADEIRA. AF_03/2022_PS | J24: M2 | K24: 470.89 | L24: 466.79 | M24: 10 | N24: =K24*M24 -> 4708.9 | O24: =F19 -> 0.2055 | P24: =(N24*O24)+N24 -> 5676.5789
A25: 97628 | B25: DEMOLIÇÃO DE LAJES, EM CONCRETO ARMADO, DE FORMA MANUAL, SEM REAPROVEITAMENTO. AF_09/2023 M3 | J25: M3 | K25: 362.39 | L25: 335.17 | M25: 2.4 | N25: =K25*M25 -> 869.736 | O25: =F19 -> 0.2055 | P25: =(N25*O25)+N25 -> 1048.4667
A26: 98519 | B26: REVOLVIMENTO E LIMPEZA MANUAL DE SOLO. AF_07/2024 | J26: M2 | K26: 5.02 | L26: 4.65 | M26: 120 | N26: =K26*M26 -> 602.4 | O26: =F19 -> 0.2055 | P26: =(N26*O26)+N26 -> 726.1932
A27: 99059 | B27: LOCAÇÃO CONVENCIONAL DE OBRA, UTILIZANDO GABARITO DE TÁBUAS CORRIDAS PONTALETADAS A CADA 2,00M - 2 UTILIZAÇÕES. AF_03/2024 | J27: M | K27: 75.17 | L27: 71.35 | M27: 44 | N27: =K27*M27 -> 3307.48 | O27: =F19 -> 0.2055 | P27: =(N27*O27)+N27 -> 3987.1671
B28: INFRAESTRUTURA | P28: =SUM(P29:P34) -> 26221.9
A29: 93358 | B29: ESCAVAÇÃO MANUAL DE VALA. AF_09/2024 | J29: M3 | K29: 117.76 | L29: 108.98 | M29: 12.2 | N29: =K29*M29 -> 1436.672 | O29: =F19 -> 0.2055 | P29: =(N29*O29)+N29 -> 1731.9081
A30: 104737 | B30: REATERRO MANUAL DE VALAS, COM PLACA VIBRATÓRIA. AF_08/2023 | J30: M3 | K30: 29.03 | L30: 27.05 | M30: =M29 -> 12.2 | N30: =K30*M30 -> 354.166 | O30: =F19 -> 0.2055 | P30: =(N30*O30)+N30 -> 426.94711
A31: 101173 | B31: ESTACA BROCA DE CONCRETO, DIÂMETRO DE 20CM, ESCAVAÇÃO MANUAL COM TRADO CONCHA, COM ARMADURA DE ARRANQUE. AF_05/2020 | J31: M | K31: 66.13 | L31: 63.03 | M31: 54 | N31: =K31*M31 -> 3571.02 | O31: =F19 -> 0.2055 | P31: =(N31*O31)+N31 -> 4304.8646
A32: 96539 | B32: FABRICAÇÃO, MONTAGEM E DESMONTAGEM DE FÔRMA PARA VIGA BALDRAME, EM CHAPA DE MADEIRA COMPENSADA RESINADA, E=17 MM, 2 UTILIZAÇÕES. AF_01/2024 | J32: M2 | K32: 136.63 | L32: 129.38 | M32: 30.5 | N32: =K32*M32 -> 4167.215 | O32: =F19 -> 0.2055 | P32: =(N32*O32)+N32 -> 5023.5777
A33: 104918 | B33: ARMAÇÃO DE SAPATA ISOLADA, VIGA BALDRAME E SAPATA CORRIDA UTILIZANDO AÇO CA-50 DE 8 MM - MONTAGEM. AF_01/2024 | J33: KG | K33: 15.38 | L33: 14.97 | M33: 549 | N33: =K33*M33 -> 8443.62 | O33: =F19 -> 0.2055 | P33: =(N33*O33)+N33 -> 10178.784
A34: 96557 | B34: CONCRETAGEM DE BLOCO DE COROAMENTO OU VIGA BALDRAME, FCK 30 MPA, COM USO DE BOMBA - LANÇAMENTO, ADENSAMENTO E ACABAMENTO. AF_01/2024 | J34: M3 | K34: 619.54 | L34: 617.54 | M34: 6.1 | N34: =K34*M34 -> 3779.194 | O34: =F19 -> 0.2055 | P34: =(N34*O34)+N34 -> 4555.8184
B35: IMPERMEABILIZAÇÃO | P35: =P36 -> 3156.4378
A36: 98555 | B36: IMPERMEABILIZAÇÃO DE SUPERFÍCIE COM ARGAMASSA POLIMÉRICA / MEMBRANA ACRÍLICA, 3 DEMÃOS. AF_09/2023 | J36: M2 | K36: 35.77 | L36: 33.84 | M36: 73.2 | N36: =K36*M36 -> 2618.364 | O36: =F19 -> 0.2055 | P36: =(N36*O36)+N36 -> 3156.4378
B37: SUPERESTRUTURA | P37: =SUM(P38:P43) -> 25386.1
A38: 92269 | B38: FABRICAÇÃO DE FÔRMA PARA PILARES E ESTRUTURAS SIMILARES, EM MADEIRA SERRADA, E=25 MM. AF_09/2020 | J38: M2 | K38: 125.06 | L38: 122.47 | M38: 15.36 | N38: =K38*M38 -> 1920.9216 | O38: =F19 -> 0.2055 | P38: =(N38*O38)+N38 -> 2315.671
A39: 92917 | B39: ARMAÇÃO DE ESTRUTURAS DIVERSAS DE CONCRETO ARMADO, EXCETO VIGAS, PILARES, LAJES E FUNDAÇÕES, UTILIZANDO AÇO CA-50 DE 8,0 MM - MONTAGEM. AF_06/2022 | J39: KG | K39: 14.7 | L39: 14.34 | M39: 138.24 | N39: =K39*M39 -> 2032.128 | O39: =F19 -> 0.2055 | P39: =(N39*O39)+N39 -> 2449.7303
A40: 103672 | B40: CONCRETAGEM DE PILARES, FCK = 25 MPA, COM USO DE BOMBA - LANÇAMENTO, ADENSAMENTO E ACABAMENTO. AF_02/2022_PS | J40: M3 | K40: 571.37 | L40: 567.19 | M40: 1.536 | N40: =K40*M40 -> 877.62432 | O40: =F19 -> 0.2055 | P40: =(N40*O40)+N40 -> 1057.9761
A41: 92266 | B41: FABRICAÇÃO DE FÔRMA PARA VIGAS, EM CHAPA DE MADEIRA COMPENSADA PLASTIFICADA, E = 18 MM. AF_09/2020 | J41: M2 | K41: 141.09 | L41: 137.46 | M41: 30.5 | N41: =K41*M41 -> 4303.245 | O41: =F19 -> 0.2055 | P41: =(N41*O41)+N41 -> 5187.5618
A42: 104918 | B42: ARMAÇÃO DE SAPATA ISOLADA, VIGA BALDRAME E SAPATA CORRIDA UTILIZANDO AÇO CA-50 DE 8 MM - MONTAGEM. AF_01/2024 | J42: KG | K42: 15.38 | L42: 14.97 | M42: 549 | N42: =K42*M42 -> 8443.62 | O42: =F19 -> 0.2055 | P42: =(N42*O42)+N42 -> 10178.784
A43: 103675 | B43: CONCRETAGEM DE VIGAS E LAJES, FCK=25 MPA, PARA LAJES MACIÇAS OU NERVURADAS COM USO DE BOMBA - LANÇAMENTO, ADENSAMENTO E ACABAMENTO. AF_02/2022_PS | J43: M3 | K43: 570.66 | L43: 566.48 | M43: 6.1 | N43: =K43*M43 -> 3481.026 | O43: =F19 -> 0.2055 | P43: =(N43*O43)+N43 -> 4196.3768
B44: ALVENARIA E ELEMENTOS DIVISORES | P44: =SUM(P45:P47) -> 38839.744
A45: 103330 | B45: ALVENARIA DE VEDAÇÃO DE BLOCOS CERÂMICOS FURADOS NA HORIZONTAL DE 11,5X19X19 CM (ESPESSURA 11,5 CM) E ARGAMASSA DE ASSENTAMENTO COM PREPARO EM BETONEIRA. AF_12/2021 | J45: M2 | K45: 91.02 | L45: 86.4 | M45: 195.2 | N45: =K45*M45 -> 17767.104 | O45: =F19 -> 0.2055 | P45: =(N45*O45)+N45 -> 21418.244
A46: 102257 | B46: DIVISORIA SANITÁRIA, TIPO CABINE, EM PAINEL DE GRANILITE, ESP = 3CM, ASSENTADO COM ARGAMASSA COLANTE AC III-E, EXCLUSIVE FERRAGENS. AF_01/2021 | J46: M2 | K46: 348.35 | L46: 340.16 | M46: 25.6 | N46: =K46*M46 -> 8917.76 | O46: =F19 -> 0.2055 | P46: =(N46*O46)+N46 -> 10750.36
A47: 96114 | B47: FORRO EM DRYWALL, PARA AMBIENTES COMERCIAIS, INCLUSIVE ESTRUTURA BIRECIONAL DE FIXAÇÃO. AF_08/2023_PS | J47: M2 | K47: 76.86 | L47: 74.72 | M47: 72 | N47: =K47*M47 -> 5533.92 | O47: =F19 -> 0.2055 | P47: =(N47*O47)+N47 -> 6671.1406
B48: PISOS E REVESTIMENTOS | P48: =SUM(P49:P56) -> 49194.471
A49: 87905 | B49: CHAPISCO APLICADO EM ALVENARIA (COM PRESENÇA DE VÃOS) E ESTRUTURAS DE CONCRETO DE FACHADA, COM COLHER DE PEDREIRO. ARGAMASSA TRAÇO 1:3 COM PREPARO EM BETONEIRA 400L. AF_10/2022 | J49: M2 | K49: 9.26 | L49: 8.64 | M49: 390.4 | N49: =K49*M49 -> 3615.104 | O49: =F19 -> 0.2055 | P49: =(N49*O49)+N49 -> 4358.0079
A50: 104235 | B50: EMBOÇO OU MASSA ÚNICA EM ARGAMASSA INDUSTRIALIZADA, PREPARO MECÂNICA E APLICAÇÃO COM EQUIPAMENTO DE MISTURA E PROJEÇÃO DE 1,5 M3/H DE ARGAMASSA EM PANOS DE FACHADA SEM PRESENÇA DE VÃOS, ESPESSURA DE 25 MM, ACESSO POR ANDAIME. AF_08/2022 | J50: M2 | K50: 78.07 | L50: 76.18 | M50: 75.3 | N50: =K50*M50 -> 5878.671 | O50: =F19 -> 0.2055 | P50: =(N50*O50)+N50 -> 7086.7379
...

Sheet CFF - REFERENCIAL
A10: CFF - CRONOGRAMA FISICO-FIANCEIRO
A11: CRONOGRAMA Base para Licitação
A13: AÇÃO / MODALIDADE | E13: OBJETO | N13: MUNICÍPIO / UF
A14: PROJETO SOMBRA E AGUA FRESCA - AMPLIAÇÃO DE PREDIO ESCOLAR | E14: CONSTRUÇÃO DE SANITARIOS E SALA PARA QUADRA ESCOLAR - EMEB LELLIS DO AMARAL CAMPOS | N14: BEBEDOURO SP
A16: PREPONENTE / TOMADOR | F16: LOCALIDADE / ENDEREÇO
A17: PREFEITURA MUNICIPAL DE BEBEDOURO SP | F17: RUA MONSENHOR ARISTIDES DA SILVEIRA LEITE, Nº 317, VILA ANT. FARANI
E20: Á EXECUTAR | AJ20: TOTAL
A21: Código Atividade | B21: Descrição da Atividade | C21: Valor Orçado | D21: AT/ET ET/TT | E21: % | F21: Mês | G21: 1 | H21: % | I21: Mês | J21: =+G21+1 -> 2 | K21: % | L21: Mês | M21: =+J21+1 -> 3 | N21: % | O21: Mês | P21: =+M21+1 -> 4 | Q21: % | R21: Mês | S21: =+P21+1 -> 5 | T21: % | U21: Mês | V21: =+S21+1 -> 6 | W21: % | X21: Mês | Y21: =+V21+1 -> 7 | Z21: % | AA21: Mês | AB21: =+Y21+1 -> 8 | AC21: % | AD21: Mês | AE21: =+AB21+1 -> 9 | AF21: % | AG21: Mês | AH21: =+AE21+1 -> 10 | AI21: %
A22: 01.00.000 | B22: ='PO - REFERENCIAL'!B101:I101 -> INICIO E APOIO DE OBRA | C22: ='PO - REFERENCIAL'!P101 -> 11438.406 | D22: =C22/$C$33 -> 0.048614696 | E22: 1 | F22: =E22*C22 -> 11438.406 | H22: 0 | I22: =H22*C22 -> 0 | K22: 0 | L22: =K22*C22 -> 0 | N22: 0 | O22: =N22*C22 -> 0 | Q22: 0 | R22: =Q22*C22 -> 0 | T22: 0 | U22: =T22*C22 -> 0 | W22: 0 | X22: =W22*C22 -> 0 | Z22: 0 | AA22: =Z22*C22 -> 0 | AC22: 0 | AD22: =AC22*C22 -> 0 | AF22: 0 | AG22: =AF22*C22 -> 0 | AI22: =E22+H22+K22+N22+Q22+T22+W22+Z22+AC22+AF22 -> 1 | AJ22: =F22+I22+L22+O22+R22+U22+X22+AA22+AD22+AG22 -> 11438.406
A23: 02.00.000 | B23: ='PO - REFERENCIAL'!B102:I102 -> INFRAESTRUTURA | C23: ='PO - REFERENCIAL'!P102 -> 26221.9 | D23: =C23/$C$33 -> 0.11144644 | E23: 0.5 | F23: =E23*C23 -> 13110.95 | H23: 0.5 | I23: =H23*C23 -> 13110.95 | K23: 0 | L23: =K23*C23 -> 0 | N23: 0 | O23: =N23*C23 -> 0 | Q23: 0 | R23: =Q23*C23 -> 0 | T23: 0 | U23: =T23*C23 -> 0 | W23: 0 | X23: =W23*C23 -> 0 | Z23: 0 | AA23: =Z23*C23 -> 0 | AC23: 0 | AD23: =AC23*C23 -> 0 | AF23: 0 | AG23: =AF23*C23 -> 0 | AI23: =E23+H23+K23+N23+Q23+T23+W23+Z23+AC23+AF23 -> 1 | AJ23: =F23+I23+L23+O23+R23+U23+X23+AA23+AD23+AG23 -> 26221.9
A24: 03.00.000 | B24: ='PO - REFERENCIAL'!B103:I103 -> IMPERMEABILIZAÇÃO | C24: ='PO - REFERENCIAL'!P103 -> 3156.4378 | D24: =C24/$C$33 -> 0.013415266 | E24: 0 | F24: =E24*C24 -> 0 | H24: 0.3 | I24: =H24*C24 -> 946.93134 | K24: 0.7 | L24: =K24*C24 -> 2209.5065 | N24: 0 | O24: =N24*C24 -> 0 | Q24: 0 | R24: =Q24*C24 -> 0 | T24: 0 | U24: =T24*C24 -> 0 | W24: 0 | X24: =W24*C24 -> 0 | Z24: 0 | AA24: =Z24*C24 -> 0 | AC24: 0 | AD24: =AC24*C24 -> 0 | AF24: 0 | AG24: =AF24*C24 -> 0 | AI24: =E24+H24+K24+N24+Q24+T24+W24+Z24+AC24+AF24 -> 1 | AJ24: =F24+I24+L24+O24+R24+U24+X24+AA24+AD24+AG24 -> 3156.4378
A25: 04.00.000 | B25: ='PO - REFERENCIAL'!B104:I104 -> SUPERESTRUTURA | C25: ='PO - REFERENCIAL'!P104 -> 25386.1 | D25: =C25/$C$33 -> 0.10789419 | E25: 0 | F25: =E25*C25 -> 0 | H25: 0 | I25: =H25*C25 -> 0 | K25: 0.3 | L25: =K25*C25 -> 7615.83 | N25: 0.7 | O25: =N25*C25 -> 17770.27 | Q25: 0 | R25: =Q25*C25 -> 0 | T25: 0 | U25: =T25*C25 -> 0 | W25: 0 | X25: =W25*C25 -> 0 | Z25: 0 | AA25: =Z25*C25 -> 0 | AC25: 0 | AD25: =AC25*C25 -> 0 | AF25: 0 | AG25: =AF25*C25 -> 0 | AI25: =E25+H25+K25+N25+Q25+T25+W25+Z25+AC25+AF25 -> 1 | AJ25: =F25+I25+L25+O25+R25+U25+X25+AA25+AD25+AG25 -> 25386.1
A26: 05.00.000 | B26: ='PO - REFERENCIAL'!B105:I105 -> ALVENARIA E ELEMENTOS DIVISORES | C26: ='PO - REFERENCIAL'!P105 -> 38839.744 | D26: =C26/$C$33 -> 0.1650739 | E26: 0 | F26: =E26*C26 -> 0 | H26: 0.3 | I26: =H26*C26 -> 11651.923 | K26: 0.3 | L26: =K26*C26 -> 11651.923 | N26: 0.4 | O26: =N26*C26 -> 15535.898 | Q26: 0 | R26: =Q26*C26 -> 0 | T26: 0 | U26: =T26*C26 -> 0 | W26: 0 | X26: =W26*C26 -> 0 | Z26: 0 | AA26: =Z26*C26 -> 0 | AC26: 0 | AD26: =AC26*C26 -> 0 | AF26: 0 | AG26: =AF26*C26 -> 0 | AI26: =E26+H26+K26+N26+Q26+T26+W26+Z26+AC26+AF26 -> 1 | AJ26: =F26+I26+L26+O26+R26+U26+X26+AA26+AD26+AG26 -> 38839.744
A27: 06.00.000 | B27: ='PO - REFERENCIAL'!B106:I106 -> PISOS E REVESTIMENTOS | C27: ='PO - REFERENCIAL'!P106 -> 49194.471 | D27: =C27/$C$33 -> 0.20908282 | E27: 0 | F27: =E27*C27 -> 0 | H27: 0.1 | I27: =H27*C27 -> 4919.4471 | K27: 0.4 | L27: =K27*C27 -> 19677.788 | N27: 0.5 | O27: =N27*C27 -> 24597.235 | Q27: 0 | R27: =Q27*C27 -> 0 | T27: 0 | U27: =T27*C27 -> 0 | W27: 0 | X27: =W27*C27 -> 0 | Z27: 0 | AA27: =Z27*C27 -> 0 | AC27: 0 | AD27: =AC27*C27 -> 0 | AF27: 0 | AG27: =AF27*C27 -> 0 | AI27: =E27+H27+K27+N27+Q27+T27+W27+Z27+AC27+AF27 -> 1 | AJ27: =F27+I27+L27+O27+R27+U27+X27+AA27+AD27+AG27 -> 49194.471
A28: 07.00.000 | B28: ='PO - REFERENCIAL'!B107:I107 -> SISTEMA DE COBERTURA | C28: ='PO - REFERENCIAL'!P107 -> 26893.138 | D28: =C28/$C$33 -> 0.11429929 | E28: 0 | F28: =E28*C28 -> 0 | H28: 0.1 | I28: =H28*C28 -> 2689.3138 | K28: 0.2 | L28: =K28*C28 -> 5378.6276 | N28: 0.7 | O28: =N28*C28 -> 18825.196 | Q28: 0 | R28: =Q28*C28 -> 0 | T28: 0 | U28: =T28*C28 -> 0 | W28: 0 | X28: =W28*C28 -> 0 | Z28: 0 | AA28: =Z28*C28 -> 0 | AC28: 0 | AD28: =AC28*C28 -> 0 | AF28: 0 | AG28: =AF28*C28 -> 0 | AI28: =E28+H28+K28+N28+Q28+T28+W28+Z28+AC28+AF28 -> 1 | AJ28: =F28+I28+L28+O28+R28+U28+X28+AA28+AD28+AG28 -> 26893.138
A29: 08.00.000 | B29: ='PO - REFERENCIAL'!B108:I108 -> ESQUADRIAS | C29: ='PO - REFERENCIAL'!P108 -> 20862.884 | D29: =C29/$C$33 -> 0.088669938 | E29: 0.1 | F29: =E29*C29 -> 2086.2884 | H29: 0.2 | I29: =H29*C29 -> 4172.5768 | K29: 0.2 | L29: =K29*C29 -> 4172.5768 | N29: 0.5 | O29: =N29*C29 -> 10431.442 | Q29: 0 | R29: =Q29*C29 -> 0 | T29: 0 | U29: =T29*C29 -> 0 | W29: 0 | X29: =W29*C29 -> 0 | Z29: 0 | AA29: =Z29*C29 -> 0 | AC29: 0 | AD29: =AC29*C29 -> 0 | AF29: 0 | AG29: =AF29*C29 -> 0 | AI29: =E29+H29+K29+N29+Q29+T29+W29+Z29+AC29+AF29 -> 1 | AJ29: =F29+I29+L29+O29+R29+U29+X29+AA29+AD29+AG29 -> 20862.884
A30: 09.00.000 | B30: ='PO - REFERENCIAL'!B109:I109 -> ELETRICA | C30: ='PO - REFERENCIAL'!P109 -> 5235.7397 | D30: =C30/$C$33 -> 0.022252566 | E30: 0.2 | F30: =E30*C30 -> 1047.1479 | H30: 0.4 | I30: =H30*C30 -> 2094.2959 | K30: 0.4 | L30: =K30*C30 -> 2094.2959 | N30: 0 | O30: =N30*C30 -> 0 | Q30: 0 | R30: =Q30*C30 -> 0 | T30: 0 | U30: =T30*C30 -> 0 | W30: 0 | X30: =W30*C30 -> 0 | Z30: 0 | AA30: =Z30*C30 -> 0 | AC30: 0 | AD30: =AC30*C30 -> 0 | AF30: 0 | AG30: =AF30*C30 -> 0 | AI30: =E30+H30+K30+N30+Q30+T30+W30+Z30+AC30+AF30 -> 1 | AJ30: =F30+I30+L30+O30+R30+U30+X30+AA30+AD30+AG30 -> 5235.7397
A31: 10.00.000 | B31: ='PO - REFERENCIAL'!B110:I110 -> HIDRAULICA | C31: ='PO - REFERENCIAL'!P110 -> 14552.037 | D31: =C31/$C$33 -> 0.061848025 | E31: 0.2 | F31: =E31*C31 -> 2910.4073 | H31: 0.4 | I31: =H31*C31 -> 5820.8146 | K31: 0.4 | L31: =K31*C31 -> 5820.8146 | N31: 0 | O31: =N31*C31 -> 0 | Q31: 0 | R31: =Q31*C31 -> 0 | T31: 0 | U31: =T31*C31 -> 0 | W31: 0 | X31: =W31*C31 -> 0 | Z31: 0 | AA31: =Z31*C31 -> 0 | AC31: 0 | AD31: =AC31*C31 -> 0 | AF31: 0 | AG31: =AF31*C31 -> 0 | AI31: =E31+H31+K31+N31+Q31+T31+W31+Z31+AC31+AF31 -> 1 | AJ31: =F31+I31+L31+O31+R31+U31+X31+AA31+AD31+AG31 -> 14552.037
A32: 11.00.000 | B32: ='PO - REFERENCIAL'!B111:I111 -> PINTURA | C32: ='PO - REFERENCIAL'!P111 -> 13506.146 | D32: =C32/$C$33 -> 0.057402857 | E32: 0 | F32: =E32*C32 -> 0 | H32: 0 | I32: =H32*C32 -> 0 | K32: 0.3 | L32: =K32*C32 -> 4051.8439 | N32: 0.7 | O32: =N32*C32 -> 9454.3024 | Q32: 0 | R32: =Q32*C32 -> 0 | T32: 0 | U32: =T32*C32 -> 0 | W32: 0 | X32: =W32*C32 -> 0 | Z32: 0 | AA32: =Z32*C32 -> 0 | AC32: 0 | AD32: =AC32*C32 -> 0 | AF32: 0 | AG32: =AF32*C32 -> 0 | AI32: =E32+H32+K32+N32+Q32+T32+W32+Z32+AC32+AF32 -> 1 | AJ32: =F32+I32+L32+O32+R32+U32+X32+AA32+AD32+AG32 -> 13506.146
A33: VALOR TOTAL DO ORÇAMENTO: | C33: =SUM(C22:C32) -> 235287 | E33: =F33*100%/C33 -> 0.13002503 | F33: =SUM(F22:G32) -> 30593.2 | H33: =I33*100%/C33 -> 0.19298241 | I33: =SUM(I22:J32) -> 45406.253 | K33: =L33*100%/C33 -> 0.26636918 | L33: =SUM(L22:M32) -> 62673.207 | N33: =O33*100%/C33 -> 0.41062338 | O33: =SUM(O22:P32) -> 96614.344 | Q33: =R33*100%/C33 -> 0 | R33: =SUM(R22:S32) -> 0 | T33: =U33*100%/C33 -> 0 | U33: =SUM(U22:V32) -> 0 | W33: =X33*100%/C33 -> 0 | X33: =SUM(X22:Y32) -> 0 | Z33: =AA33*100%/C33 -> 0 | AA33: =SUM(AA22:AB32) -> 0 | AC33: =AD33*100%/C33 -> 0 | AD33: =SUM(AD22:AE32) -> 0 | AF33: =AG33*100%/C33 -> 0 | AG33: =SUM(AG22:AH32) -> 0 | AI33: =E33+H33+K33+N33+Q33+T33+W33+Z33+AC33+AF33 -> 1 | AJ33: =F33+I33+L33+O33+R33+U33+X33+AA33+AD33+AG33 -> 235287
H34: =H33+E33 -> 0.32300744 | I34: =I33+F33 -> 75999.452 | K34: =K33+H34 -> 0.58937662 | L34: =L33+I34 -> 138672.66 | N34: =N33+K34 -> 1 | O34: =O33+L34 -> 235287 | Q34: =Q33+N34 -> 1 | R34: =R33+O34 -> 235287 | T34: =T33+Q34 -> 1 | U34: =U33+R34 -> 235287 | W34: =W33+T34 -> 1 | X34: =X33+U34 -> 235287 | Z34: =Z33+W34 -> 1 | AA34: =AA33+X34 -> 235287 | AC34: =AC33+Z34 -> 1 | AD34: =AD33+AA34 -> 235287 | AF34: =AF33+AC34 -> 1 | AG34: =AG33+AD34 -> 235287
B38: ='PO - REFERENCIAL'!B116:E116 -> MARIO PEREIRA DE SÁ | G38: ='PO - REFERENCIAL'!G116:J116 -> LEONARDO M. O. R. DE CARVALHO
B39: ='PO - REFERENCIAL'!B117:E117 -> COODENADOR DE CONVENIOS | G39: ='PO - REFERENCIAL'!G117:J117 -> DIRETOR DEP. DE OBRAS E CONVENIOS
B40: ='PO - REFERENCIAL'!B118:E118 -> Secretaria Mun Desenv Econ.ger Emp e Ren | G40: ='PO - REFERENCIAL'!G118:J118 -> CREA/SP.: 507.007.230-7
B41: ='PO - REFERENCIAL'!B119:E119 -> Matrícula | G41: ='PO - REFERENCIAL'!G119:J119 -> Matrícula
B45: ='PO - REFERENCIAL'!B123:E123 -> ANGELICA LAINETTI MASSARO | G45: ='PO - REFERENCIAL'!G123:J123 -> RAPHAEL LEAL SANCHES
B46: ='PO - REFERENCIAL'!B124:E124 -> DIRETORA DE DEPTO DE EDUCACAO | G46: ='PO - REFERENCIAL'!G124:J124 -> COORDENADOR DE PLANEJAMENTO,ENGENHARIA E OBRA
G47: ='PO - REFERENCIAL'!G125:J125 -> Matrícula

Sheet PO -  FORNECEDOR
A7: PO - PLANILHA ORÇAMENTARIA
A8: Orçamento Base para Licitação
A10: AÇÃO / MODALIDADE | E10: OBJETO | N10: MUNICÍPIO / UF
A11: PROJETO SOMBRA E AGUA FRESCA - AMPLIAÇÃO DE PREDIO ESCOLAR | E11: CONSTRUÇÃO DE SANITARIOS E SALA PARA QUADRA ESCOLAR - EMEB LELLIS DO AMARAL CAMPOS | N11: BEBEDOURO SP
A13: PREPONENTE / TOMADOR | F13: LOCALIDADE / ENDEREÇO
A14: PREFEITURA MUNICIPAL DE BEBEDOURO SP | F14: RUA MONSENHOR ARISTIDES DA SILVEIRA LEITE, Nº 317, VILA ANT. FARANI
A16: SINAPI - Sistema Nacional de Pesquisa de Custos e Índices da Construção Civil | K16: =P16*100%/P19 -> #DIV/0! | M16: EMENDA PARLAMENTAR - REPASSE | P16: 150000
A17: RELATÓRIO DE CUSTOS DE COMPOSIÇÕES | G17: Mês de Referência: 04/2025 | K17: =P17*100%/P19 -> #DIV/0! | M17: RENDIMENTOS | P17: 14621.81
A18: Localidade: SAO PAULO - SP | E18: Data de emissão: 09/05/2025 | K18: =P18*100%/P19 -> #DIV/0! | M18: RECUSOS PROPRIOS | P18: =P19-(P16+P17) -> -164621.81
A19: BDI SEM desoneração (Fórmula Acórdão TCU): | F19: 0 | K19: 1 | M19: VALOR TOTAL DA OBRA | P19: =SUM(P22:P98)/2 -> 0
A21: Código | B21: Descrição da Composição | J21: Unid. | K21: SEM desoneração | L21: COM desoneração | M21: QUANT. | N21: VALOR TOTAL | O21: BDI % | P21: VALOR TOTAL + BDI
B22: INICIO E APOIO DE OBRA | P22: =SUM(P23:P27) -> 0
A23: 98458 | B23: TAPUME COM COMPENSADO DE MADEIRA. AF_03/2024 | J23: M2 | K23: 92.52 | L23: 88.98 | M23: 0 | N23: =K23*M23 -> 0 | O23: =F19 -> 0 | P23: =(N23*O23)+N23 -> 0
A24: 103689 | B24: FORNECIMENTO E INSTALAÇÃO DE PLACA DE OBRA COM CHAPA GALVANIZADA E ESTRUTURA DE MADEIRA. AF_03/2022_PS | J24: M2 | K24: 0 | L24: 466.79 | M24: 10 | N24: =K24*M24 -> 0 | O24: =F19 -> 0 | P24: =(N24*O24)+N24 -> 0
A25: 97628 | B25: DEMOLIÇÃO DE LAJES, EM CONCRETO ARMADO, DE FORMA MANUAL, SEM REAPROVEITAMENTO. AF_09/2023 M3 | J25: M3 | K25: 0 | L25: 335.17 | M25: 2.4 | N25: =K25*M25 -> 0 | O25: =F19 -> 0 | P25: =(N25*O25)+N25 -> 0
A26: 98519 | B26: REVOLVIMENTO E LIMPEZA MANUAL DE SOLO. AF_07/2024 | J26: M2 | K26: 0 | L26: 4.65 | M26: 120 | N26: =K26*M26 -> 0 | O26: =F19 -> 0 | P26: =(N26*O26)+N26 -> 0
A27: 99059 | B27: LOCAÇÃO CONVENCIONAL DE OBRA, UTILIZANDO GABARITO DE TÁBUAS CORRIDAS PONTALETADAS A CADA 2,00M - 2 UTILIZAÇÕES. AF_03/2024 | J27: M | K27: 0 | L27: 71.35 | M27: 44 | N27: =K27*M27 -> 0 | O27: =F19 -> 0 | P27: =(N27*O27)+N27 -> 0
B28: INFRAESTRUTURA | P28: =SUM(P29:P34) -> 0
A29: 93358 | B29: ESCAVAÇÃO MANUAL DE VALA. AF_09/2024 | J29: M3 | K29: 0 | L29: 108.98 | M29: 12.2 | N29: =K29*M29 -> 0 | O29: =F23 -> 0 | P29: =(N29*O29)+N29 -> 0
A30: 104737 | B30: REATERRO MANUAL DE VALAS, COM PLACA VIBRATÓRIA. AF_08/2023 | J30: M3 | K30: 0 | L30: 27.05 | M30: =M29 -> 12.2 | N30: =K30*M30 -> 0 | O30: =F23 -> 0 | P30: =(N30*O30)+N30 -> 0
A31: 101173 | B31: ESTACA BROCA DE CONCRETO, DIÂMETRO DE 20CM, ESCAVAÇÃO MANUAL COM TRADO CONCHA, COM ARMADURA DE ARRANQUE. AF_05/2020 | J31: M | K31: 0 | L31: 63.03 | M31: 54 | N31: =K31*M31 -> 0 | O31: =F23 -> 0 | P31: =(N31*O31)+N31 -> 0
A32: 96539 | B32: FABRICAÇÃO, MONTAGEM E DESMONTAGEM DE FÔRMA PARA VIGA BALDRAME, EM CHAPA DE MADEIRA COMPENSADA RESINADA, E=17 MM, 2 UTILIZAÇÕES. AF_01/2024 | J32: M2 | K32: 0 | L32: 129.38 | M32: 30.5 | N32: =K32*M32 -> 0 | O32: =F27 -> 0 | P32: =(N32*O32)+N32 -> 0
A33: 104918 | B33: ARMAÇÃO DE SAPATA ISOLADA, VIGA BALDRAME E SAPATA CORRIDA UTILIZANDO AÇO CA-50 DE 8 MM - MONTAGEM. AF_01/2024 | J33: KG | K33: 0 | L33: 14.97 | M33: 549 | N33: =K33*M33 -> 0 | O33: =F27 -> 0 | P33: =(N33*O33)+N33 -> 0
A34: 96557 | B34: CONCRETAGEM DE BLOCO DE COROAMENTO OU VIGA BALDRAME, FCK 30 MPA, COM USO DE BOMBA - LANÇAMENTO, ADENSAMENTO E ACABAMENTO. AF_01/2024 | J34: M3 | K34: 0 | L34: 617.54 | M34: 6.1 | N34: =K34*M34 -> 0 | O34: =F27 -> 0 | P34: =(N34*O34)+N34 -> 0
B35: IMPERMEABILIZAÇÃO | P35: =P36 -> 0
A36: 98555 | B36: IMPERMEABILIZAÇÃO DE SUPERFÍCIE COM ARGAMASSA POLIMÉRICA / MEMBRANA ACRÍLICA, 3 DEMÃOS. AF_09/2023 | J36: M2 | K36: 0 | L36: 33.84 | M36: 73.2 | N36: =K36*M36 -> 0 | O36: =F31 -> 0 | P36: =(N36*O36)+N36 -> 0
B37: SUPERESTRUTURA | P37: =SUM(P38:P43) -> 0
A38: 92269 | B38: FABRICAÇÃO DE FÔRMA PARA PILARES E ESTRUTURAS SIMILARES, EM MADEIRA SERRADA, E=25 MM. AF_09/2020 | J38: M2 | K38: 0 | L38: 122.47 | M38: 15.36 | N38: =K38*M38 -> 0 | O38: =F31 -> 0 | P38: =(N38*O38)+N38 -> 0
A39: 92917 | B39: ARMAÇÃO DE ESTRUTURAS DIVERSAS DE CONCRETO ARMADO, EXCETO VIGAS, PILARES, LAJES E FUNDAÇÕES, UTILIZANDO AÇO CA-50 DE 8,0 MM - MONTAGEM. AF_06/2022 | J39: KG | K39: 0 | L39: 14.34 | M39: 138.24 | N39: =K39*M39 -> 0 | O39: =F31 -> 0 | P39: =(N39*O39)+N39 -> 0
A40: 103672 | B40: CONCRETAGEM DE PILARES, FCK = 25 MPA, COM USO DE BOMBA - LANÇAMENTO, ADENSAMENTO E ACABAMENTO. AF_02/2022_PS | J40: M3 | K40: 0 | L40: 567.19 | M40: 1.536 | N40: =K40*M40 -> 0 | O40: =F35 -> 0 | P40: =(N40*O40)+N40 -> 0
A41: 92266 | B41: FABRICAÇÃO DE FÔRMA PARA VIGAS, EM CHAPA DE MADEIRA COMPENSADA PLASTIFICADA, E = 18 MM. AF_09/2020 | J41: M2 | K41: 0 | L41: 137.46 | M41: 30.5 | N41: =K41*M41 -> 0 | O41: =F35 -> 0 | P41: =(N41*O41)+N41 -> 0
A42: 104918 | B42: ARMAÇÃO DE SAPATA ISOLADA, VIGA BALDRAME E SAPATA CORRIDA UTILIZANDO AÇO CA-50 DE 8 MM - MONTAGEM. AF_01/2024 | J42: KG | K42: 0 | L42: 14.97 | M42: 549 | N42: =K42*M42 -> 0 | O42: =F35 -> 0 | P42: =(N42*O42)+N42 -> 0
A43: 103675 | B43: CONCRETAGEM DE VIGAS E LAJES, FCK=25 MPA, PARA LAJES MACIÇAS OU NERVURADAS COM USO DE BOMBA - LANÇAMENTO, ADENSAMENTO E ACABAMENTO. AF_02/2022_PS | J43: M3 | K43: 0 | L43: 566.48 | M43: 6.1 | N43: =K43*M43 -> 0 | O43: =F35 -> 0 | P43: =(N43*O43)+N43 -> 0
B44: ALVENARIA E ELEMENTOS DIVISORES | P44: =SUM(P45:P47) -> 0
A45: 103330 | B45: ALVENARIA DE VEDAÇÃO DE BLOCOS CERÂMICOS FURADOS NA HORIZONTAL DE 11,5X19X19 CM (ESPESSURA 11,5 CM) E ARGAMASSA DE ASSENTAMENTO COM PREPARO EM BETONEIRA. AF_12/2021 | J45: M2 | K45: 0 | L45: 86.4 | M45: 195.2 | N45: =K45*M45 -> 0 | O45: =F39 -> 0 | P45: =(N45*O45)+N45 -> 0
A46: 102257 | B46: DIVISORIA SANITÁRIA, TIPO CABINE, EM PAINEL DE GRANILITE, ESP = 3CM, ASSENTADO COM ARGAMASSA COLANTE AC III-E, EXCLUSIVE FERRAGENS. AF_01/2021 | J46: M2 | K46: 0 | L46: 340.16 | M46: 25.6 | N46: =K46*M46 -> 0 | O46: =F39 -> 0 | P46: =(N46*O46)+N46 -> 0
A47: 96114 | B47: FORRO EM DRYWALL, PARA AMBIENTES COMERCIAIS, INCLUSIVE ESTRUTURA BIRECIONAL DE FIXAÇÃO. AF_08/2023_PS | J47: M2 | K47: 0 | L47: 74.72 | M47: 72 | N47: =K47*M47 -> 0 | O47: =F39 -> 0 | P47: =(N47*O47)+N47 -> 0
B48: PISOS E REVESTIMENTOS | P48: =SUM(P49:P56) -> 0
A49: 87905 | B49: CHAPISCO APLICADO EM ALVENARIA (COM PRESENÇA DE VÃOS) E ESTRUTURAS DE CONCRETO DE FACHADA, COM COLHER DE PEDREIRO. ARGAMASSA TRAÇO 1:3 COM PREPARO EM BETONEIRA 400L. AF_10/2022 | J49: M2 | K49: 0 | L49: 8.64 | M49: 390.4 | N49: =K49*M49 -> 0 | O49: =F43 -> 0 | P49: =(N49*O49)+N49 -> 0
A50: 104235 | B50: EMBOÇO OU MASSA ÚNICA EM ARGAMASSA INDUSTRIALIZADA, PREPARO MECÂNICA E APLICAÇÃO COM EQUIPAMENTO DE MISTURA E PROJEÇÃO DE 1,5 M3/H DE ARGAMASSA EM PANOS DE FACHADA SEM PRESENÇA DE VÃOS, ESPESSURA DE 25 MM, ACESSO POR ANDAIME. AF_08/2022 | J50: M2 | K50: 0 | L50: 76.18 | M50: 75.3 | N50: =K50*M50 -> 0 | O50: =F43 -> 0 | P50: =(N50*O50)+N50 -> 0
...

Sheet CFF - FORNECEDOR
A10: CFF - CRONOGRAMA FISICO-FIANCEIRO
A11: CRONOGRAMA Base para Licitação
A13: AÇÃO / MODALIDADE | E13: OBJETO | N13: MUNICÍPIO / UF
A14: PROJETO SOMBRA E AGUA FRESCA - AMPLIAÇÃO DE PREDIO ESCOLAR | E14: CONSTRUÇÃO DE SANITARIOS E SALA PARA QUADRA ESCOLAR - EMEB LELLIS DO AMARAL CAMPOS | N14: BEBEDOURO SP
A16: PREPONENTE / TOMADOR | F16: LOCALIDADE / ENDEREÇO
A17: PREFEITURA MUNICIPAL DE BEBEDOURO SP | F17: RUA MONSENHOR ARISTIDES DA SILVEIRA LEITE, Nº 317, VILA ANT. FARANI
E20: Á EXECUTAR | AJ20: TOTAL
A21: Código Atividade | B21: Descrição da Atividade | C21: Valor Orçado | D21: AT/ET ET/TT | E21: % | F21: Mês | G21: 1 | H21: % | I21: Mês | J21: =+G21+1 -> 2 | K21: % | L21: Mês | M21: =+J21+1 -> 3 | N21: % | O21: Mês | P21: =+M21+1 -> 4 | Q21: % | R21: Mês | S21: =+P21+1 -> 5 | T21: % | U21: Mês | V21: =+S21+1 -> 6 | W21: % | X21: Mês | Y21: =+V21+1 -> 7 | Z21: % | AA21: Mês | AB21: =+Y21+1 -> 8 | AC21: % | AD21: Mês | AE21: =+AB21+1 -> 9 | AF21: % | AG21: Mês | AH21: =+AE21+1 -> 10 | AI21: %
A22: 01.00.000 | B22: ='PO - REFERENCIAL'!B101:I101 -> INICIO E APOIO DE OBRA | C22: ='PO - FORNECEDOR'!P101 -> 0 | D22: =C22/$C$33 -> #DIV/0! | E22: 1 | F22: =E22*C22 -> 0 | H22: 0 | I22: =H22*C22 -> 0 | K22: 0 | L22: =K22*C22 -> 0 | N22: 0 | O22: =N22*C22 -> 0 | Q22: 0 | R22: =Q22*C22 -> 0 | T22: 0 | U22: =T22*C22 -> 0 | W22: 0 | X22: =W22*C22 -> 0 | Z22: 0 | AA22: =Z22*C22 -> 0 | AC22: 0 | AD22: =AC22*C22 -> 0 | AF22: 0 | AG22: =AF22*C22 -> 0 | AI22: =E22+H22+K22+N22+Q22+T22+W22+Z22+AC22+AF22 -> 1 | AJ22: =F22+I22+L22+O22+R22+U22+X22+AA22+AD22+AG22 -> 0
A23: 02.00.000 | B23: ='PO - REFERENCIAL'!B102:I102 -> INFRAESTRUTURA | C23: ='PO - FORNECEDOR'!P102 -> 0 | D23: =C23/$C$33 -> #DIV/0! | E23: 0.5 | F23: =E23*C23 -> 0 | H23: 0.5 | I23: =H23*C23 -> 0 | K23: 0 | L23: =K23*C23 -> 0 | N23: 0 | O23: =N23*C23 -> 0 | Q23: 0 | R23: =Q23*C23 -> 0 | T23: 0 | U23: =T23*C23 -> 0 | W23: 0 | X23: =W23*C23 -> 0 | Z23: 0 | AA23: =Z23*C23 -> 0 | AC23: 0 | AD23: =AC23*C23 -> 0 | AF23: 0 | AG23: =AF23*C23 -> 0 | AI23: =E23+H23+K23+N23+Q23+T23+W23+Z23+AC23+AF23 -> 1 | AJ23: =F23+I23+L23+O23+R23+U23+X23+AA23+AD23+AG23 -> 0
A24: 03.00.000 | B24: ='PO - REFERENCIAL'!B103:I103 -> IMPERMEABILIZAÇÃO | C24: ='PO - FORNECEDOR'!P103 -> 0 | D24: =C24/$C$33 -> #DIV/0! | E24: 0 | F24: =E24*C24 -> 0 | H24: 0.3 | I24: =H24*C24 -> 0 | K24: 0.7 | L24: =K24*C24 -> 0 | N24: 0 | O24: =N24*C24 -> 0 | Q24: 0 | R24: =Q24*C24 -> 0 | T24: 0 | U24: =T24*C24 -> 0 | W24: 0 | X24: =W24*C24 -> 0 | Z24: 0 | AA24: =Z24*C24 -> 0 | AC24: 0 | AD24: =AC24*C24 -> 0 | AF24: 0 | AG24: =AF24*C24 -> 0 | AI24: =E24+H24+K24+N24+Q24+T24+W24+Z24+AC24+AF24 -> 1 | AJ24: =F24+I24+L24+O24+R24+U24+X24+AA24+AD24+AG24 -> 0
A25: 04.00.000 | B25: ='PO - REFERENCIAL'!B104:I104 -> SUPERESTRUTURA | C25: ='PO - FORNECEDOR'!P104 -> 0 | D25: =C25/$C$33 -> #DIV/0! | E25: 0 | F25: =E25*C25 -> 0 | H25: 0 | I25: =H25*C25 -> 0 | K25: 0.3 | L25: =K25*C25 -> 0 | N25: 0.7 | O25: =N25*C25 -> 0 | Q25: 0 | R25: =Q25*C25 -> 0 | T25: 0 | U25: =T25*C25 -> 0 | W25: 0 | X25: =W25*C25 -> 0 | Z25: 0 | AA25: =Z25*C25 -> 0 | AC25: 0 | AD25: =AC25*C25 -> 0 | AF25: 0 | AG25: =AF25*C25 -> 0 | AI25: =E25+H25+K25+N25+Q25+T25+W25+Z25+AC25+AF25 -> 1 | AJ25: =F25+I25+L25+O25+R25+U25+X25+AA25+AD25+AG25 -> 0
A26: 05.00.000 | B26: ='PO - REFERENCIAL'!B105:I105 -> ALVENARIA E ELEMENTOS DIVISORES | C26: ='PO - FORNECEDOR'!P105 -> 0 | D26: =C26/$C$33 -> #DIV/0! | E26: 0 | F26: =E26*C26 -> 0 | H26: 0.3 | I26: =H26*C26 -> 0 | K26: 0.3 | L26: =K26*C26 -> 0 | N26: 0.4 | O26: =N26*C26 -> 0 | Q26: 0 | R26: =Q26*C26 -> 0 | T26: 0 | U26: =T26*C26 -> 0 | W26: 0 | X26: =W26*C26 -> 0 | Z26: 0 | AA26: =Z26*C26 -> 0 | AC26: 0 | AD26: =AC26*C26 -> 0 | AF26: 0 | AG26: =AF26*C26 -> 0 | AI26: =E26+H26+K26+N26+Q26+T26+W26+Z26+AC26+AF26 -> 1 | AJ26: =F26+I26+L26+O26+R26+U26+X26+AA26+AD26+AG26 -> 0
A27: 06.00.000 | B27: ='PO - REFERENCIAL'!B106:I106 -> PISOS E REVESTIMENTOS | C27: ='PO - FORNECEDOR'!P106 -> 0 | D27: =C27/$C$33 -> #DIV/0! | E27: 0 | F27: =E27*C27 -> 0 | H27: 0.1 | I27: =H27*C27 -> 0 | K27: 0.4 | L27: =K27*C27 -> 0 | N27: 0.5 | O27: =N27*C27 -> 0 | Q27: 0 | R27: =Q27*C27 -> 0 | T27: 0 | U27: =T27*C27 -> 0 | W27: 0 | X27: =W27*C27 -> 0 | Z27: 0 | AA27: =Z27*C27 -> 0 | AC27: 0 | AD27: =AC27*C27 -> 0 | AF27: 0 | AG27: =AF27*C27 -> 0 | AI27: =E27+H27+K27+N27+Q27+T27+W27+Z27+AC27+AF27 -> 1 | AJ27: =F27+I27+L27+O27+R27+U27+X27+AA27+AD27+AG27 -> 0
A28: 07.00.000 | B28: ='PO - REFERENCIAL'!B107:I107 -> SISTEMA DE COBERTURA | C28: ='PO - FORNECEDOR'!P107 -> 0 | D28: =C28/$C$33 -> #DIV/0! | E28: 0 | F28: =E28*C28 -> 0 | H28: 0.1 | I28: =H28*C28 -> 0 | K28: 0.2 | L28: =K28*C28 -> 0 | N28: 0.7 | O28: =N28*C28 -> 0 | Q28: 0 | R28: =Q28*C28 -> 0 | T28: 0 | U28: =T28*C28 -> 0 | W28: 0 | X28: =W28*C28 -> 0 | Z28: 0 | AA28: =Z28*C28 -> 0 | AC28: 0 | AD28: =AC28*C28 -> 0 | AF28: 0 | AG28: =AF28*C28 -> 0 | AI28: =E28+H28+K28+N28+Q28+T28+W28+Z28+AC28+AF28 -> 1 | AJ28: =F28+I28+L28+O28+R28+U28+X28+AA28+AD28+AG28 -> 0
A29: 08.00.000 | B29: ='PO - REFERENCIAL'!B108:I108 -> ESQUADRIAS | C29: ='PO - FORNECEDOR'!P108 -> 0 | D29: =C29/$C$33 -> #DIV/0! | E29: 0.1 | F29: =E29*C29 -> 0 | H29: 0.2 | I29: =H29*C29 -> 0 | K29: 0.2 | L29: =K29*C29 -> 0 | N29: 0.5 | O29: =N29*C29 -> 0 | Q29: 0 | R29: =Q29*C29 -> 0 | T29: 0 | U29: =T29*C29 -> 0 | W29: 0 | X29: =W29*C29 -> 0 | Z29: 0 | AA29: =Z29*C29 -> 0 | AC29: 0 | AD29: =AC29*C29 -> 0 | AF29: 0 | AG29: =AF29*C29 -> 0 | AI29: =E29+H29+K29+N29+Q29+T29+W29+Z29+AC29+AF29 -> 1 | AJ29: =F29+I29+L29+O29+R29+U29+X29+AA29+AD29+AG29 -> 0
A30: 09.00.000 | B30: ='PO - REFERENCIAL'!B109:I109 -> ELETRICA | C30: ='PO - FORNECEDOR'!P109 -> 0 | D30: =C30/$C$33 -> #DIV/0! | E30: 0.2 | F30: =E30*C30 -> 0 | H30: 0.4 | I30: =H30*C30 -> 0 | K30: 0.4 | L30: =K30*C30 -> 0 | N30: 0 | O30: =N30*C30 -> 0 | Q30: 0 | R30: =Q30*C30 -> 0 | T30: 0 | U30: =T30*C30 -> 0 | W30: 0 | X30: =W30*C30 -> 0 | Z30: 0 | AA30: =Z30*C30 -> 0 | AC30: 0 | AD30: =AC30*C30 -> 0 | AF30: 0 | AG30: =AF30*C30 -> 0 | AI30: =E30+H30+K30+N30+Q30+T30+W30+Z30+AC30+AF30 -> 1 | AJ30: =F30+I30+L30+O30+R30+U30+X30+AA30+AD30+AG30 -> 0
A31: 10.00.000 | B31: ='PO - REFERENCIAL'!B110:I110 -> HIDRAULICA | C31: ='PO - FORNECEDOR'!P110 -> 0 | D31: =C31/$C$33 -> #DIV/0! | E31: 0.2 | F31: =E31*C31 -> 0 | H31: 0.4 | I31: =H31*C31 -> 0 | K31: 0.4 | L31: =K31*C31 -> 0 | N31: 0 | O31: =N31*C31 -> 0 | Q31: 0 | R31: =Q31*C31 -> 0 | T31: 0 | U31: =T31*C31 -> 0 | W31: 0 | X31: =W31*C31 -> 0 | Z31: 0 | AA31: =Z31*C31 -> 0 | AC31: 0 | AD31: =AC31*C31 -> 0 | AF31: 0 | AG31: =AF31*C31 -> 0 | AI31: =E31+H31+K31+N31+Q31+T31+W31+Z31+AC31+AF31 -> 1 | AJ31: =F31+I31+L31+O31+R31+U31+X31+AA31+AD31+AG31 -> 0
A32: 11.00.000 | B32: ='PO - REFERENCIAL'!B111:I111 -> PINTURA | C32: ='PO - FORNECEDOR'!P111 -> 0 | D32: =C32/$C$33 -> #DIV/0! | E32: 0 | F32: =E32*C32 -> 0 | H32: 0 | I32: =H32*C32 -> 0 | K32: 0.3 | L32: =K32*C32 -> 0 | N32: 0.7 | O32: =N32*C32 -> 0 | Q32: 0 | R32: =Q32*C32 -> 0 | T32: 0 | U32: =T32*C32 -> 0 | W32: 0 | X32: =W32*C32 -> 0 | Z32: 0 | AA32: =Z32*C32 -> 0 | AC32: 0 | AD32: =AC32*C32 -> 0 | AF32: 0 | AG32: =AF32*C32 -> 0 | AI32: =E32+H32+K32+N32+Q32+T32+W32+Z32+AC32+AF32 -> 1 | AJ32: =F32+I32+L32+O32+R32+U32+X32+AA32+AD32+AG32 -> 0
A33: VALOR TOTAL DO ORÇAMENTO: | C33: =SUM(C22:C32) -> 0 | E33: =F33*100%/C33 -> #DIV/0! | F33: =SUM(F22:G32) -> 0 | H33: =I33*100%/C33 -> #DIV/0! | I33: =SUM(I22:J32) -> 0 | K33: =L33*100%/C33 -> #DIV/0! | L33: =SUM(L22:M32) -> 0 | N33: =O33*100%/C33 -> #DIV/0! | O33: =SUM(O22:P32) -> 0 | Q33: =R33*100%/C33 -> #DIV/0! | R33: =SUM(R22:S32) -> 0 | T33: =U33*100%/C33 -> #DIV/0! | U33: =SUM(U22:V32) -> 0 | W33: =X33*100%/C33 -> #DIV/0! | X33: =SUM(X22:Y32) -> 0 | Z33: =AA33*100%/C33 -> #DIV/0! | AA33: =SUM(AA22:AB32) -> 0 | AC33: =AD33*100%/C33 -> #DIV/0! | AD33: =SUM(AD22:AE32) -> 0 | AF33: =AG33*100%/C33 -> #DIV/0! | AG33: =SUM(AG22:AH32) -> 0 | AI33: =E33+H33+K33+N33+Q33+T33+W33+Z33+AC33+AF33 -> #DIV/0! | AJ33: =F33+I33+L33+O33+R33+U33+X33+AA33+AD33+AG33 -> 0
H34: =H33+E33 -> #DIV/0! | I34: =I33+F33 -> 0 | K34: =K33+H34 -> #DIV/0! | L34: =L33+I34 -> 0 | N34: =N33+K34 -> #DIV/0! | O34: =O33+L34 -> 0 | Q34: =Q33+N34 -> #DIV/0! | R34: =R33+O34 -> 0 | T34: =T33+Q34 -> #DIV/0! | U34: =U33+R34 -> 0 | W34: =W33+T34 -> #DIV/0! | X34: =X33+U34 -> 0 | Z34: =Z33+W34 -> #DIV/0! | AA34: =AA33+X34 -> 0 | AC34: =AC33+Z34 -> #DIV/0! | AD34: =AD33+AA34 -> 0 | AF34: =AF33+AC34 -> #DIV/0! | AG34: =AG33+AD34 -> 0
