Workbook

Sheet PO - REFERENCIAL
A7: PO - PLANILHA ORÇAMENTARIA
A8: Orçamento Base para Licitação
A10: AÇÃO / MODALIDADE | E10: OBJETO | N10: MUNICÍPIO / UF
A11: PROJETO SOMBRA E AGUA FRESCA - AMPLIAÇÃO DE PREDIO ESCOLAR | E11: CONSTRUÇÃO DE SANITARIOS E SALA PARA QUADRA ESCOLAR - EMEB LELLIS DO AMARAL CAMPOS | N11: BEBEDOURO SP
A13: PREPONENTE / TOMADOR | F13: LOCALIDADE / ENDEREÇO
A14: PREFEITURA MUNICIPAL DE BEBEDOURO SP | F14: RUA MONSENHOR ARISTIDES DA SILVEIRA LEITE, Nº 317, VILA ANT. FARANI
A16: SINAPI - Sistema Nacional de Pesquisa de Custos e Índices da Construção Civil | K16: =P16*100%/P19 -> 0.63751928 | M16: EMENDA PARLAMENTAR - [REPASSE] | P16: 150000
A17: RELATÓRIO DE CUSTOS DE COMPOSIÇÕES | G17: Mês de Referência: 04/2025 | K17: =P17*100%/P19 -> 0.062144572 | M17: RENDIMENTOS | P17: 14621.81
A18: Localidade: SAO PAULO - SP | E18: Data de emissão: 09/05/2025 | K18: =P18*100%/P19 -> 0.30033615 | M18: RECURSOS PROPRIOS | P18: =P19-(P16+P17) -> 70665.193
A19: BDI SEM desoneração (Fórmula Acórdão TCU): | F19: 0.2055 | K19: 1 | M19: VALOR TOTAL DA OBRA | P19: =SUM(P22:P98)/2 -> 235287
A21: Código | B21: Descrição da Composição | J21: Unid. | K21: SEM desoneração | L21: COM desoneração | M21: QUANT. | N21: VALOR TOTAL | O21: BDI % | P21: VALOR TOTAL + BDI
B22: INICIO E APOIO DE OBRA | P22: =SUM(P23:P27) -> 11438.406
A23: 98458 | B23: TAPUME COM COMPENSADO DE MADEIRA. AF_03/2024 | J23: M2 | K23: 92.52 | L23: 88.98 | M23: 0 | N23: =K23*M23 -> 0 | O23: =F19 -> 0.2055 | P23: =(N23*O23)+N23 -> 0
A24: 103689 | B24: FORNECIMENTO E INSTALAÇÃO DE PLACA DE OBRA COM CHAPA GALVANIZADA E ESTRUTURA DE MADEIRA. AF_03/2022_PS | J24: M2 | K24: 470.89 | L24: 466.79 | M24: 10 | N24: =K24*M24 -> 4708.9 | O24: =F19 -> 0.2055 | P24: =(N24*O24)+N24 -> 5676.5789
A25: 97628 | B25: DEMOLIÇÃO DE LAJES, EM CONCRETO ARMADO, DE FORMA MANUAL, SEM REAPROVEITAMENTO. AF_09/2023 M3 | J25: M3 | K25: 362.39 | L25: 335.17 | M25: 2.4 | N25: =K25*M25 -> 869.736 | O25: =F19 -> 0.2055 | P25: =(N25*O25)+N25 -> 1048.4667
A26: 98519 | B26: REVOLVIMENTO E LIMPEZA MANUAL DE SOLO. AF_07/2024 | J26: M2 | K26: 5.02 | L26: 4.65 | M26: 120 | N26: =K26*M26 -> 602.4 | O26: =F19 -> 0.2055 | P26: =(N26*O26)+N26 -> 726.1932
A27: 99059 | B27: LOCAÇÃO CONVENCIONAL DE OBRA, UTILIZANDO GABARITO DE TÁBUAS CORRIDAS PONTALETADAS A CADA 2,00M - 2 UTILIZAÇÕES. AF_03/2024 | J27: M | K27: 75.17 | L27: 71.35 | M27: 44 | N27: =K27*M27 -> 3307.48 | O27: =F19 -> 0.2055 | P27: =(N27*O27)+N27 -> 3987.1671
B28: INFRAESTRUTURA | P28: =SUM(P29:P34) -> 26221.9
A29: 93358 | B29: ESCAVAÇÃO MANUAL DE VALA. AF_09/2024 | J29: M3 | K29: 117.76 | L29: 108.98 | M29: 12.2 | N29: =K29*M29 -> 1436.672 | O29: =F19 -> 0.2055 | P29: =(N29*O29)+N29 -> 1731.9081
A30: 104737 | B30: REATERRO MANUAL DE VALAS, COM PLACA VIBRATÓRIA. AF_08/2023 | J30: M3 | K30: 29.03 | L30: 27.05 | M30: =M29 -> 12.2 | N30: =K30*M30 -> 354.166 | O30: =F19 -> 0.2055 | P30: =(N30*O30)+N30 -> 426.94711
A31: 101173 | B31: ESTACA BROCA DE CONCRETO, DIÂMETRO DE 20CM, ESCAVAÇÃO MANUAL COM TRADO CONCHA, COM ARMADURA DE ARRANQUE. AF_05/2020 | J31: M | K31: 66.13 | L31: 63.03 | M31: 54 | N31: =K31*M31 -> 3571.02 | O31: =F19 -> 0.2055 | P31: =(N31*O31)+N31 -> 4304.8646
A32: 96539 | B32: FABRICAÇÃO, MONTAGEM E DESMONTAGEM DE FÔRMA PARA VIGA BALDRAME, EM CHAPA DE MADEIRA COMPENSADA RESINADA, E=17 MM, 2 UTILIZAÇÕES. AF_01/2024 | J32: M2 | K32: 136.63 | L32: 129.38 | M32: 30.5 | N32: =K32*M32 -> 4167.215 | O32: =F19 -> 0.2055 | P32: =(N32*O32)+N32 -> 5023.5777
A33: 104918 | B33: ARMAÇÃO DE SAPATA ISOLADA, VIGA BALDRAME E SAPATA CORRIDA UTILIZANDO AÇO CA-50 DE 8 MM - MONTAGEM. AF_01/2024 | J33: KG | K33: 15.38 | L33: 14.97 | M33: 549 | N33: =K33*M33 -> 8443.62 | O33: =F19 -> 0.2055 | P33: =(N33*O33)+N33 -> 10178.784
A34: 96557 | B34: CONCRETAGEM DE BLOCO DE COROAMENTO OU VIGA BALDRAME, FCK 30 MPA, COM USO DE BOMBA - LANÇAMENTO, ADENSAMENTO E ACABAMENTO. AF_01/2024 | J34: M3 | K34: 619.54 | L34: 617.54 | M34: 6.1 | N34: =K34*M34 -> 3779.194 | O34: =F19 -> 0.2055 | P34: =(N34*O34)+N34 -> 4555.8184
B35: IMPERMEABILIZAÇÃO | P35: =P36 -> 3156.4378
A36: 98555 | B36: IMPERMEABILIZAÇÃO DE SUPERFÍCIE COM ARGAMASSA POLIMÉRICA / MEMBRANA ACRÍLICA, 3 DEMÃOS. AF_09/2023 | J36: M2 | K36: 35.77 | L36: 33.84 | M36: 73.2 | N36: =K36*M36 -> 2618.364 | O36: =F19 -> 0.2055 | P36: =(N36*O36)+N36 -> 3156.4378
B37: SUPERESTRUTURA | P37: =SUM(P38:P43) -> 25386.1
A38: 92269 | B38: FABRICAÇÃO DE FÔRMA PARA PILARES E ESTRUTURAS SIMILARES, EM MADEIRA SERRADA, E=25 MM. AF_09/2020 | J38: M2 | K38: 125.06 | L38: 122.47 | M38: 15.36 | N38: =K38*M38 -> 1920.9216 | O38: =F19 -> 0.2055 | P38: =(N38*O38)+N38 -> 2315.671
A39: 92917 | B39: ARMAÇÃO DE ESTRUTURAS DIVERSAS DE CONCRETO ARMADO, EXCETO VIGAS, PILARES, LAJES E FUNDAÇÕES, UTILIZANDO AÇO CA-50 DE 8,0 MM - MONTAGEM. AF_06/2022 | J39: KG | K39: 14.7 | L39: 14.34 | M39: 138.24 | N39: =K39*M39 -> 2032.128 | O39: =F19 -> 0.2055 | P39: =(N39*O39)+N39 -> 2449.7303
A40: 103672 | B40: CONCRETAGEM DE PILARES, FCK = 25 MPA, COM USO DE BOMBA - LANÇAMENTO, ADENSAMENTO E ACABAMENTO. AF_02/2022_PS | J40: M3 | K40: 571.37 | L40: 567.19 | M40: 1.536 | N40: =K40*M40 -> 877.62432 | O40: =F19 -> 0.2055 | P40: =(N40*O40)+N40 -> 1057.9761
A41: 92266 | B41: FABRICAÇÃO DE FÔRMA PARA VIGAS, EM CHAPA DE MADEIRA COMPENSADA PLASTIFICADA, E = 18 MM. AF_09/2020 | J41: M2 | K41: 141.09 | L41: 137.46 | M41: 30.5 | N41: =K41*M41 -> 4303.245 | O41: =F19 -> 0.2055 | P41: =(N41*O41)+N41 -> 5187.5618
A42: 104918 | B42: ARMAÇÃO DE SAPATA ISOLADA, VIGA BALDRAME E SAPATA CORRIDA UTILIZANDO AÇO CA-50 DE 8 MM - MONTAGEM. AF_01/2024 | J42: KG | K42: 15.38 | L42: 14.97 | M42: 549 | N42: =K42*M42 -> 8443.62 | O42: =F19 -> 0.2055 | P42: =(N42*O42)+N42 -> 10178.784
A43: 103675 | B43: CONCRETAGEM DE VIGAS E LAJES, FCK=25 MPA, PARA LAJES MACIÇAS OU NERVURADAS COM USO DE BOMBA - LANÇAMENTO, ADENSAMENTO E ACABAMENTO. AF_02/2022_PS | J43: M3 | K43: 570.66 | L43: 566.48 | M43: 6.1 | N43: =K43*M43 -> 3481.026 | O43: =F19 -> 0.2055 | P43: =(N43*O43)+N43 -> 4196.3768
B44: ALVENARIA E ELEMENTOS DIVISORES | P44: =SUM(P45:P47) -> 38839.744
A45: 103330 | B45: ALVENARIA DE VEDAÇÃO DE BLOCOS CERÂMICOS FURADOS NA HORIZONTAL DE 11,5X19X19 CM (ESPESSURA 11,5 CM) E ARGAMASSA DE ASSENTAMENTO COM PREPARO EM BETONEIRA. AF_12/2021 | J45: M2 | K45: 91.02 | L45: 86.4 | M45: 195.2 | N45: =K45*M45 -> 17767.104 | O45: =F19 -> 0.2055 | P45: =(N45*O45)+N45 -> 21418.244
A46: 102257 | B46: DIVISORIA SANITÁRIA, TIPO CABINE, EM PAINEL DE GRANILITE, ESP = 3CM, ASSENTADO COM ARGAMASSA COLANTE AC III-E, EXCLUSIVE FERRAGENS. AF_01/2021 | J46: M2 | K46: 348.35 | L46: 340.16 | M46: 25.6 | N46: =K46*M46 -> 8917.76 | O46: =F19 -> 0.2055 | P46: =(N46*O46)+N46 -> 10750.36
A47: 96114 | B47: FORRO EM DRYWALL, PARA AMBIENTES COMERCIAIS, INCLUSIVE ESTRUTURA BIRECIONAL DE FIXAÇÃO. AF_08/2023_PS | J47: M2 | K47: 76.86 | L47: 74.72 | M47: 72 | N47: =K47*M47 -> 5533.92 | O47: =F19 -> 0.2055 | P47: =(N47*O47)+N47 -> 6671.1406
B48: PISOS E REVESTIMENTOS | P48: =SUM(P49:P56) -> 49194.471
A49: 87905 | B49: CHAPISCO APLICADO EM ALVENARIA (COM PRESENÇA DE VÃOS) E ESTRUTURAS DE CONCRETO DE FACHADA, COM COLHER DE PEDREIRO. ARGAMASSA TRAÇO 1:3 COM PREPARO EM BETONEIRA 400L. AF_10/2022 | J49: M2 | K49: 9.26 | L49: 8.64 | M49: 390.4 | N49: =K49*M49 -> 3615.104 | O49: =F19 -> 0.2055 | P49: =(N49*O49)+N49 -> 4358.0079
A50: 104235 | B50: EMBOÇO OU MASSA ÚNICA EM ARGAMASSA INDUSTRIALIZADA, PREPARO MECÂNICA E APLICAÇÃO COM EQUIPAMENTO DE MISTURA E PROJEÇÃO DE 1,5 M3/H DE ARGAMASSA EM PANOS DE FACHADA SEM PRESENÇA DE VÃOS, ESPESSURA DE 25 MM, ACESSO POR ANDAIME. AF_08/2022 | J50: M2 | K50: 78.07 | L50: 76.18 | M50: 75.3 | N50: =K50*M50 -> 5878.671 | O50: =F19 -> 0.2055 | P50: =(N50*O50)+N50 -> 7086.7379
A51: 104236 | B51: REBOCO OU MASSA ÚNICA EM ARGAMASSA TRAÇO 1:2:8, PREPARO MECÂNICA COM BETONEIRA 400 L, APLICADA COM PROJETOR TIPO CANEQUINHA EM PANOS DE FACHADA SEM PRESENÇA DE VÃOS, ESPESSURA DE 25 MM, ACESSO POR ANDAIME. AF_08/2022 | J51: M2 | K51: 42.65 | L51: 40.75 | M51: 315.1 | N51: =K51*M51 -> 13439.015 | O51: =F19 -> 0.2055 | P51: =(N51*O51)+N51 -> 16200.733
A52: 87275 | B52: REVESTIMENTO CERÂMICO PARA PAREDES INTERNAS COM PLACAS TIPO ESMALTADA DE DIMENSÕES 33X45 CM APLICADAS A MEIA ALTURA DAS PAREDES. AF_02/2023_PE | J52: M2 | K52: 75.71 | L52: 72.55 | M52: 75.3 | N52: =K52*M52 -> 5700.963 | O52: =F19 -> 0.2055 | P52: =(N52*O52)+N52 -> 6872.5109
A53: 104598 | B53: REVESTIMENTO CERÂMICO PARA PISO COM PLACAS TIPO PORCELANATO DE DIMENSÕES 80X80 CM APLICADA EM AMBIENTES DE ÁREA MAIOR QUE 10 M². AF_02/2023_PE | J53: M2 | K53: 107.92 | L53: 106.12 | M53: 72 | N53: =K53*M53 -> 7770.24 | O53: =F19 -> 0.2055 | P53: =(N53*O53)+N53 -> 9367.0243
A54: 94993 | B54: EXECUÇÃO DE PASSEIO (CALÇADA) OU PISO DE CONCRETO COM CONCRETO MOLDADO IN LOCO, USINADO, ACABAMENTO CONVENCIONAL, ESPESSURA 6 CM, ARMADO. AF_08/2022 | J54: M2 | K54: 69.41 | L54: 68.58 | M54: 39 | N54: =K54*M54 -> 2706.99 | O54: =F19 -> 0.2055 | P54: =(N54*O54)+N54 -> 3263.2764
A55: 87299 | B55: ARGAMASSA TRAÇO 1:3 (EM VOLUME DE CIMENTO E AREIA MÉDIA ÚMIDA) PARA CONTRAPISO, PREPARO MECÂNICO COM BETONEIRA 600 L. AF_08/2019 | J55: M3 | K55: 392.91 | L55: 383.83 | M55: 4.32 | N55: =K55*M55 -> 1697.3712 | O55: =F19 -> 0.2055 | P55: =(N55*O55)+N55 -> 2046.181
A56: 103924 | B56: PISO MODULAR DE POLIPROPILENO PARA QUADRA POLIESPORTIVA - FORNECIMENTO E INSTALAÇÃO. AF_03/2022 | J56: M2 | K56: 0 | L56: 0 | M56: 543.6 | N56: =K56*M56 -> 0 | P56: =(N56*O56)+N56 -> 0
B57: SISTEMA DE COBERTURA | P57: =SUM(P58:P59) -> 26893.138
A58: 94216 | B58: TELHAMENTO COM TELHA METÁLICA TERMOACÚSTICA E = 30 MM, COM ATÉ 2 ÁGUAS, INCLUSO IÇAMENTO. AF_07/2019 | J58: M2 | K58: 213.43 | L58: 213.14 | M58: 100 | N58: =K58*M58 -> 21343 | O58: =F19 -> 0.2055 | P58: =(N58*O58)+N58 -> 25728.986
A59: 94231 | B59: RUFO EM CHAPA DE AÇO GALVANIZADO NÚMERO 24, CORTE DE 25 CM, INCLUSO TRANSPORTE VERTICAL. AF_07/2019 | J59: M | K59: 53.65 | L59: 52.83 | M59: 18 | N59: =K59*M59 -> 965.7 | O59: =F19 -> 0.2055 | P59: =(N59*O59)+N59 -> 1164.1513
B60: ESQUADRIAS | P60: =SUM(P61:P64) -> 20862.884
A61: 91338 | B61: PORTA DE ALUMÍNIO DE ABRIR COM LAMBRI, COM GUARNIÇÃO, FIXAÇÃO COM PARAFUSOS - FORNECIMENTO E INSTALAÇÃO. AF_12/2019 | J61: M2 | K61: 881.63 | L61: 880.29 | M61: 7.56 | N61: =K61*M61 -> 6665.1228 | O61: =F19 -> 0.2055 | P61: =(N61*O61)+N61 -> 8034.8055
A62: 94570 | B62: JANELA DE ALUMÍNIO DE CORRER COM 2 FOLHAS PARA VIDROS (VIDROS INCLUSOS), BATENTE/ REQUADRO 6 A 14 CM, ACABAMENTO COM ACETATO OU BRILHANTE, FIXAÇÃO COM PARAFUSO, SEM GUARNIÇÃO/ ALIZAR, DIMENSÕES 100X120 CM, VEDAÇÃO COM SILICONE, EXCLUSIVE CONTRAMARCO - FORNECIMENTO E INSTALAÇÃO. AF_11/2024 | J62: M2 | K62: 364.16 | L62: 362.99 | M62: 1.8 | N62: =K62*M62 -> 655.488 | O62: =F19 -> 0.2055 | P62: =(N62*O62)+N62 -> 790.19078
A63: 94572 | B63: JANELA DE ALUMÍNIO DE CORRER COM 3 FOLHAS (2 VENEZIANAS E 1 FOLHA PARA VIDRO,VIDRO INCLUSO), BATENTE/ REQUADRO 6 A 14 CM, SEM ACABAMENTO, FIXAÇÃO COM PARAFUSO, SEM GUARNIÇÃO/ ALIZAR, DIMENSÕES 100X120 CM, VEDAÇÃO COM SILICONE, EXCLUSIVE CONTRAMARCO - FORNECIMENTO E INSTALAÇÃO. AF_11/2024 | J63: M2 | K63: 521.6 | L63: 519.85 | M63: 4 | N63: =K63*M63 -> 2086.4 | O63: =F19 -> 0.2055 | P63: =(N63*O63)+N63 -> 2515.1552
A64: 91338 | B64: PORTA DE ALUMÍNIO DE ABRIR COM LAMBRI, COM GUARNIÇÃO, FIXAÇÃO COM PARAFUSOS - FORNECIMENTO E INSTALAÇÃO. AF_12/2019 | J64: M2 | K64: 881.63 | L64: 880.29 | M64: 8.96 | N64: =K64*M64 -> 7899.4048 | O64: =F19 -> 0.2055 | P64: =(N64*O64)+N64 -> 9522.7325
B65: ELETRICA | P65: =SUM(P66:P75) -> 5235.7397
A66: 101875 | B66: QUADRO DE DISTRIBUIÇÃO DE ENERGIA EM CHAPA DE AÇO GALVANIZADO, DE EMBUTIR, COM BARRAMENTO TRIFÁSICO, PARA 12 DISJUNTORES DIN 100A - FORNECIMENTO E INSTALAÇÃO. AF_10/2020 | J66: Unid. | K66: 359.13 | L66: 355.84 | M66: 1 | N66: =K66*M66 -> 359.13 | O66: =F19 -> 0.2055 | P66: =(N66*O66)+N66 -> 432.93122
A67: 101894 | B67: DISJUNTOR TRIPOLAR TIPO NEMA, CORRENTE NOMINAL DE 60 ATÉ 100A - FORNECIMENTO E INSTALAÇÃO. AF_10/2020 | J67: Unid. | K67: 171.76 | L67: 166.88 | M67: 1 | N67: =K67*M67 -> 171.76 | O67: =F19 -> 0.2055 | P67: =(N67*O67)+N67 -> 207.05668
A68: 93671 | B68: DISJUNTOR TRIPOLAR TIPO DIN, CORRENTE NOMINAL DE 32A - FORNECIMENTO E INSTALAÇÃO. AF_10/2020 | J68: Unid. | K68: 84.87 | L68: 83.16 | M68: 9 | N68: =K68*M68 -> 763.83 | O68: =F19 -> 0.2055 | P68: =(N68*O68)+N68 -> 920.79706
A69: 97667 | B69: ELETRODUTO FLEXÍVEL CORRUGADO, PEAD, DN 50 (1 1/2"), PARA REDE ENTERRADA DE DISTRIBUIÇÃO DE ENERGIA ELÉTRICA - FORNECIMENTO E INSTALAÇÃO. AF_12/2021 | J69: M | K69: 9.75 | L69: 9.33 | M69: 42 | N69: =K69*M69 -> 409.5 | O69: =F19 -> 0.2055 | P69: =(N69*O69)+N69 -> 493.65225
A70: 91935 | B70: CABO DE COBRE FLEXÍVEL ISOLADO, 16 MM², ANTI-CHAMA 0,6/1,0 KV, PARA CIRCUITOS TERMINAIS - FORNECIMENTO E INSTALAÇÃO. AF_03/2023 | J70: M | K70: 29.32 | L70: 28.61 | M70: 18 | N70: =K70*M70 -> 527.76 | O70: =F19 -> 0.2055 | P70: =(N70*O70)+N70 -> 636.21468
A71: 91929 | B71: CABO DE COBRE FLEXÍVEL ISOLADO, 4 MM², ANTI-CHAMA 0,6/1,0 KV, PARA CIRCUITOS TERMINAIS - FORNECIMENTO E INSTALAÇÃO. AF_03/2023 | J71: M | K71: 8.45 | L71: 8.21 | M71: 22 | N71: =K71*M71 -> 185.9 | O71: =F19 -> 0.2055 | P71: =(N71*O71)+N71 -> 224.10245
A72: 91926 | B72: CABO DE COBRE FLEXÍVEL ISOLADO, 2,5 MM², ANTI-CHAMA 450/750 V, PARA CIRCUITOS TERMINAIS - FORNECIMENTO E INSTALAÇÃO. AF_03/2023 | J72: M | K72: 5.24 | L72: 5.06 | M72: 172 | N72: =K72*M72 -> 901.28 | O72: =F19 -> 0.2055 | P72: =(N72*O72)+N72 -> 1086.493
A73: 92022 | B73: INTERRUPTOR SIMPLES (1 MÓDULO) COM 1 TOMADA DE EMBUTIR 2P+T 10 A, SEM SUPORTE E SEM PLACA - FORNECIMENTO E INSTALAÇÃO. AF_03/2023 | J73: Unid. | K73: 52.65 | L73: 49.63 | M73: 5 | N73: =K73*M73 -> 263.25 | O73: =F19 -> 0.2055 | P73: =(N73*O73)+N73 -> 317.34787
A74: 91998 | B74: TOMADA BAIXA DE EMBUTIR (1 MÓDULO), 2P+T 10 A, SEM SUPORTE E SEM PLACA - FORNECIMENTO E INSTALAÇÃO. AF_03/2023 | J74: Unid. | K74: 26.74 | L74: 25.25 | M74: 12 | N74: =K74*M74 -> 320.88 | O74: =F19 -> 0.2055 | P74: =(N74*O74)+N74 -> 386.82084
A75: 103782 | B75: LUMINÁRIA TIPO PLAFON CIRCULAR, DE SOBREPOR, COM LED DE 12/13 W - FORNECIMENTO E INSTALAÇÃO. AF_09/2024 | J75: Unid. | K75: 36.66 | L75: 34.48 | M75: 12 | N75: =K75*M75 -> 439.92 | O75: =F19 -> 0.2055 | P75: =(N75*O75)+N75 -> 530.32356
B76: HIDRAULICA | P76: =SUM(P77:P92) -> 14552.037
A77: 2611 | B77: CAIXA D´ÁGUA EM POLIÉSTER REFORÇADO COM FIBRA DE VIDRO, 500 LITROS - FORNECIMENTO E INSTALAÇÃO. AF_06/2021 | J77: Unid. | K77: 457.56 | L77: 456.92 | M77: 1 | N77: =K77*M77 -> 457.56 | O77: =F19 -> 0.2055 | P77: =(N77*O77)+N77 -> 551.58858
A78: 94798 | B78: TORNEIRA DE BOIA PARA CAIXA D'ÁGUA, ROSCÁVEL, 1 1/4" - FORNECIMENTO E INSTALAÇÃO. AF_08/2021 | J78: Unid. | K78: 224.96 | L78: 222.99 | M78: 1 | N78: =K78*M78 -> 224.96 | O78: =F19 -> 0.2055 | P78: =(N78*O78)+N78 -> 271.18928
A79: 89987 | B79: REGISTRO DE GAVETA BRUTO, LATÃO, ROSCÁVEL, 3/4", COM ACABAMENTO E CANOPLA CROMADOS - FORNECIMENTO E INSTALAÇÃO. AF_08/2021 | J79: Unid. | K79: 75.84 | L79: 74.59 | M79: 2 | N79: =K79*M79 -> 151.68 | O79: =F19 -> 0.2055 | P79: =(N79*O79)+N79 -> 182.85024
A80: 89984 | B80: REGISTRO DE PRESSÃO BRUTO, LATÃO, ROSCÁVEL, 1/2", COM ACABAMENTO E CANOPLA CROMADOS - FORNECIMENTO E INSTALAÇÃO. AF_08/2021 | J80: Unid. | K80: 67.86 | L80: 66.83 | M80: 4 | N80: =K80*M80 -> 271.44 | O80: =F19 -> 0.2055 | P80: =(N80*O80)+N80 -> 327.22092
A81: 103018 | B81: VÁLVULA DE DESCARGA METÁLICA, BASE 1 1/4", ACABAMENTO METALICO CROMADO - FORNECIMENTO E INSTALAÇÃO. AF_08/2021 | J81: Unid. | K81: 361.52 | L81: 357 | M81: 7 | N81: =K81*M81 -> 2530.64 | O81: =F19 -> 0.2055 | P81: =(N81*O81)+N81 -> 3050.6865
A82: 86934 | B82: BANCADA DE MÁRMORE SINTÉTICO 120 X 60CM, COM CUBA INTEGRADA, INCLUSO SIFÃO TIPO FLEXÍVEL EM PVC, VÁLVULA EM PLÁSTICO CROMADO TIPO AMERICANA E TORNEIRA CROMADA LONGA, DE PAREDE, PADRÃO POPULAR - FORNECIMENTO E INSTALAÇÃO. AF_01/2020 | J82: Unid. | K82: 504.34 | L82: 499.05 | M82: 5 | N82: =K82*M82 -> 2521.7 | O82: =F19 -> 0.2055 | P82: =(N82*O82)+N82 -> 3039.9093
A83: 95470 | B83: VASO SANITARIO SIFONADO CONVENCIONAL COM LOUÇA BRANCA, INCLUSO CONJUNTO DE LIGAÇÃO PARA BACIA SANITÁRIA AJUSTÁVEL - FORNECIMENTO E INSTALAÇÃO. AF_01/2020 | J83: Unid. | K83: 308.2 | L83: 305.84 | M83: 6 | N83: =K83*M83 -> 1849.2 | O83: =F19 -> 0.2055 | P83: =(N83*O83)+N83 -> 2229.2106
A84: 95472 | B84: VASO SANITARIO SIFONADO CONVENCIONAL PARA PCD SEM FURO FRONTAL COM LOUÇA BRANCA SEM ASSENTO, INCLUSO CONJUNTO DE LIGAÇÃO PARA BACIA SANITÁRIA AJUSTÁVEL - FORNECIMENTO E INSTALAÇÃO. AF_01/2020 | J84: Unid. | K84: 766.37 | L84: 761.49 | M84: 1 | N84: =K84*M84 -> 766.37 | O84: =F19 -> 0.2055 | P84: =(N84*O84)+N84 -> 923.85903
A85: 94648 | B85: TUBO, PVC, SOLDÁVEL, DE 25MM, INSTALADO EM RESERVAÇÃO PREDIAL DE ÁGUA - FORNECIMENTO E INSTALAÇÃO. AF_04/2024 | J85: M | K85: 7.81 | L85: 7.55 | M85: 80 | N85: =K85*M85 -> 624.8 | O85: =F19 -> 0.2055 | P85: =(N85*O85)+N85 -> 753.1964
A86: 94649 | B86: TUBO, PVC, SOLDÁVEL, DE 32MM, INSTALADO EM RESERVAÇÃO PREDIAL DE ÁGUA - FORNECIMENTO E INSTALAÇÃO. AF_04/2024 | J86: M | K86: 14.11 | L86: 13.77 | M86: 40 | N86: =K86*M86 -> 564.4 | O86: =F19 -> 0.2055 | P86: =(N86*O86)+N86 -> 680.3842
A87: 94650 | B87: TUBO, PVC, SOLDÁVEL, DE 40MM, INSTALADO EM RESERVAÇÃO PREDIAL DE ÁGUA - FORNECIMENTO E INSTALAÇÃO. AF_04/2024 | J87: M | K87: 21.19 | L87: 20.75 | M87: 20 | N87: =K87*M87 -> 423.8 | O87: =F19 -> 0.2055 | P87: =(N87*O87)+N87 -> 510.8909
A88: 95544 | B88: PAPELEIRA DE PAREDE EM METAL CROMADO SEM TAMPA, INCLUSO FIXAÇÃO. AF_01/2020 | J88: Unid. | K88: 61.72 | L88: 60.5 | M88: 7 | N88: =K88*M88 -> 432.04 | O88: =F19 -> 0.2055 | P88: =(N88*O88)+N88 -> 520.82422
A89: 95545 | B89: SABONETEIRA DE PAREDE EM METAL CROMADO, INCLUSO FIXAÇÃO. AF_01/2020 | J89: Unid. | K89: 60.55 | L89: 59.33 | M89: 5 | N89: =K89*M89 -> 302.75 | O89: =F19 -> 0.2055 | P89: =(N89*O89)+N89 -> 364.96513
A90: 100860 | B90: CHUVEIRO ELÉTRICO COMUM CORPO PLÁSTICO, TIPO DUCHA - FORNECIMENTO E INSTALAÇÃO. AF_01/2020 | J90: Unid. | K90: 124.34 | L90: 122.61 | M90: 2 | N90: =K90*M90 -> 248.68 | O90: =F19 -> 0.2055 | P90: =(N90*O90)+N90 -> 299.78374
A91: 100870 | B91: BARRA DE APOIO RETA, EM ALUMINIO, COMPRIMENTO 60 CM, FIXADA NA PAREDE - FORNECIMENTO E INSTALAÇÃO. AF_01/2020 | J91: Unid. | K91: 325.39 | L91: 321.73 | M91: 1 | N91: =K91*M91 -> 325.39 | O91: =F19 -> 0.2055 | P91: =(N91*O91)+N91 -> 392.25764
A92: 100873 | B92: BARRA DE APOIO RETA, EM ALUMINIO, COMPRIMENTO 90 CM, FIXADA NA PAREDE - FORNECIMENTO E INSTALAÇÃO. AF_01/2020 | J92: Unid. | K92: 375.96 | L92: 372.3 | M92: 1 | N92: =K92*M92 -> 375.96 | O92: =F19 -> 0.2055 | P92: =(N92*O92)+N92 -> 453.21978
B93: PINTURA | P93: =SUM(P94:P98) -> 13506.146
A94: 88495 | B94: EMASSAMENTO COM MASSA LÁTEX, APLICAÇÃO EM PAREDE, UMA DEMÃO, LIXAMENTO MANUAL. AF_04/2023 | J94: M2 | K94: 13.48 | L94: 12.85 | M94: 315.1 | N94: =K94*M94 -> 4247.548 | O94: =F19 -> 0.2055 | P94: =(N94*O94)+N94 -> 5120.4191
A95: 88416 | B95: APLICAÇÃO MANUAL DE PINTURA COM TINTA TEXTURIZADA ACRÍLICA EM PANOS COM PRESENÇA DE VÃOS DE EDIFÍCIOS DE MÚLTIPLOS PAVIMENTOS, UMA COR. AF_03/2024 | J95: M2 | K95: 23.14 | L95: 22.72 | M95: 154 | N95: =K95*M95 -> 3563.56 | O95: =F19 -> 0.2055 | P95: =(N95*O95)+N95 -> 4295.8716
A96: 104641 | B96: PINTURA LÁTEX ACRÍLICA ECONÔMICA, APLICAÇÃO MANUAL EM PAREDES, DUAS DEMÃOS. AF_04/2023 | J96: M2 | K96: 11.11 | L96: 10.54 | M96: 128.03 | N96: =K96*M96 -> 1422.4133 | O96: =F19 -> 0.2055 | P96: =(N96*O96)+N96 -> 1714.7192
A97: 104639 | B97: PINTURA LÁTEX ACRÍLICA ECONÔMICA, APLICAÇÃO MANUAL EM TETO, DUAS DEMÃOS. AF_04/2023 | J97: M2 | K97: 14.11 | L97: 13.31 | M97: 72 | N97: =K97*M97 -> 1015.92 | O97: =F19 -> 0.2055 | P97: =(N97*O97)+N97 -> 1224.6916
A98: 102491 | B98: PINTURA DE PISO COM TINTA ACRÍLICA, APLICAÇÃO MANUAL, 2 DEMÃOS, INCLUSO FUNDO PREPARADOR. AF_05/2021 | J98: M2 | K98: 24.47 | L98: 23.45 | M98: 39 | N98: =K98*M98 -> 954.33 | O98: =F19 -> 0.2055 | P98: =(N98*O98)+N98 -> 1150.4448
B99: VALOR TOTAL | N99: VALOR TOTAL | P99: =SUM(P22:P98)/2 -> 235287
B101: INICIO E APOIO DE OBRA | P101: =P22 -> 11438.406
B102: INFRAESTRUTURA | P102: =P28 -> 26221.9
B103: IMPERMEABILIZAÇÃO | P103: =P35 -> 3156.4378
B104: SUPERESTRUTURA | P104: =P37 -> 25386.1
B105: ALVENARIA E ELEMENTOS DIVISORES | P105: =P44 -> 38839.744
B106: PISOS E REVESTIMENTOS | P106: =P48 -> 49194.471
B107: SISTEMA DE COBERTURA | P107: =P57 -> 26893.138
B108: ESQUADRIAS | P108: =P60 -> 20862.884
B109: ELETRICA | P109: =P65 -> 5235.7397
B110: HIDRAULICA | P110: =P76 -> 14552.037
B111: PINTURA | P111: =P93 -> 13506.146
...

Sheet CFF - REFERENCIAL
A10: CFF - CRONOGRAMA FISICO-FIANCEIRO
A11: CRONOGRAMA Base para Licitação
A13: AÇÃO / MODALIDADE | E13: OBJETO | N13: MUNICÍPIO / UF
A14: PROJETO SOMBRA E AGUA FRESCA - AMPLIAÇÃO DE PREDIO ESCOLAR | E14: CONSTRUÇÃO DE SANITARIOS E SALA PARA QUADRA ESCOLAR - EMEB LELLIS DO AMARAL CAMPOS | N14: BEBEDOURO SP
A16: PREPONENTE / TOMADOR | F16: LOCALIDADE / ENDEREÇO
A17: PREFEITURA MUNICIPAL DE BEBEDOURO SP | F17: RUA MONSENHOR ARISTIDES DA SILVEIRA LEITE, Nº 317, VILA ANT. FARANI
E20: Á EXECUTAR | AJ20: TOTAL
A21: Código Atividade | B21: Descrição da Atividade | C21: Valor Orçado | D21: AT/ET ET/TT | E21: % | F21: Mês | G21: 1 | H21: % | I21: Mês | J21: =+G21+1 -> 2 | K21: % | L21: Mês | M21: =+J21+1 -> 3 | N21: % | O21: Mês | P21: =+M21+1 -> 4 | Q21: % | R21: Mês | S21: =+P21+1 -> 5 | T21: % | U21: Mês | V21: =+S21+1 -> 6 | W21: % | X21: Mês | Y21: =+V21+1 -> 7 | Z21: % | AA21: Mês | AB21: =+Y21+1 -> 8 | AC21: % | AD21: Mês | AE21: =+AB21+1 -> 9 | AF21: % | AG21: Mês | AH21: =+AE21+1 -> 10 | AI21: %
A22: 01.00.000 | B22: ='PO - REFERENCIAL'!B101:I101 -> INICIO E APOIO DE OBRA | C22: ='PO - REFERENCIAL'!P101 -> 11438.406 | D22: =C22/$C$33 -> 0.048614696 | E22: 1 | F22: =E22*C22 -> 11438.406 | H22: 0 | I22: =H22*C22 -> 0 | K22: 0 | L22: =K22*C22 -> 0 | N22: 0 | O22: =N22*C22 -> 0 | Q22: 0 | R22: =Q22*C22 -> 0 | T22: 0 | U22: =T22*C22 -> 0 | W22: 0 | X22: =W22*C22 -> 0 | Z22: 0 | AA22: =Z22*C22 -> 0 | AC22: 0 | AD22: =AC22*C22 -> 0 | AF22: 0 | AG22: =AF22*C22 -> 0 | AI22: =E22+H22+K22+N22+Q22+T22+W22+Z22+AC22+AF22 -> 1 | AJ22: =F22+I22+L22+O22+R22+U22+X22+AA22+AD22+AG22 -> 11438.406
A23: 02.00.000 | B23: ='PO - REFERENCIAL'!B102:I102 -> INFRAESTRUTURA | C23: ='PO - REFERENCIAL'!P102 -> 26221.9 | D23: =C23/$C$33 -> 0.11144644 | E23: 0.5 | F23: =E23*C23 -> 13110.95 | H23: 0.5 | I23: =H23*C23 -> 13110.95 | K23: 0 | L23: =K23*C23 -> 0 | N23: 0 | O23: =N23*C23 -> 0 | Q23: 0 | R23: =Q23*C23 -> 0 | T23: 0 | U23: =T23*C23 -> 0 | W23: 0 | X23: =W23*C23 -> 0 | Z23: 0 | AA23: =Z23*C23 -> 0 | AC23: 0 | AD23: =AC23*C23 -> 0 | AF23: 0 | AG23: =AF23*C23 -> 0 | AI23: =E23+H23+K23+N23+Q23+T23+W23+Z23+AC23+AF23 -> 1 | AJ23: =F23+I23+L23+O23+R23+U23+X23+AA23+AD23+AG23 -> 26221.9
A24: 03.00.000 | B24: ='PO - REFERENCIAL'!B103:I103 -> IMPERMEABILIZAÇÃO | C24: ='PO - REFERENCIAL'!P103 -> 3156.4378 | D24: =C24/$C$33 -> 0.013415266 | E24: 0 | F24: =E24*C24 -> 0 | H24: 0.3 | I24: =H24*C24 -> 946.93134 | K24: 0.7 | L24: =K24*C24 -> 2209.5065 | N24: 0 | O24: =N24*C24 -> 0 | Q24: 0 | R24: =Q24*C24 -> 0 | T24: 0 | U24: =T24*C24 -> 0 | W24: 0 | X24: =W24*C24 -> 0 | Z24: 0 | AA24: =Z24*C24 -> 0 | AC24: 0 | AD24: =AC24*C24 -> 0 | AF24: 0 | AG24: =AF24*C24 -> 0 | AI24: =E24+H24+K24+N24+Q24+T24+W24+Z24+AC24+AF24 -> 1 | AJ24: =F24+I24+L24+O24+R24+U24+X24+AA24+AD24+AG24 -> 3156.4378
A25: 04.00.000 | B25: ='PO - REFERENCIAL'!B104:I104 -> SUPERESTRUTURA | C25: ='PO - REFERENCIAL'!P104 -> 25386.1 | D25: =C25/$C$33 -> 0.10789419 | E25: 0 | F25: =E25*C25 -> 0 | H25: 0 | I25: =H25*C25 -> 0 | K25: 0.3 | L25: =K25*C25 -> 7615.83 | N25: 0.7 | O25: =N25*C25 -> 17770.27 | Q25: 0 | R25: =Q25*C25 -> 0 | T25: 0 | U25: =T25*C25 -> 0 | W25: 0 | X25: =W25*C25 -> 0 | Z25: 0 | AA25: =Z25*C25 -> 0 | AC25: 0 | AD25: =AC25*C25 -> 0 | AF25: 0 | AG25: =AF25*C25 -> 0 | AI25: =E25+H25+K25+N25+Q25+T25+W25+Z25+AC25+AF25 -> 1 | AJ25: =F25+I25+L25+O25+R25+U25+X25+AA25+AD25+AG25 -> 25386.1
A26: 05.00.000 | B26: ='PO - REFERENCIAL'!B105:I105 -> ALVENARIA E ELEMENTOS DIVISORES | C26: ='PO - REFERENCIAL'!P105 -> 38839.744 | D26: =C26/$C$33 -> 0.1650739 | E26: 0 | F26: =E26*C26 -> 0 | H26: 0.3 | I26: =H26*C26 -> 11651.923 | K26: 0.3 | L26: =K26*C26 -> 11651.923 | N26: 0.4 | O26: =N26*C26 -> 15535.898 | Q26: 0 | R26: =Q26*C26 -> 0 | T26: 0 | U26: =T26*C26 -> 0 | W26: 0 | X26: =W26*C26 -> 0 | Z26: 0 | AA26: =Z26*C26 -> 0 | AC26: 0 | AD26: =AC26*C26 -> 0 | AF26: 0 | AG26: =AF26*C26 -> 0 | AI26: =E26+H26+K26+N26+Q26+T26+W26+Z26+AC26+AF26 -> 1 | AJ26: =F26+I26+L26+O26+R26+U26+X26+AA26+AD26+AG26 -> 38839.744
A27: 06.00.000 | B27: ='PO - REFERENCIAL'!B106:I106 -> PISOS E REVESTIMENTOS | C27: ='PO - REFERENCIAL'!P106 -> 49194.471 | D27: =C27/$C$33 -> 0.20908282 | E27: 0 | F27: =E27*C27 -> 0 | H27: 0.1 | I27: =H27*C27 -> 4919.4471 | K27: 0.4 | L27: =K27*C27 -> 19677.788 | N27: 0.5 | O27: =N27*C27 -> 24597.235 | Q27: 0 | R27: =Q27*C27 -> 0 | T27: 0 | U27: =T27*C27 -> 0 | W27: 0 | X27: =W27*C27 -> 0 | Z27: 0 | AA27: =Z27*C27 -> 0 | AC27: 0 | AD27: =AC27*C27 -> 0 | AF27: 0 | AG27: =AF27*C27 -> 0 | AI27: =E27+H27+K27+N27+Q27+T27+W27+Z27+AC27+AF27 -> 1 | AJ27: =F27+I27+L27+O27+R27+U27+X27+AA27+AD27+AG27 -> 49194.471
A28: 07.00.000 | B28: ='PO - REFERENCIAL'!B107:I107 -> SISTEMA DE COBERTURA | C28: ='PO - REFERENCIAL'!P107 -> 26893.138 | D28: =C28/$C$33 -> 0.11429929 | E28: 0 | F28: =E28*C28 -> 0 | H28: 0.1 | I28: =H28*C28 -> 2689.3138 | K28: 0.2 | L28: =K28*C28 -> 5378.6276 | N28: 0.7 | O28: =N28*C28 -> 18825.196 | Q28: 0 | R28: =Q28*C28 -> 0 | T28: 0 | U28: =T28*C28 -> 0 | W28: 0 | X28: =W28*C28 -> 0 | Z28: 0 | AA28: =Z28*C28 -> 0 | AC28: 0 | AD28: =AC28*C28 -> 0 | AF28: 0 | AG28: =AF28*C28 -> 0 | AI28: =E28+H28+K28+N28+Q28+T28+W28+Z28+AC28+AF28 -> 1 | AJ28: =F28+I28+L28+O28+R28+U28+X28+AA28+AD28+AG28 -> 26893.138
A29: 08.00.000 | B29: ='PO - REFERENCIAL'!B108:I108 -> ESQUADRIAS | C29: ='PO - REFERENCIAL'!P108 -> 20862.884 | D29: =C29/$C$33 -> 0.088669938 | E29: 0.1 | F29: =E29*C29 -> 2086.2884 | H29: 0.2 | I29: =H29*C29 -> 4172.5768 | K29: 0.2 | L29: =K29*C29 -> 4172.5768 | N29: 0.5 | O29: =N29*C29 -> 10431.442 | Q29: 0 | R29: =Q29*C29 -> 0 | T29: 0 | U29: =T29*C29 -> 0 | W29: 0 | X29: =W29*C29 -> 0 | Z29: 0 | AA29: =Z29*C29 -> 0 | AC29: 0 | AD29: =AC29*C29 -> 0 | AF29: 0 | AG29: =AF29*C29 -> 0 | AI29: =E29+H29+K29+N29+Q29+T29+W29+Z29+AC29+AF29 -> 1 | AJ29: =F29+I29+L29+O29+R29+U29+X29+AA29+AD29+AG29 -> 20862.884
A30: 09.00.000 | B30: ='PO - REFERENCIAL'!B109:I109 -> ELETRICA | C30: ='PO - REFERENCIAL'!P109 -> 5235.7397 | D30: =C30/$C$33 -> 0.022252566 | E30: 0.2 | F30: =E30*C30 -> 1047.1479 | H30: 0.4 | I30: =H30*C30 -> 2094.2959 | K30: 0.4 | L30: =K30*C30 -> 2094.2959 | N30: 0 | O30: =N30*C30 -> 0 | Q30: 0 | R30: =Q30*C30 -> 0 | T30: 0 | U30: =T30*C30 -> 0 | W30: 0 | X30: =W30*C30 -> 0 | Z30: 0 | AA30: =Z30*C30 -> 0 | AC30: 0 | AD30: =AC30*C30 -> 0 | AF30: 0 | AG30: =AF30*C30 -> 0 | AI30: =E30+H30+K30+N30+Q30+T30+W30+Z30+AC30+AF30 -> 1 | AJ30: =F30+I30+L30+O30+R30+U30+X30+AA30+AD30+AG30 -> 5235.7397
A31: 10.00.000 | B31: ='PO - REFERENCIAL'!B110:I110 -> HIDRAULICA | C31: ='PO - REFERENCIAL'!P110 -> 14552.037 | D31: =C31/$C$33 -> 0.061848025 | E31: 0.2 | F31: =E31*C31 -> 2910.4073 | H31: 0.4 | I31: =H31*C31 -> 5820.8146 | K31: 0.4 | L31: =K31*C31 -> 5820.8146 | N31: 0 | O31: =N31*C31 -> 0 | Q31: 0 | R31: =Q31*C31 -> 0 | T31: 0 | U31: =T31*C31 -> 0 | W31: 0 | X31: =W31*C31 -> 0 | Z31: 0 | AA31: =Z31*C31 -> 0 | AC31: 0 | AD31: =AC31*C31 -> 0 | AF31: 0 | AG31: =AF31*C31 -> 0 | AI31: =E31+H31+K31+N31+Q31+T31+W31+Z31+AC31+AF31 -> 1 | AJ31: =F31+I31+L31+O31+R31+U31+X31+AA31+AD31+AG31 -> 14552.037
A32: 11.00.000 | B32: ='PO - REFERENCIAL'!B111:I111 -> PINTURA | C32: ='PO - REFERENCIAL'!P111 -> 13506.146 | D32: =C32/$C$33 -> 0.057402857 | E32: 0 | F32: =E32*C32 -> 0 | H32: 0 | I32: =H32*C32 -> 0 | K32: 0.3 | L32: =K32*C32 -> 4051.8439 | N32: 0.7 | O32: =N32*C32 -> 9454.3024 | Q32: 0 | R32: =Q32*C32 -> 0 | T32: 0 | U32: =T32*C32 -> 0 | W32: 0 | X32: =W32*C32 -> 0 | Z32: 0 | AA32: =Z32*C32 -> 0 | AC32: 0 | AD32: =AC32*C32 -> 0 | AF32: 0 | AG32: =AF32*C32 -> 0 | AI32: =E32+H32+K32+N32+Q32+T32+W32+Z32+AC32+AF32 -> 1 | AJ32: =F32+I32+L32+O32+R32+U32+X32+AA32+AD32+AG32 -> 13506.146
A33: VALOR TOTAL DO ORÇAMENTO: | C33: =SUM(C22:C32) -> 235287 | E33: =F33*100%/C33 -> 0.13002503 | F33: =SUM(F22:G32) -> 30593.2 | H33: =I33*100%/C33 -> 0.19298241 | I33: =SUM(I22:J32) -> 45406.253 | K33: =L33*100%/C33 -> 0.26636918 | L33: =SUM(L22:M32) -> 62673.207 | N33: =O33*100%/C33 -> 0.41062338 | O33: =SUM(O22:P32) -> 96614.344 | Q33: =R33*100%/C33 -> 0 | R33: =SUM(R22:S32) -> 0 | T33: =U33*100%/C33 -> 0 | U33: =SUM(U22:V32) -> 0 | W33: =X33*100%/C33 -> 0 | X33: =SUM(X22:Y32) -> 0 | Z33: =AA33*100%/C33 -> 0 | AA33: =SUM(AA22:AB32) -> 0 | AC33: =AD33*100%/C33 -> 0 | AD33: =SUM(AD22:AE32) -> 0 | AF33: =AG33*100%/C33 -> 0 | AG33: =SUM(AG22:AH32) -> 0 | AI33: =E33+H33+K33+N33+Q33+T33+W33+Z33+AC33+AF33 -> 1 | AJ33: =F33+I33+L33+O33+R33+U33+X33+AA33+AD33+AG33 -> 235287
H34: =H33+E33 -> 0.32300744 | I34: =I33+F33 -> 75999.452 | K34: =K33+H34 -> 0.58937662 | L34: =L33+I34 -> 138672.66 | N34: =N33+K34 -> 1 | O34: =O33+L34 -> 235287 | Q34: =Q33+N34 -> 1 | R34: =R33+O34 -> 235287 | T34: =T33+Q34 -> 1 | U34: =U33+R34 -> 235287 | W34: =W33+T34 -> 1 | X34: =X33+U34 -> 235287 | Z34: =Z33+W34 -> 1 | AA34: =AA33+X34 -> 235287 | AC34: =AC33+Z34 -> 1 | AD34: =AD33+AA34 -> 235287 | AF34: =AF33+AC34 -> 1 | AG34: =AG33+AD34 -> 235287
B38: ='PO - REFERENCIAL'!B116:E116 -> MARIO PEREIRA DE SÁ | G38: ='PO - REFERENCIAL'!G116:J116 -> LEONARDO M. O. R. DE CARVALHO
B39: ='PO - REFERENCIAL'!B117:E117 -> COODENADOR DE CONVENIOS | G39: ='PO - REFERENCIAL'!G117:J117 -> DIRETOR DEP. DE OBRAS E CONVENIOS
B40: ='PO - REFERENCIAL'!B118:E118 -> Secretaria Mun Desenv Econ.ger Emp e Ren | G40: ='PO - REFERENCIAL'!G118:J118 -> CREA/SP.: 507.007.230-7
B41: ='PO - REFERENCIAL'!B119:E119 -> Matrícula | G41: ='PO - REFERENCIAL'!G119:J119 -> Matrícula
B45: ='PO - REFERENCIAL'!B123:E123 -> ANGELICA LAINETTI MASSARO | G45: ='PO - REFERENCIAL'!G123:J123 -> RAPHAEL LEAL SANCHES
B46: ='PO - REFERENCIAL'!B124:E124 -> DIRETORA DE DEPTO DE EDUCACAO | G46: ='PO - REFERENCIAL'!G124:J124 -> COORDENADOR DE PLANEJAMENTO,ENGENHARIA E OBRA
G47: ='PO - REFERENCIAL'!G125:J125 -> Matrícula

Sheet PO -  FORNECEDOR
A7: PO - PLANILHA ORÇAMENTARIA
A8: Orçamento Base para Licitação
A10: AÇÃO / MODALIDADE | E10: OBJETO | N10: MUNICÍPIO / UF
A11: PROJETO SOMBRA E AGUA FRESCA - AMPLIAÇÃO DE PREDIO ESCOLAR | E11: CONSTRUÇÃO DE SANITARIOS E SALA PARA QUADRA ESCOLAR - EMEB LELLIS DO AMARAL CAMPOS | N11: BEBEDOURO SP
A13: PREPONENTE / TOMADOR | F13: LOCALIDADE / ENDEREÇO
A14: PREFEITURA MUNICIPAL DE BEBEDOURO SP | F14: RUA MONSENHOR ARISTIDES DA SILVEIRA LEITE, Nº 317, VILA ANT. FARANI
A16: SINAPI - Sistema Nacional de Pesquisa de Custos e Índices da Construção Civil | K16: =P16*100%/P19 -> #DIV/0! | M16: EMENDA PARLAMENTAR - REPASSE | P16: 150000
A17: RELATÓRIO DE CUSTOS DE COMPOSIÇÕES | G17: Mês de Referência: 04/2025 | K17: =P17*100%/P19 -> #DIV/0! | M17: RENDIMENTOS | P17: 14621.81
A18: Localidade: SAO PAULO - SP | E18: Data de emissão: 09/05/2025 | K18: =P18*100%/P19 -> #DIV/0! | M18: RECUSOS PROPRIOS | P18: =P19-(P16+P17) -> -164621.81
A19: BDI SEM desoneração (Fórmula Acórdão TCU): | F19: 0 | K19: 1 | M19: VALOR TOTAL DA OBRA | P19: =SUM(P22:P98)/2 -> 0
A21: Código | B21: Descrição da Composição | J21: Unid. | K21: SEM desoneração | L21: COM desoneração | M21: QUANT. | N21: VALOR TOTAL | O21: BDI % | P21: VALOR TOTAL + BDI
B22: INICIO E APOIO DE OBRA | P22: =SUM(P23:P27) -> 0
A23: 98458 | B23: TAPUME COM COMPENSADO DE MADEIRA. AF_03/2024 | J23: M2 | K23: 92.52 | L23: 88.98 | M23: 0 | N23: =K23*M23 -> 0 | O23: =F19 -> 0 | P23: =(N23*O23)+N23 -> 0
A24: 103689 | B24: FORNECIMENTO E INSTALAÇÃO DE PLACA DE OBRA COM CHAPA GALVANIZADA E ESTRUTURA DE MADEIRA. AF_03/2022_PS | J24: M2 | K24: 0 | L24: 466.79 | M24: 10 | N24: =K24*M24 -> 0 | O24: =F19 -> 0 | P24: =(N24*O24)+N24 -> 0
A25: 97628 | B25: DEMOLIÇÃO DE LAJES, EM CONCRETO ARMADO, DE FORMA MANUAL, SEM REAPROVEITAMENTO. AF_09/2023 M3 | J25: M3 | K25: 0 | L25: 335.17 | M25: 2.4 | N25: =K25*M25 -> 0 | O25: =F19 -> 0 | P25: =(N25*O25)+N25 -> 0
A26: 98519 | B26: REVOLVIMENTO E LIMPEZA MANUAL DE SOLO. AF_07/2024 | J26: M2 | K26: 0 | L26: 4.65 | M26: 120 | N26: =K26*M26 -> 0 | O26: =F19 -> 0 | P26: =(N26*O26)+N26 -> 0
A27: 99059 | B27: LOCAÇÃO CONVENCIONAL DE OBRA, UTILIZANDO GABARITO DE TÁBUAS CORRIDAS PONTALETADAS A CADA 2,00M - 2 UTILIZAÇÕES. AF_03/2024 | J27: M | K27: 0 | L27: 71.35 | M27: 44 | N27: =K27*M27 -> 0 | O27: =F19 -> 0 | P27: =(N27*O27)+N27 -> 0
B28: INFRAESTRUTURA | P28: =SUM(P29:P34) -> 0
A29: 93358 | B29: ESCAVAÇÃO MANUAL DE VALA. AF_09/2024 | J29: M3 | K29: 0 | L29: 108.98 | M29: 12.2 | N29: =K29*M29 -> 0 | O29: =F23 -> 0 | P29: =(N29*O29)+N29 -> 0
A30: 104737 | B30: REATERRO MANUAL DE VALAS, COM PLACA VIBRATÓRIA. AF_08/2023 | J30: M3 | K30: 0 | L30: 27.05 | M30: =M29 -> 12.2 | N30: =K30*M30 -> 0 | O30: =F23 -> 0 | P30: =(N30*O30)+N30 -> 0
A31: 101173 | B31: ESTACA BROCA DE CONCRETO, DIÂMETRO DE 20CM, ESCAVAÇÃO MANUAL COM TRADO CONCHA, COM ARMADURA DE ARRANQUE. AF_05/2020 | J31: M | K31: 0 | L31: 63.03 | M31: 54 | N31: =K31*M31 -> 0 | O31: =F23 -> 0 | P31: =(N31*O31)+N31 -> 0
A32: 96539 | B32: FABRICAÇÃO, MONTAGEM E DESMONTAGEM DE FÔRMA PARA VIGA BALDRAME, EM CHAPA DE MADEIRA COMPENSADA RESINADA, E=17 MM, 2 UTILIZAÇÕES. AF_01/2024 | J32: M2 | K32: 0 | L32: 129.38 | M32: 30.5 | N32: =K32*M32 -> 0 | O32: =F27 -> 0 | P32: =(N32*O32)+N32 -> 0
A33: 104918 | B33: ARMAÇÃO DE SAPATA ISOLADA, VIGA BALDRAME E SAPATA CORRIDA UTILIZANDO AÇO CA-50 DE 8 MM - MONTAGEM. AF_01/2024 | J33: KG | K33: 0 | L33: 14.97 | M33: 549 | N33: =K33*M33 -> 0 | O33: =F27 -> 0 | P33: =(N33*O33)+N33 -> 0
A34: 96557 | B34: CONCRETAGEM DE BLOCO DE COROAMENTO OU VIGA BALDRAME, FCK 30 MPA, COM USO DE BOMBA - LANÇAMENTO, ADENSAMENTO E ACABAMENTO. AF_01/2024 | J34: M3 | K34: 0 | L34: 617.54 | M34: 6.1 | N34: =K34*M34 -> 0 | O34: =F27 -> 0 | P34: =(N34*O34)+N34 -> 0
B35: IMPERMEABILIZAÇÃO | P35: =P36 -> 0
A36: 98555 | B36: IMPERMEABILIZAÇÃO DE SUPERFÍCIE COM ARGAMASSA POLIMÉRICA / MEMBRANA ACRÍLICA, 3 DEMÃOS. AF_09/2023 | J36: M2 | K36: 0 | L36: 33.84 | M36: 73.2 | N36: =K36*M36 -> 0 | O36: =F31 -> 0 | P36: =(N36*O36)+N36 -> 0
B37: SUPERESTRUTURA | P37: =SUM(P38:P43) -> 0
A38: 92269 | B38: FABRICAÇÃO DE FÔRMA PARA PILARES E ESTRUTURAS SIMILARES, EM MADEIRA SERRADA, E=25 MM. AF_09/2020 | J38: M2 | K38: 0 | L38: 122.47 | M38: 15.36 | N38: =K38*M38 -> 0 | O38: =F31 -> 0 | P38: =(N38*O38)+N38 -> 0
A39: 92917 | B39: ARMAÇÃO DE ESTRUTURAS DIVERSAS DE CONCRETO ARMADO, EXCETO VIGAS, PILARES, LAJES E FUNDAÇÕES, UTILIZANDO AÇO CA-50 DE 8,0 MM - MONTAGEM. AF_06/2022 | J39: KG | K39: 0 | L39: 14.34 | M39: 138.24 | N39: =K39*M39 -> 0 | O39: =F31 -> 0 | P39: =(N39*O39)+N39 -> 0
A40: 103672 | B40: CONCRETAGEM DE PILARES, FCK = 25 MPA, COM USO DE BOMBA - LANÇAMENTO, ADENSAMENTO E ACABAMENTO. AF_02/2022_PS | J40: M3 | K40: 0 | L40: 567.19 | M40: 1.536 | N40: =K40*M40 -> 0 | O40: =F35 -> 0 | P40: =(N40*O40)+N40 -> 0
A41: 92266 | B41: FABRICAÇÃO DE FÔRMA PARA VIGAS, EM CHAPA DE MADEIRA COMPENSADA PLASTIFICADA, E = 18 MM. AF_09/2020 | J41: M2 | K41: 0 | L41: 137.46 | M41: 30.5 | N41: =K41*M41 -> 0 | O41: =F35 -> 0 | P41: =(N41*O41)+N41 -> 0
A42: 104918 | B42: ARMAÇÃO DE SAPATA ISOLADA, VIGA BALDRAME E SAPATA CORRIDA UTILIZANDO AÇO CA-50 DE 8 MM - MONTAGEM. AF_01/2024 | J42: KG | K42: 0 | L42: 14.97 | M42: 549 | N42: =K42*M42 -> 0 | O42: =F35 -> 0 | P42: =(N42*O42)+N42 -> 0
A43: 103675 | B43: CONCRETAGEM DE VIGAS E LAJES, FCK=25 MPA, PARA LAJES MACIÇAS OU NERVURADAS COM USO DE BOMBA - LANÇAMENTO, ADENSAMENTO E ACABAMENTO. AF_02/2022_PS | J43: M3 | K43: 0 | L43: 566.48 | M43: 6.1 | N43: =K43*M43 -> 0 | O43: =F35 -> 0 | P43: =(N43*O43)+N43 -> 0
B44: ALVENARIA E ELEMENTOS DIVISORES | P44: =SUM(P45:P47) -> 0
A45: 103330 | B45: ALVENARIA DE VEDAÇÃO DE BLOCOS CERÂMICOS FURADOS NA HORIZONTAL DE 11,5X19X19 CM (ESPESSURA 11,5 CM) E ARGAMASSA DE ASSENTAMENTO COM PREPARO EM BETONEIRA. AF_12/2021 | J45: M2 | K45: 0 | L45: 86.4 | M45: 195.2 | N45: =K45*M45 -> 0 | O45: =F39 -> 0 | P45: =(N45*O45)+N45 -> 0
A46: 102257 | B46: DIVISORIA SANITÁRIA, TIPO CABINE, EM PAINEL DE GRANILITE, ESP = 3CM, ASSENTADO COM ARGAMASSA COLANTE AC III-E, EXCLUSIVE FERRAGENS. AF_01/2021 | J46: M2 | K46: 0 | L46: 340.16 | M46: 25.6 | N46: =K46*M46 -> 0 | O46: =F39 -> 0 | P46: =(N46*O46)+N46 -> 0
A47: 96114 | B47: FORRO EM DRYWALL, PARA AMBIENTES COMERCIAIS, INCLUSIVE ESTRUTURA BIRECIONAL DE FIXAÇÃO. AF_08/2023_PS | J47: M2 | K47: 0 | L47: 74.72 | M47: 72 | N47: =K47*M47 -> 0 | O47: =F39 -> 0 | P47: =(N47*O47)+N47 -> 0
B48: PISOS E REVESTIMENTOS | P48: =SUM(P49:P56) -> 0
A49: 87905 | B49: CHAPISCO APLICADO EM ALVENARIA (COM PRESENÇA DE VÃOS) E ESTRUTURAS DE CONCRETO DE FACHADA, COM COLHER DE PEDREIRO. ARGAMASSA TRAÇO 1:3 COM PREPARO EM BETONEIRA 400L. AF_10/2022 | J49: M2 | K49: 0 | L49: 8.64 | M49: 390.4 | N49: =K49*M49 -> 0 | O49: =F43 -> 0 | P49: =(N49*O49)+N49 -> 0
A50: 104235 | B50: EMBOÇO OU MASSA ÚNICA EM ARGAMASSA INDUSTRIALIZADA, PREPARO MECÂNICA E APLICAÇÃO COM EQUIPAMENTO DE MISTURA E PROJEÇÃO DE 1,5 M3/H DE ARGAMASSA EM PANOS DE FACHADA SEM PRESENÇA DE VÃOS, ESPESSURA DE 25 MM, ACESSO POR ANDAIME. AF_08/2022 | J50: M2 | K50: 0 | L50: 76.18 | M50: 75.3 | N50: =K50*M50 -> 0 | O50: =F43 -> 0 | P50: =(N50*O50)+N50 -> 0
A51: 104236 | B51: REBOCO OU MASSA ÚNICA EM ARGAMASSA TRAÇO 1:2:8, PREPARO MECÂNICA COM BETONEIRA 400 L, APLICADA COM PROJETOR TIPO CANEQUINHA EM PANOS DE FACHADA SEM PRESENÇA DE VÃOS, ESPESSURA DE 25 MM, ACESSO POR ANDAIME. AF_08/2022 | J51: M2 | K51: 0 | L51: 40.75 | M51: 315.1 | N51: =K51*M51 -> 0 | O51: =F43 -> 0 | P51: =(N51*O51)+N51 -> 0
A52: 87275 | B52: REVESTIMENTO CERÂMICO PARA PAREDES INTERNAS COM PLACAS TIPO ESMALTADA DE DIMENSÕES 33X45 CM APLICADAS A MEIA ALTURA DAS PAREDES. AF_02/2023_PE | J52: M2 | K52: 0 | L52: 72.55 | M52: 75.3 | N52: =K52*M52 -> 0 | O52: =F47 -> 0 | P52: =(N52*O52)+N52 -> 0
A53: 104598 | B53: REVESTIMENTO CERÂMICO PARA PISO COM PLACAS TIPO PORCELANATO DE DIMENSÕES 80X80 CM APLICADA EM AMBIENTES DE ÁREA MAIOR QUE 10 M². AF_02/2023_PE | J53: M2 | K53: 0 | L53: 106.12 | M53: 72 | N53: =K53*M53 -> 0 | O53: =F47 -> 0 | P53: =(N53*O53)+N53 -> 0
A54: 94993 | B54: EXECUÇÃO DE PASSEIO (CALÇADA) OU PISO DE CONCRETO COM CONCRETO MOLDADO IN LOCO, USINADO, ACABAMENTO CONVENCIONAL, ESPESSURA 6 CM, ARMADO. AF_08/2022 | J54: M2 | K54: 0 | L54: 68.58 | M54: 39 | N54: =K54*M54 -> 0 | O54: =F47 -> 0 | P54: =(N54*O54)+N54 -> 0
A55: 87299 | B55: ARGAMASSA TRAÇO 1:3 (EM VOLUME DE CIMENTO E AREIA MÉDIA ÚMIDA) PARA CONTRAPISO, PREPARO MECÂNICO COM BETONEIRA 600 L. AF_08/2019 | J55: M3 | K55: 0 | L55: 383.83 | M55: 4.32 | N55: =K55*M55 -> 0 | O55: =F47 -> 0 | P55: =(N55*O55)+N55 -> 0
A56: 103924 | B56: PISO MODULAR DE POLIPROPILENO PARA QUADRA POLIESPORTIVA - FORNECIMENTO E INSTALAÇÃO. AF_03/2022 | J56: M2 | K56: 0 | L56: 0 | M56: 543.6 | N56: =K56*M56 -> 0 | O56: =F51 -> 0 | P56: =(N56*O56)+N56 -> 0
B57: SISTEMA DE COBERTURA | P57: =SUM(P58:P59) -> 0
A58: 94216 | B58: TELHAMENTO COM TELHA METÁLICA TERMOACÚSTICA E = 30 MM, COM ATÉ 2 ÁGUAS, INCLUSO IÇAMENTO. AF_07/2019 | J58: M2 | K58: 0 | L58: 213.14 | M58: 100 | N58: =K58*M58 -> 0 | O58: =F51 -> 0 | P58: =(N58*O58)+N58 -> 0
A59: 94231 | B59: RUFO EM CHAPA DE AÇO GALVANIZADO NÚMERO 24, CORTE DE 25 CM, INCLUSO TRANSPORTE VERTICAL. AF_07/2019 | J59: M | K59: 0 | L59: 52.83 | M59: 18 | N59: =K59*M59 -> 0 | O59: =F51 -> 0 | P59: =(N59*O59)+N59 -> 0
B60: ESQUADRIAS | P60: =SUM(P61:P64) -> 0
A61: 91338 | B61: PORTA DE ALUMÍNIO DE ABRIR COM LAMBRI, COM GUARNIÇÃO, FIXAÇÃO COM PARAFUSOS - FORNECIMENTO E INSTALAÇÃO. AF_12/2019 | J61: M2 | K61: 0 | L61: 880.29 | M61: 7.56 | N61: =K61*M61 -> 0 | O61: =F55 -> 0 | P61: =(N61*O61)+N61 -> 0
A62: 94570 | B62: JANELA DE ALUMÍNIO DE CORRER COM 2 FOLHAS PARA VIDROS (VIDROS INCLUSOS), BATENTE/ REQUADRO 6 A 14 CM, ACABAMENTO COM ACETATO OU BRILHANTE, FIXAÇÃO COM PARAFUSO, SEM GUARNIÇÃO/ ALIZAR, DIMENSÕES 100X120 CM, VEDAÇÃO COM SILICONE, EXCLUSIVE CONTRAMARCO - FORNECIMENTO E INSTALAÇÃO. AF_11/2024 | J62: M2 | K62: 0 | L62: 362.99 | M62: 1.8 | N62: =K62*M62 -> 0 | O62: =F55 -> 0 | P62: =(N62*O62)+N62 -> 0
A63: 94572 | B63: JANELA DE ALUMÍNIO DE CORRER COM 3 FOLHAS (2 VENEZIANAS E 1 FOLHA PARA VIDRO,VIDRO INCLUSO), BATENTE/ REQUADRO 6 A 14 CM, SEM ACABAMENTO, FIXAÇÃO COM PARAFUSO, SEM GUARNIÇÃO/ ALIZAR, DIMENSÕES 100X120 CM, VEDAÇÃO COM SILICONE, EXCLUSIVE CONTRAMARCO - FORNECIMENTO E INSTALAÇÃO. AF_11/2024 | J63: M2 | K63: 0 | L63: 519.85 | M63: 4 | N63: =K63*M63 -> 0 | O63: =F55 -> 0 | P63: =(N63*O63)+N63 -> 0
A64: 91338 | B64: PORTA DE ALUMÍNIO DE ABRIR COM LAMBRI, COM GUARNIÇÃO, FIXAÇÃO COM PARAFUSOS - FORNECIMENTO E INSTALAÇÃO. AF_12/2019 | J64: M2 | K64: 0 | L64: 880.29 | M64: 8.96 | N64: =K64*M64 -> 0 | O64: =F59 -> 0 | P64: =(N64*O64)+N64 -> 0
B65: ELETRICA | P65: =SUM(P66:P75) -> 0
A66: 101875 | B66: QUADRO DE DISTRIBUIÇÃO DE ENERGIA EM CHAPA DE AÇO GALVANIZADO, DE EMBUTIR, COM BARRAMENTO TRIFÁSICO, PARA 12 DISJUNTORES DIN 100A - FORNECIMENTO E INSTALAÇÃO. AF_10/2020 | J66: Unid. | K66: 0 | L66: 355.84 | M66: 1 | N66: =K66*M66 -> 0 | O66: =F59 -> 0 | P66: =(N66*O66)+N66 -> 0
A67: 101894 | B67: DISJUNTOR TRIPOLAR TIPO NEMA, CORRENTE NOMINAL DE 60 ATÉ 100A - FORNECIMENTO E INSTALAÇÃO. AF_10/2020 | J67: Unid. | K67: 0 | L67: 166.88 | M67: 1 | N67: =K67*M67 -> 0 | O67: =F59 -> 0 | P67: =(N67*O67)+N67 -> 0
A68: 93671 | B68: DISJUNTOR TRIPOLAR TIPO DIN, CORRENTE NOMINAL DE 32A - FORNECIMENTO E INSTALAÇÃO. AF_10/2020 | J68: Unid. | K68: 0 | L68: 83.16 | M68: 9 | N68: =K68*M68 -> 0 | O68: =F63 -> 0 | P68: =(N68*O68)+N68 -> 0
A69: 97667 | B69: ELETRODUTO FLEXÍVEL CORRUGADO, PEAD, DN 50 (1 1/2"), PARA REDE ENTERRADA DE DISTRIBUIÇÃO DE ENERGIA ELÉTRICA - FORNECIMENTO E INSTALAÇÃO. AF_12/2021 | J69: M | K69: 0 | L69: 9.33 | M69: 42 | N69: =K69*M69 -> 0 | O69: =F63 -> 0 | P69: =(N69*O69)+N69 -> 0
A70: 91935 | B70: CABO DE COBRE FLEXÍVEL ISOLADO, 16 MM², ANTI-CHAMA 0,6/1,0 KV, PARA CIRCUITOS TERMINAIS - FORNECIMENTO E INSTALAÇÃO. AF_03/2023 | J70: M | K70: 0 | L70: 28.61 | M70: 18 | N70: =K70*M70 -> 0 | O70: =F63 -> 0 | P70: =(N70*O70)+N70 -> 0
A71: 91929 | B71: CABO DE COBRE FLEXÍVEL ISOLADO, 4 MM², ANTI-CHAMA 0,6/1,0 KV, PARA CIRCUITOS TERMINAIS - FORNECIMENTO E INSTALAÇÃO. AF_03/2023 | J71: M | K71: 0 | L71: 8.21 | M71: 22 | N71: =K71*M71 -> 0 | O71: =F63 -> 0 | P71: =(N71*O71)+N71 -> 0
A72: 91926 | B72: CABO DE COBRE FLEXÍVEL ISOLADO, 2,5 MM², ANTI-CHAMA 450/750 V, PARA CIRCUITOS TERMINAIS - FORNECIMENTO E INSTALAÇÃO. AF_03/2023 | J72: M | K72: 0 | L72: 5.06 | M72: 172 | N72: =K72*M72 -> 0 | O72: =F67 -> 0 | P72: =(N72*O72)+N72 -> 0
A73: 92022 | B73: INTERRUPTOR SIMPLES (1 MÓDULO) COM 1 TOMADA DE EMBUTIR 2P+T 10 A, SEM SUPORTE E SEM PLACA - FORNECIMENTO E INSTALAÇÃO. AF_03/2023 | J73: Unid. | K73: 0 | L73: 49.63 | M73: 5 | N73: =K73*M73 -> 0 | O73: =F67 -> 0 | P73: =(N73*O73)+N73 -> 0
A74: 91998 | B74: TOMADA BAIXA DE EMBUTIR (1 MÓDULO), 2P+T 10 A, SEM SUPORTE E SEM PLACA - FORNECIMENTO E INSTALAÇÃO. AF_03/2023 | J74: Unid. | K74: 0 | L74: 25.25 | M74: 12 | N74: =K74*M74 -> 0 | O74: =F67 -> 0 | P74: =(N74*O74)+N74 -> 0
A75: 103782 | B75: LUMINÁRIA TIPO PLAFON CIRCULAR, DE SOBREPOR, COM LED DE 12/13 W - FORNECIMENTO E INSTALAÇÃO. AF_09/2024 | J75: Unid. | K75: 0 | L75: 34.48 | M75: 12 | N75: =K75*M75 -> 0 | O75: =F67 -> 0 | P75: =(N75*O75)+N75 -> 0
B76: HIDRAULICA | P76: =SUM(P77:P92) -> 0
A77: 2611 | B77: CAIXA D´ÁGUA EM POLIÉSTER REFORÇADO COM FIBRA DE VIDRO, 500 LITROS - FORNECIMENTO E INSTALAÇÃO. AF_06/2021 | J77: Unid. | K77: 0 | L77: 456.92 | M77: 1 | N77: =K77*M77 -> 0 | O77: =F71 -> 0 | P77: =(N77*O77)+N77 -> 0
A78: 94798 | B78: TORNEIRA DE BOIA PARA CAIXA D'ÁGUA, ROSCÁVEL, 1 1/4" - FORNECIMENTO E INSTALAÇÃO. AF_08/2021 | J78: Unid. | K78: 0 | L78: 222.99 | M78: 1 | N78: =K78*M78 -> 0 | O78: =F71 -> 0 | P78: =(N78*O78)+N78 -> 0
A79: 89987 | B79: REGISTRO DE GAVETA BRUTO, LATÃO, ROSCÁVEL, 3/4", COM ACABAMENTO E CANOPLA CROMADOS - FORNECIMENTO E INSTALAÇÃO. AF_08/2021 | J79: Unid. | K79: 0 | L79: 74.59 | M79: 2 | N79: =K79*M79 -> 0 | O79: =F71 -> 0 | P79: =(N79*O79)+N79 -> 0
A80: 89984 | B80: REGISTRO DE PRESSÃO BRUTO, LATÃO, ROSCÁVEL, 1/2", COM ACABAMENTO E CANOPLA CROMADOS - FORNECIMENTO E INSTALAÇÃO. AF_08/2021 | J80: Unid. | K80: 0 | L80: 66.83 | M80: 4 | N80: =K80*M80 -> 0 | O80: =F75 -> 0 | P80: =(N80*O80)+N80 -> 0
A81: 103018 | B81: VÁLVULA DE DESCARGA METÁLICA, BASE 1 1/4", ACABAMENTO METALICO CROMADO - FORNECIMENTO E INSTALAÇÃO. AF_08/2021 | J81: Unid. | K81: 0 | L81: 357 | M81: 7 | N81: =K81*M81 -> 0 | O81: =F75 -> 0 | P81: =(N81*O81)+N81 -> 0
A82: 86934 | B82: BANCADA DE MÁRMORE SINTÉTICO 120 X 60CM, COM CUBA INTEGRADA, INCLUSO SIFÃO TIPO FLEXÍVEL EM PVC, VÁLVULA EM PLÁSTICO CROMADO TIPO AMERICANA E TORNEIRA CROMADA LONGA, DE PAREDE, PADRÃO POPULAR - FORNECIMENTO E INSTALAÇÃO. AF_01/2020 | J82: Unid. | K82: 0 | L82: 499.05 | M82: 5 | N82: =K82*M82 -> 0 | O82: =F75 -> 0 | P82: =(N82*O82)+N82 -> 0
A83: 95470 | B83: VASO SANITARIO SIFONADO CONVENCIONAL COM LOUÇA BRANCA, INCLUSO CONJUNTO DE LIGAÇÃO PARA BACIA SANITÁRIA AJUSTÁVEL - FORNECIMENTO E INSTALAÇÃO. AF_01/2020 | J83: Unid. | K83: 0 | L83: 305.84 | M83: 6 | N83: =K83*M83 -> 0 | O83: =F75 -> 0 | P83: =(N83*O83)+N83 -> 0
A84: 95472 | B84: VASO SANITARIO SIFONADO CONVENCIONAL PARA PCD SEM FURO FRONTAL COM LOUÇA BRANCA SEM ASSENTO, INCLUSO CONJUNTO DE LIGAÇÃO PARA BACIA SANITÁRIA AJUSTÁVEL - FORNECIMENTO E INSTALAÇÃO. AF_01/2020 | J84: Unid. | K84: 0 | L84: 761.49 | M84: 1 | N84: =K84*M84 -> 0 | O84: =F79 -> 0 | P84: =(N84*O84)+N84 -> 0
A85: 94648 | B85: TUBO, PVC, SOLDÁVEL, DE 25MM, INSTALADO EM RESERVAÇÃO PREDIAL DE ÁGUA - FORNECIMENTO E INSTALAÇÃO. AF_04/2024 | J85: M | K85: 0 | L85: 7.55 | M85: 80 | N85: =K85*M85 -> 0 | O85: =F79 -> 0 | P85: =(N85*O85)+N85 -> 0
A86: 94649 | B86: TUBO, PVC, SOLDÁVEL, DE 32MM, INSTALADO EM RESERVAÇÃO PREDIAL DE ÁGUA - FORNECIMENTO E INSTALAÇÃO. AF_04/2024 | J86: M | K86: 0 | L86: 13.77 | M86: 40 | N86: =K86*M86 -> 0 | O86: =F79 -> 0 | P86: =(N86*O86)+N86 -> 0
A87: 94650 | B87: TUBO, PVC, SOLDÁVEL, DE 40MM, INSTALADO EM RESERVAÇÃO PREDIAL DE ÁGUA - FORNECIMENTO E INSTALAÇÃO. AF_04/2024 | J87: M | K87: 0 | L87: 20.75 | M87: 20 | N87: =K87*M87 -> 0 | O87: =F79 -> 0 | P87: =(N87*O87)+N87 -> 0
A88: 95544 | B88: PAPELEIRA DE PAREDE EM METAL CROMADO SEM TAMPA, INCLUSO FIXAÇÃO. AF_01/2020 | J88: Unid. | K88: 0 | L88: 60.5 | M88: 7 | N88: =K88*M88 -> 0 | O88: =F83 -> 0 | P88: =(N88*O88)+N88 -> 0
A89: 95545 | B89: SABONETEIRA DE PAREDE EM METAL CROMADO, INCLUSO FIXAÇÃO. AF_01/2020 | J89: Unid. | K89: 0 | L89: 59.33 | M89: 5 | N89: =K89*M89 -> 0 | O89: =F83 -> 0 | P89: =(N89*O89)+N89 -> 0
A90: 100860 | B90: CHUVEIRO ELÉTRICO COMUM CORPO PLÁSTICO, TIPO DUCHA - FORNECIMENTO E INSTALAÇÃO. AF_01/2020 | J90: Unid. | K90: 0 | L90: 122.61 | M90: 2 | N90: =K90*M90 -> 0 | O90: =F83 -> 0 | P90: =(N90*O90)+N90 -> 0
A91: 100870 | B91: BARRA DE APOIO RETA, EM ALUMINIO, COMPRIMENTO 60 CM, FIXADA NA PAREDE - FORNECIMENTO E INSTALAÇÃO. AF_01/2020 | J91: Unid. | K91: 0 | L91: 321.73 | M91: 1 | N91: =K91*M91 -> 0 | O91: =F83 -> 0 | P91: =(N91*O91)+N91 -> 0
A92: 100873 | B92: BARRA DE APOIO RETA, EM ALUMINIO, COMPRIMENTO 90 CM, FIXADA NA PAREDE - FORNECIMENTO E INSTALAÇÃO. AF_01/2020 | J92: Unid. | K92: 0 | L92: 372.3 | M92: 1 | N92: =K92*M92 -> 0 | O92: =F87 -> 0 | P92: =(N92*O92)+N92 -> 0
B93: PINTURA | P93: =SUM(P94:P98) -> 0
A94: 88495 | B94: EMASSAMENTO COM MASSA LÁTEX, APLICAÇÃO EM PAREDE, UMA DEMÃO, LIXAMENTO MANUAL. AF_04/2023 | J94: M2 | K94: 0 | L94: 12.85 | M94: 315.1 | N94: =K94*M94 -> 0 | O94: =F87 -> 0 | P94: =(N94*O94)+N94 -> 0
A95: 88416 | B95: APLICAÇÃO MANUAL DE PINTURA COM TINTA TEXTURIZADA ACRÍLICA EM PANOS COM PRESENÇA DE VÃOS DE EDIFÍCIOS DE MÚLTIPLOS PAVIMENTOS, UMA COR. AF_03/2024 | J95: M2 | K95: 0 | L95: 22.72 | M95: 154 | N95: =K95*M95 -> 0 | O95: =F87 -> 0 | P95: =(N95*O95)+N95 -> 0
A96: 104641 | B96: PINTURA LÁTEX ACRÍLICA ECONÔMICA, APLICAÇÃO MANUAL EM PAREDES, DUAS DEMÃOS. AF_04/2023 | J96: M2 | K96: 0 | L96: 10.54 | M96: 128.03 | N96: =K96*M96 -> 0 | O96: =F91 -> 0 | P96: =(N96*O96)+N96 -> 0
A97: 104639 | B97: PINTURA LÁTEX ACRÍLICA ECONÔMICA, APLICAÇÃO MANUAL EM TETO, DUAS DEMÃOS. AF_04/2023 | J97: M2 | K97: 0 | L97: 13.31 | M97: 72 | N97: =K97*M97 -> 0 | O97: =F91 -> 0 | P97: =(N97*O97)+N97 -> 0
A98: 102491 | B98: PINTURA DE PISO COM TINTA ACRÍLICA, APLICAÇÃO MANUAL, 2 DEMÃOS, INCLUSO FUNDO PREPARADOR. AF_05/2021 | J98: M2 | K98: 0 | L98: 23.45 | M98: 39 | N98: =K98*M98 -> 0 | O98: =F91 -> 0 | P98: =(N98*O98)+N98 -> 0
B99: VALOR TOTAL | N99: VALOR TOTAL | P99: =SUM(P22:P98)/2 -> 0
B101: INICIO E APOIO DE OBRA | P101: =P22 -> 0
B102: INFRAESTRUTURA | P102: =P28 -> 0
B103: IMPERMEABILIZAÇÃO | P103: =P35 -> 0
B104: SUPERESTRUTURA | P104: =P37 -> 0
B105: ALVENARIA E ELEMENTOS DIVISORES | P105: =P44 -> 0
B106: PISOS E REVESTIMENTOS | P106: =P48 -> 0
B107: SISTEMA DE COBERTURA | P107: =P57 -> 0
B108: ESQUADRIAS | P108: =P60 -> 0
B109: ELETRICA | P109: =P65 -> 0
B110: HIDRAULICA | P110: =P76 -> 0
B111: PINTURA | P111: =P93 -> 0
...

Sheet CFF - FORNECEDOR
A10: CFF - CRONOGRAMA FISICO-FIANCEIRO
A11: CRONOGRAMA Base para Licitação
A13: AÇÃO / MODALIDADE | E13: OBJETO | N13: MUNICÍPIO / UF
A14: PROJETO SOMBRA E AGUA FRESCA - AMPLIAÇÃO DE PREDIO ESCOLAR | E14: CONSTRUÇÃO DE SANITARIOS E SALA PARA QUADRA ESCOLAR - EMEB LELLIS DO AMARAL CAMPOS | N14: BEBEDOURO SP
A16: PREPONENTE / TOMADOR | F16: LOCALIDADE / ENDEREÇO
A17: PREFEITURA MUNICIPAL DE BEBEDOURO SP | F17: RUA MONSENHOR ARISTIDES DA SILVEIRA LEITE, Nº 317, VILA ANT. FARANI
E20: Á EXECUTAR | AJ20: TOTAL
A21: Código Atividade | B21: Descrição da Atividade | C21: Valor Orçado | D21: AT/ET ET/TT | E21: % | F21: Mês | G21: 1 | H21: % | I21: Mês | J21: =+G21+1 -> 2 | K21: % | L21: Mês | M21: =+J21+1 -> 3 | N21: % | O21: Mês | P21: =+M21+1 -> 4 | Q21: % | R21: Mês | S21: =+P21+1 -> 5 | T21: % | U21: Mês | V21: =+S21+1 -> 6 | W21: % | X21: Mês | Y21: =+V21+1 -> 7 | Z21: % | AA21: Mês | AB21: =+Y21+1 -> 8 | AC21: % | AD21: Mês | AE21: =+AB21+1 -> 9 | AF21: % | AG21: Mês | AH21: =+AE21+1 -> 10 | AI21: %
A22: 01.00.000 | B22: ='PO - REFERENCIAL'!B101:I101 -> INICIO E APOIO DE OBRA | C22: ='PO - FORNECEDOR'!P101 -> 0 | D22: =C22/$C$33 -> #DIV/0! | E22: 1 | F22: =E22*C22 -> 0 | H22: 0 | I22: =H22*C22 -> 0 | K22: 0 | L22: =K22*C22 -> 0 | N22: 0 | O22: =N22*C22 -> 0 | Q22: 0 | R22: =Q22*C22 -> 0 | T22: 0 | U22: =T22*C22 -> 0 | W22: 0 | X22: =W22*C22 -> 0 | Z22: 0 | AA22: =Z22*C22 -> 0 | AC22: 0 | AD22: =AC22*C22 -> 0 | AF22: 0 | AG22: =AF22*C22 -> 0 | AI22: =E22+H22+K22+N22+Q22+T22+W22+Z22+AC22+AF22 -> 1 | AJ22: =F22+I22+L22+O22+R22+U22+X22+AA22+AD22+AG22 -> 0
A23: 02.00.000 | B23: ='PO - REFERENCIAL'!B102:I102 -> INFRAESTRUTURA | C23: ='PO - FORNECEDOR'!P102 -> 0 | D23: =C23/$C$33 -> #DIV/0! | E23: 0.5 | F23: =E23*C23 -> 0 | H23: 0.5 | I23: =H23*C23 -> 0 | K23: 0 | L23: =K23*C23 -> 0 | N23: 0 | O23: =N23*C23 -> 0 | Q23: 0 | R23: =Q23*C23 -> 0 | T23: 0 | U23: =T23*C23 -> 0 | W23: 0 | X23: =W23*C23 -> 0 | Z23: 0 | AA23: =Z23*C23 -> 0 | AC23: 0 | AD23: =AC23*C23 -> 0 | AF23: 0 | AG23: =AF23*C23 -> 0 | AI23: =E23+H23+K23+N23+Q23+T23+W23+Z23+AC23+AF23 -> 1 | AJ23: =F23+I23+L23+O23+R23+U23+X23+AA23+AD23+AG23 -> 0
A24: 03.00.000 | B24: ='PO - REFERENCIAL'!B103:I103 -> IMPERMEABILIZAÇÃO | C24: ='PO - FORNECEDOR'!P103 -> 0 | D24: =C24/$C$33 -> #DIV/0! | E24: 0 | F24: =E24*C24 -> 0 | H24: 0.3 | I24: =H24*C24 -> 0 | K24: 0.7 | L24: =K24*C24 -> 0 | N24: 0 | O24: =N24*C24 -> 0 | Q24: 0 | R24: =Q24*C24 -> 0 | T24: 0 | U24: =T24*C24 -> 0 | W24: 0 | X24: =W24*C24 -> 0 | Z24: 0 | AA24: =Z24*C24 -> 0 | AC24: 0 | AD24: =AC24*C24 -> 0 | AF24: 0 | AG24: =AF24*C24 -> 0 | AI24: =E24+H24+K24+N24+Q24+T24+W24+Z24+AC24+AF24 -> 1 | AJ24: =F24+I24+L24+O24+R24+U24+X24+AA24+AD24+AG24 -> 0
A25: 04.00.000 | B25: ='PO - REFERENCIAL'!B104:I104 -> SUPERESTRUTURA | C25: ='PO - FORNECEDOR'!P104 -> 0 | D25: =C25/$C$33 -> #DIV/0! | E25: 0 | F25: =E25*C25 -> 0 | H25: 0 | I25: =H25*C25 -> 0 | K25: 0.3 | L25: =K25*C25 -> 0 | N25: 0.7 | O25: =N25*C25 -> 0 | Q25: 0 | R25: =Q25*C25 -> 0 | T25: 0 | U25: =T25*C25 -> 0 | W25: 0 | X25: =W25*C25 -> 0 | Z25: 0 | AA25: =Z25*C25 -> 0 | AC25: 0 | AD25: =AC25*C25 -> 0 | AF25: 0 | AG25: =AF25*C25 -> 0 | AI25: =E25+H25+K25+N25+Q25+T25+W25+Z25+AC25+AF25 -> 1 | AJ25: =F25+I25+L25+O25+R25+U25+X25+AA25+AD25+AG25 -> 0
A26: 05.00.000 | B26: ='PO - REFERENCIAL'!B105:I105 -> ALVENARIA E ELEMENTOS DIVISORES | C26: ='PO - FORNECEDOR'!P105 -> 0 | D26: =C26/$C$33 -> #DIV/0! | E26: 0 | F26: =E26*C26 -> 0 | H26: 0.3 | I26: =H26*C26 -> 0 | K26: 0.3 | L26: =K26*C26 -> 0 | N26: 0.4 | O26: =N26*C26 -> 0 | Q26: 0 | R26: =Q26*C26 -> 0 | T26: 0 | U26: =T26*C26 -> 0 | W26: 0 | X26: =W26*C26 -> 0 | Z26: 0 | AA26: =Z26*C26 -> 0 | AC26: 0 | AD26: =AC26*C26 -> 0 | AF26: 0 | AG26: =AF26*C26 -> 0 | AI26: =E26+H26+K26+N26+Q26+T26+W26+Z26+AC26+AF26 -> 1 | AJ26: =F26+I26+L26+O26+R26+U26+X26+AA26+AD26+AG26 -> 0
A27: 06.00.000 | B27: ='PO - REFERENCIAL'!B106:I106 -> PISOS E REVESTIMENTOS | C27: ='PO - FORNECEDOR'!P106 -> 0 | D27: =C27/$C$33 -> #DIV/0! | E27: 0 | F27: =E27*C27 -> 0 | H27: 0.1 | I27: =H27*C27 -> 0 | K27: 0.4 | L27: =K27*C27 -> 0 | N27: 0.5 | O27: =N27*C27 -> 0 | Q27: 0 | R27: =Q27*C27 -> 0 | T27: 0 | U27: =T27*C27 -> 0 | W27: 0 | X27: =W27*C27 -> 0 | Z27: 0 | AA27: =Z27*C27 -> 0 | AC27: 0 | AD27: =AC27*C27 -> 0 | AF27: 0 | AG27: =AF27*C27 -> 0 | AI27: =E27+H27+K27+N27+Q27+T27+W27+Z27+AC27+AF27 -> 1 | AJ27: =F27+I27+L27+O27+R27+U27+X27+AA27+AD27+AG27 -> 0
A28: 07.00.000 | B28: ='PO - REFERENCIAL'!B107:I107 -> SISTEMA DE COBERTURA | C28: ='PO - FORNECEDOR'!P107 -> 0 | D28: =C28/$C$33 -> #DIV/0! | E28: 0 | F28: =E28*C28 -> 0 | H28: 0.1 | I28: =H28*C28 -> 0 | K28: 0.2 | L28: =K28*C28 -> 0 | N28: 0.7 | O28: =N28*C28 -> 0 | Q28: 0 | R28: =Q28*C28 -> 0 | T28: 0 | U28: =T28*C28 -> 0 | W28: 0 | X28: =W28*C28 -> 0 | Z28: 0 | AA28: =Z28*C28 -> 0 | AC28: 0 | AD28: =AC28*C28 -> 0 | AF28: 0 | AG28: =AF28*C28 -> 0 | AI28: =E28+H28+K28+N28+Q28+T28+W28+Z28+AC28+AF28 -> 1 | AJ28: =F28+I28+L28+O28+R28+U28+X28+AA28+AD28+AG28 -> 0
A29: 08.00.000 | B29: ='PO - REFERENCIAL'!B108:I108 -> ESQUADRIAS | C29: ='PO - FORNECEDOR'!P108 -> 0 | D29: =C29/$C$33 -> #DIV/0! | E29: 0.1 | F29: =E29*C29 -> 0 | H29: 0.2 | I29: =H29*C29 -> 0 | K29: 0.2 | L29: =K29*C29 -> 0 | N29: 0.5 | O29: =N29*C29 -> 0 | Q29: 0 | R29: =Q29*C29 -> 0 | T29: 0 | U29: =T29*C29 -> 0 | W29: 0 | X29: =W29*C29 -> 0 | Z29: 0 | AA29: =Z29*C29 -> 0 | AC29: 0 | AD29: =AC29*C29 -> 0 | AF29: 0 | AG29: =AF29*C29 -> 0 | AI29: =E29+H29+K29+N29+Q29+T29+W29+Z29+AC29+AF29 -> 1 | AJ29: =F29+I29+L29+O29+R29+U29+X29+AA29+AD29+AG29 -> 0
A30: 09.00.000 | B30: ='PO - REFERENCIAL'!B109:I109 -> ELETRICA | C30: ='PO - FORNECEDOR'!P109 -> 0 | D30: =C30/$C$33 -> #DIV/0! | E30: 0.2 | F30: =E30*C30 -> 0 | H30: 0.4 | I30: =H30*C30 -> 0 | K30: 0.4 | L30: =K30*C30 -> 0 | N30: 0 | O30: =N30*C30 -> 0 | Q30: 0 | R30: =Q30*C30 -> 0 | T30: 0 | U30: =T30*C30 -> 0 | W30: 0 | X30: =W30*C30 -> 0 | Z30: 0 | AA30: =Z30*C30 -> 0 | AC30: 0 | AD30: =AC30*C30 -> 0 | AF30: 0 | AG30: =AF30*C30 -> 0 | AI30: =E30+H30+K30+N30+Q30+T30+W30+Z30+AC30+AF30 -> 1 | AJ30: =F30+I30+L30+O30+R30+U30+X30+AA30+AD30+AG30 -> 0
A31: 10.00.000 | B31: ='PO - REFERENCIAL'!B110:I110 -> HIDRAULICA | C31: ='PO - FORNECEDOR'!P110 -> 0 | D31: =C31/$C$33 -> #DIV/0! | E31: 0.2 | F31: =E31*C31 -> 0 | H31: 0.4 | I31: =H31*C31 -> 0 | K31: 0.4 | L31: =K31*C31 -> 0 | N31: 0 | O31: =N31*C31 -> 0 | Q31: 0 | R31: =Q31*C31 -> 0 | T31: 0 | U31: =T31*C31 -> 0 | W31: 0 | X31: =W31*C31 -> 0 | Z31: 0 | AA31: =Z31*C31 -> 0 | AC31: 0 | AD31: =AC31*C31 -> 0 | AF31: 0 | AG31: =AF31*C31 -> 0 | AI31: =E31+H31+K31+N31+Q31+T31+W31+Z31+AC31+AF31 -> 1 | AJ31: =F31+I31+L31+O31+R31+U31+X31+AA31+AD31+AG31 -> 0
A32: 11.00.000 | B32: ='PO - REFERENCIAL'!B111:I111 -> PINTURA | C32: ='PO - FORNECEDOR'!P111 -> 0 | D32: =C32/$C$33 -> #DIV/0! | E32: 0 | F32: =E32*C32 -> 0 | H32: 0 | I32: =H32*C32 -> 0 | K32: 0.3 | L32: =K32*C32 -> 0 | N32: 0.7 | O32: =N32*C32 -> 0 | Q32: 0 | R32: =Q32*C32 -> 0 | T32: 0 | U32: =T32*C32 -> 0 | W32: 0 | X32: =W32*C32 -> 0 | Z32: 0 | AA32: =Z32*C32 -> 0 | AC32: 0 | AD32: =AC32*C32 -> 0 | AF32: 0 | AG32: =AF32*C32 -> 0 | AI32: =E32+H32+K32+N32+Q32+T32+W32+Z32+AC32+AF32 -> 1 | AJ32: =F32+I32+L32+O32+R32+U32+X32+AA32+AD32+AG32 -> 0
A33: VALOR TOTAL DO ORÇAMENTO: | C33: =SUM(C22:C32) -> 0 | E33: =F33*100%/C33 -> #DIV/0! | F33: =SUM(F22:G32) -> 0 | H33: =I33*100%/C33 -> #DIV/0! | I33: =SUM(I22:J32) -> 0 | K33: =L33*100%/C33 -> #DIV/0! | L33: =SUM(L22:M32) -> 0 | N33: =O33*100%/C33 -> #DIV/0! | O33: =SUM(O22:P32) -> 0 | Q33: =R33*100%/C33 -> #DIV/0! | R33: =SUM(R22:S32) -> 0 | T33: =U33*100%/C33 -> #DIV/0! | U33: =SUM(U22:V32) -> 0 | W33: =X33*100%/C33 -> #DIV/0! | X33: =SUM(X22:Y32) -> 0 | Z33: =AA33*100%/C33 -> #DIV/0! | AA33: =SUM(AA22:AB32) -> 0 | AC33: =AD33*100%/C33 -> #DIV/0! | AD33: =SUM(AD22:AE32) -> 0 | AF33: =AG33*100%/C33 -> #DIV/0! | AG33: =SUM(AG22:AH32) -> 0 | AI33: =E33+H33+K33+N33+Q33+T33+W33+Z33+AC33+AF33 -> #DIV/0! | AJ33: =F33+I33+L33+O33+R33+U33+X33+AA33+AD33+AG33 -> 0
H34: =H33+E33 -> #DIV/0! | I34: =I33+F33 -> 0 | K34: =K33+H34 -> #DIV/0! | L34: =L33+I34 -> 0 | N34: =N33+K34 -> #DIV/0! | O34: =O33+L34 -> 0 | Q34: =Q33+N34 -> #DIV/0! | R34: =R33+O34 -> 0 | T34: =T33+Q34 -> #DIV/0! | U34: =U33+R34 -> 0 | W34: =W33+T34 -> #DIV/0! | X34: =X33+U34 -> 0 | Z34: =Z33+W34 -> #DIV/0! | AA34: =AA33+X34 -> 0 | AC34: =AC33+Z34 -> #DIV/0! | AD34: =AD33+AA34 -> 0 | AF34: =AF33+AC34 -> #DIV/0! | AG34: =AG33+AD34 -> 0
