Workbook

Sheet PO - REFERENCIAL (2026)
B7: PO - PLANILHA ORÇAMENTARIA
B8: Orçamento Base para Licitação
B10: AÇÃO / MODALIDADE | F10: OBJETO
B11: Projeto Padrão FNDE - Quadra coberta com vestiario (PAC 2 - 001/2013) | F11: Repactuação de obra inacabada - CONSTRUÇÃO DE QUADRA COBERTA COM VESTIARIOS - EMEB MARIA FERNANDA LOPES PIFFER
Q13: PLANILHA ORÇAMENTÁRIA DE REPACTUAÇÃO DE OBRA INACABADA
B14: PREPONENTE / TOMADOR | G14: LOCALIDADE / ENDEREÇO
B15: PREFEITURA MUNICIPAL DE BEBEDOURO SP | G15: RUA DANTE CASSANO, Nº 2736 - RESIDENCIAL ANTONIA SANTAELLA, CEP 14.711-351
B17: SINAPI - Sistema Nacional de Pesquisa de Custos e Índices da Construção Civil | L17: VALOR FNDE | O17: 536881 | S17: SiNAPi - 01/2024 | T17: BDI = 27,0000%
B18: RELATÓRIO DE CUSTOS DE COMPOSIÇÕES | H18: Mês de Referência: 06/2026 | L18: SALDO DISPONIVEL NA CONTA BANCARIA | O18: 27877.79 | S18: ENVIO EM 23/01/2025 | T18: 622167.09
B19: Localidade: SAO PAULO - SP | F19: Data de emissão: 10/07/2026 | L19: VALOR CONTRAPARTIDA | O19: =O20-(O17+O18) -> 257592.84
B20: BDI SEM desoneração (Fórmula Acórdão TCU): | G20: 0.27 | L20: VALOR TOTAL DA OBRA | O20: =SUM(O28:O283)/2 -> 822351.63
L21: https://www.caixa.gov.br/site/Paginas/downloads.aspx#categoria_888
Q26: SERVIÇOS DA NOVA PACTUAÇÃO
B27: Código | C27: Descrição da Composição | K27: Unid. | L27: COM desoneração | M27: QUANT. | N27: BDI % | O27: VALOR TOTAL + BDI | Q27: CÓDIGO | R27: FONTE | S27: DESCRIÇÃO DOS SERVIÇOS | T27: UNID. | U27: QUANT. | V27: $ UNIT. S/ BDI | W27: $ UNIT. C/ BDI | X27: VALOR TOTAL
B28: 1.00 | C28: SERVIÇO PRELIMINARES | O28: =SUM(O29:O39) -> 70984.839 | Q28: =B28 -> 1.00 | S28: =C28 -> SERVIÇO PRELIMINARES
B29: 103689 | C29: FORNECIMENTO E INSTALAÇÃO DE PLACA DE OBRA COM CHAPA GALVANIZADA E ESTRUTURA DE MADEIRA. AF_03/2022_PS | K29: m2 | L29: 505.63 | M29: 10 | N29: 0.27 | O29: =M29*(L29*N29+L29) -> 6421.501 | Q29: 103689 | R29: SINAPI | S29: FORNECIMENTO E INSTALAÇÃO DE PLACA DE OBRA COM CHAPA GALVANIZADA E ESTRUTURA DE MADEIRA. AF_03/2022_PS | T29: M2 | U29: 10 | V29: 315.25 | W29: 400.37 | X29: =U29*W29 -> 4003.7
B30: 98458 | C30: TAPUME COM COMPENSADO DE MADEIRA. AF_03/2024 | K30: m2 | L30: 97.86 | M30: 312.4 | N30: 0.27 | O30: =M30*(L30*N30+L30) -> 38825.759 | Q30: 98458 | R30: SINAPI | S30: TAPUME COM COMPENSADO DE MADEIRA. AF_05/2018 | T30: M2 | U30: 312.4 | V30: 152.03 | W30: 193.08 | X30: =U30*W30 -> 60318.192
B31: 98455 | C31: PAREDE DE MADEIRA COMPENSADA PARA CONSTRUÇÃO TEMPORÁRIA EM CHAPA DUPLA | K31: m2 | L31: 121.08 | M31: 54 | N31: 0.27 | O31: =M31*(L31*N31+L31) -> 8303.6664 | Q31: 93207 | R31: SINAPI | S31: EXECUÇÃO DE ESCRITÓRIO EM CANTEIRO DE OBRA EM CHAPA DE MADEIRA COMPENSADA, NÃO INCLUSO MOBILIÁRIO E EQUIPAMENTOS. AF_02/2016 | T31: M2 | U31: 20 | V31: 1228.65 | W31: 1560.39 | X31: =U31*W31 -> 31207.8
B32: 98460 | C32: PISO PARA CONSTRUÇÃO TEMPORÁRIA EM MADEIRA, SEM REAPROVEITAMENTO. AF_03/2024 | K32: m2 | L32: 73.49 | M32: 20 | N32: 0.27 | O32: =M32*(L32*N32+L32) -> 1866.646
B33: 94207 | C33: TELHAMENTO COM TELHA ONDULADA DE FIBROCIMENTO E = 6 MM, COM RECOBRIMENTO LATERAL DE 1/4 DE ONDA PARA TELHADO COM INCLINAÇÃO MAIOR QUE 10°, COM ATÉ 2 ÁGUAS, INCLUSO IÇAMENTO. AF_07/2019 | K33: m2 | L33: 47.55 | M33: 30 | N33: 0.27 | O33: =M33*(L33*N33+L33) -> 1811.655
C34: Locação de construção de edificação com gabarito de madeira | K34: m2 | L34: 0 | M34: 0 | N34: 0.27 | O34: =M34*(L34*N34+L34) -> 0 | Q34: 74077/3 | R34: SINAPI | S34: Locação de construção de edificação com gabarito de madeira | T34: M2 | U34: 0 | V34: 0 | W34: 0 | X34: =U34*W34 -> 0
B35: 101512 | C35: ENTRADA DE ENERGIA ELÉTRICA, AÉREA, TRIFÁSICA, COM CAIXA DE EMBUTIR, CABO DE 35 MM2 E DISJUNTOR DIN 50A (NÃO INCLUSO O POSTE DE CONCRETO). AF_07/2020 | K35: Unid. | L35: 2848.49 | M35: 1 | N35: 0.27 | O35: =M35*(L35*N35+L35) -> 3617.5823 | Q35: 73960/1 | R35: SINAPI | S35: Ligação provisória de energia elétrica em canteiro de obra | T35: UNID. | U35: 1 | V35: 1396.23 | W35: 1773.21 | X35: =U35*W35 -> 1773.21
C36: INSTALAÇÃO PROVISORIAS DE AGUA | K36: Unid. | L36: 0 | M36: 0 | N36: 0.27 | O36: =M36*(L36*N36+L36) -> 0 | Q36: C2851 | R36: SEINFRA | S36: INSTALAÇÕES PROVISORIAS DE AGUA | T36: UNID. | V36: 0 | W36: 0 | X36: =U36*W36 -> 0
C37: INSTALAÇÃO PROVISORIAS DE ESGOTO | K37: Unid. | L37: 0 | M37: 1 | N37: 0.27 | O37: =M37*(L37*N37+L37) -> 0 | Q37: C2849 | R37: SEINFRA | S37: INSTALAÇÕES PROVISORIAS DE ESGOTO | T37: UNID. | U37: 1 | V37: 500 | W37: 635 | X37: =U37*W37 -> 635
C38: SONDAGEM DE TERRENO [1 FURO A CADA 200M²] | K38: Unid. | L38: 0 | M38: 0 | N38: 0.27 | O38: =M38*(L38*N38+L38) -> 0 | Q38: C2290 | R38: SEINFRA | S38: SONDAGEM DE TERRENO [1 FURO A CADA 200M²] | T38: UNID. | U38: 0 | V38: 0 | W38: 0 | X38: =U38*W38 -> 0
B39: 98524 | C39: LIMPEZA MANUAL DE VEGETAÇÃO EM TERRENO COM ENXADA. AF_03/2024 | K39: m2 | L39: 6.49 | M39: 1230 | N39: 0.27 | O39: =M39*(L39*N39+L39) -> 10138.029 | Q39: 98524 | R39: SINAPI | S39: LIMPEZA MANUAL DE VEGETAÇÃO EM TERRENO COM ENXADA.AF_05/2018 | T39: M2 | U39: 1230 | V39: 3.71 | W39: 4.71 | X39: =U39*W39 -> 5793.3
B40: 2.00 | C40: MOVIMENTO DE TERRAS PARA FUNDAÇÃO | O40: =SUM(O41:O44) -> 0 | Q40: =B40 -> 2.00 | S40: =C40 -> MOVIMENTO DE TERRAS PARA FUNDAÇÃO
B41: 55835 | C41: Aterro apiloado em camadas de 0,20 m com material argiloso - arenoso (entre baldrames) | K41: M3 | L41: 0 | M41: 0 | N41: 0.27 | O41: =M41*(L41*N41+L41) -> 0 | Q41: 55835 | R41: SINAPI | S41: Aterro apiloado em camadas de 0,20 m com material argiloso - arenoso (entre baldrames) | T41: M3 | U41: 0 | V41: 0 | W41: 0 | X41: =U41*W41 -> 0
B42: 73965/10 | C42: Escavação manual de valas em qualquer terreno exceto rocha até h=1,50 m | K42: M3 | L42: 0 | M42: 0 | N42: 0.27 | O42: =M42*(L42*N42+L42) -> 0 | Q42: 73965/10 | R42: SINAPI | S42: Escavação manual de valas em qualquer terreno exceto rocha até h=1,50 m | T42: M3 | U42: 0 | V42: 0 | W42: 0 | X42: =U42*W42 -> 0
B43: 79483 | C43: Regularização e compactação do fundo de valas | K43: M2 | L43: 0 | M43: 0 | N43: 0.27 | O43: =M43*(L43*N43+L43) -> 0 | Q43: 79483 | R43: SINAPI | S43: Regularização e compactação do fundo de valas | T43: M2 | U43: 0 | V43: 0 | W43: 0 | X43: =U43*W43 -> 0
B44: 53527 | C44: Reaterro apiloado de vala com material da obra | K44: M3 | L44: 0 | M44: 0 | N44: 0.27 | O44: =M44*(L44*N44+L44) -> 0 | Q44: 53527 | R44: SINAPI | S44: Reaterro apiloado de vala com material da obra | T44: M3 | U44: 0 | V44: 0 | W44: 0 | X44: =U44*W44 -> 0
B45: 3.00 | C45: FUNDÇÕES | O45: =SUM(O46:O56) -> 0 | Q45: =B45 -> 3.00 | S45: =C45 -> FUNDÇÕES
C46: CONCRETO ARMADO PARA FUNDAÇÕES - SAPATAS | S46: =C46 -> CONCRETO ARMADO PARA FUNDAÇÕES - SAPATAS
B47: 73907/6 | C47: Lastro de concreto magro (e=3,0 cm) - preparo mecânico | K47: m2 | L47: 0 | M47: 0 | N47: 0.27 | O47: =M47*(L47*N47+L47) -> 0 | Q47: 73907/6 | R47: SINAPI | S47: Lastro de concreto magro (e=3,0 cm) - preparo mecânico | T47: m2 | U47: 0 | X47: =U47*W47 -> 0
B48: 5651 | C48: Forma de madeira comum para Fundações - reaproveitamento 5X | K48: m2 | L48: 0 | M48: 0 | N48: 0.27 | O48: =M48*(L48*N48+L48) -> 0 | Q48: 5651 | R48: SINAPI | S48: Forma de madeira comum para Fundações - reaproveitamento 5X | T48: m2 | U48: 0 | V48: 0 | W48: 0 | X48: =U48*W48 -> 0
B49: 74254/2 | C49: Armação aço CA-50, Diam. 6,3 (1/4) á 12,5mm(1/2) -Fornecimento/corte perda de 10%) / dobra / colocação. | K49: kg | L49: 0 | M49: 0 | N49: 0.27 | O49: =M49*(L49*N49+L49) -> 0 | Q49: 74254/2 | R49: SINAPI | S49: Armação aço CA-50, Diam. 6,3 (1/4) á 12,5mm(1/2) -Fornecimento/corte perda de 10%) / dobra / colocação. | T49: kg | U49: 0 | V49: 0 | W49: 0 | X49: =U49*W49 -> 0
B50: 73942/2 | C50: Armação de aço CA-60 Diam. 3,4 a 6,0mm-Fornecimento/corte perda de 10%) / dobra / colocação. | K50: kg | L50: 0 | M50: 0 | N50: 0.27 | O50: =M50*(L50*N50+L50) -> 0 | Q50: 73942/2 | R50: SINAPI | S50: Armação de aço CA-60 Diam. 3,4 a 6,0mm-Fornecimento/corte perda de 10%) / dobra / colocação. | T50: kg | U50: 0 | V50: 0 | W50: 0 | X50: =U50*W50 -> 0
B51: 74138/3 | C51: Concreto para Fundação fck=25MPa, incluindo preparo, lançamento, adensamento. | K51: m3 | L51: 0 | M51: 0 | N51: 0.27 | O51: =M51*(L51*N51+L51) -> 0 | Q51: 74138/3 | R51: SINAPI | S51: Concreto para Fundação fck=25MPa, incluindo preparo, lançamento, adensamento. | T51: m3 | U51: 0 | V51: 0 | W51: 0 | X51: =U51*W51 -> 0
C52: CONCRETO ARMADO PARA FUNDAÇÕES - VIGAS BALDRAMES | S52: =C52 -> CONCRETO ARMADO PARA FUNDAÇÕES - VIGAS BALDRAMES
B53: 5651 | C53: Forma de madeira comum para Fundções - reaproveitamento 5X | K53: M2 | L53: 0 | M53: 0 | N53: 0.27 | O53: =M53*(L53*N53+L53) -> 0 | Q53: 5651 | R53: SINAPI | S53: Forma de madeira comum para Fundções - reaproveitamento 5X | T53: M2 | U53: 0 | V53: 0 | W53: 0 | X53: =U53*W53 -> 0
...

Sheet CFF - REFERENCIAL(2026)
A10: CFF - CRONOGRAMA FISICO-FIANCEIRO | S10: CFF - CRONOGRAMA FISICO-FIANCEIRO
A11: CRONOGRAMA Base para Licitação | S11: CRONOGRAMA Base para Licitação
A13: AÇÃO / MODALIDADE | D13: OBJETO | M13: MUNICÍPIO / UF | S13: AÇÃO / MODALIDADE | X13: =D13 -> OBJETO | AH13: MUNICÍPIO / UF
A14: Projeto Padrão FNDE - Quadra coberta com vestiario (PAC 2 - 001/2013) | D14: Repactuação de obra inacabada - CONSTRUÇÃO DE QUADRA COBERTA COM VESTIARIOS - EMEB MARIA FERNANDA LOPES PIFFER | M14: BEBEDOURO SP | S14: Projeto Padrão FNDE - Quadra coberta com vestiario (PAC 2 - 001/2013) | X14: =D14 -> Repactuação de obra inacabada - CONSTRUÇÃO DE QUADRA COBERTA COM VESTIARIOS - EMEB MARIA FERNANDA LOPES PIFFER | AH14: BEBEDOURO SP
A16: PREPONENTE / TOMADOR | E16: LOCALIDADE / ENDEREÇO | S16: PREPONENTE / TOMADOR | Z16: LOCALIDADE / ENDEREÇO
A17: PREFEITURA MUNICIPAL DE BEBEDOURO SP | E17: RUA DANTE CASSANO, Nº 2736 - RESIDENCIAL ANTONIA SANTAELLA, CEP 14.711-351 | S17: PREFEITURA MUNICIPAL DE BEBEDOURO SP | Z17: RUA DANTE CASSANO, Nº 2736 - RESIDENCIAL ANTONIA SANTAELLA, CEP 14.711-351
D20: Á EXECUTAR | S20: Á EXECUTAR | AI20: TOTAL
A21: Código Atividade | B21: Descrição da Atividade | C21: Valor Orçado | D21: % | E21: Mês | F21: 1 | G21: % | H21: Mês | I21: =+F21+1 -> 2 | J21: % | K21: Mês | L21: =+I21+1 -> 3 | M21: % | N21: Mês | O21: =+L21+1 -> 4 | P21: % | Q21: Mês | R21: =+O21+1 -> 5 | S21: % | T21: Mês | U21: =+R21+1 -> 6 | V21: % | W21: Mês | X21: =+U21+1 -> 7 | Y21: % | Z21: Mês | AA21: =+X21+1 -> 8 | AB21: % | AC21: Mês | AD21: =+AA21+1 -> 9 | AE21: % | AF21: Mês | AG21: =+AD21+1 -> 10 | AH21: %
A22: ='PO - REFERENCIAL (2026)'!B286 -> 1.00 | B22: SERVIÇO PRELIMINARES | C22: ='PO - REFERENCIAL (2026)'!O286 -> 70984.839 | D22: 0.3 | E22: =D22*C22 -> 21295.452 | G22: 0.4 | H22: =G22*C22 -> 28393.936 | J22: 0.3 | K22: =J22*C22 -> 21295.452 | M22: 0 | N22: =M22*C22 -> 0 | P22: 0 | Q22: =P22*C22 -> 0 | S22: 0 | T22: =S22*C22 -> 0 | V22: 0 | W22: =V22*C22 -> 0 | Y22: 0 | Z22: =Y22*C22 -> 0 | AB22: 0 | AC22: =AB22*C22 -> 0 | AE22: 0 | AF22: =AE22*C22 -> 0 | AH22: =D22+G22+J22+M22+P22+S22+V22+Y22+AB22+AE22 -> 1 | AI22: =E22+H22+K22+N22+Q22+T22+W22+Z22+AC22+AF22 -> 70984.839
A23: ='PO - REFERENCIAL (2026)'!B287 -> 2.00 | B23: MOVIMENTO DE TERRAS PARA FUNDAÇÃO | C23: ='PO - REFERENCIAL (2026)'!O287 -> 0 | D23: 0 | E23: =D23*C23 -> 0 | G23: 0 | H23: =G23*C23 -> 0 | J23: 0 | K23: =J23*C23 -> 0 | M23: 0 | N23: =M23*C23 -> 0 | P23: 0 | Q23: =P23*C23 -> 0 | S23: 0 | T23: =S23*C23 -> 0 | V23: 0 | W23: =V23*C23 -> 0 | Y23: 0 | Z23: =Y23*C23 -> 0 | AB23: 0 | AC23: =AB23*C23 -> 0 | AE23: 0 | AF23: =AE23*C23 -> 0 | AH23: =D23+G23+J23+M23+P23+S23+V23+Y23+AB23+AE23 -> 0 | AI23: =E23+H23+K23+N23+Q23+T23+W23+Z23+AC23+AF23 -> 0
A24: ='PO - REFERENCIAL (2026)'!B288 -> 3.00 | B24: FUNDÇÕES | C24: ='PO - REFERENCIAL (2026)'!O288 -> 0 | D24: 0 | E24: =D24*C24 -> 0 | G24: 0 | H24: =G24*C24 -> 0 | J24: 0 | K24: =J24*C24 -> 0 | M24: 0 | N24: =M24*C24 -> 0 | P24: 0 | Q24: =P24*C24 -> 0 | S24: 0 | T24: =S24*C24 -> 0 | V24: 0 | W24: =V24*C24 -> 0 | Y24: 0 | Z24: =Y24*C24 -> 0 | AB24: 0 | AC24: =AB24*C24 -> 0 | AE24: 0 | AF24: =AE24*C24 -> 0 | AH24: =D24+G24+J24+M24+P24+S24+V24+Y24+AB24+AE24 -> 0 | AI24: =E24+H24+K24+N24+Q24+T24+W24+Z24+AC24+AF24 -> 0
A25: ='PO - REFERENCIAL (2026)'!B289 -> 4.00 | B25: SUPERESTRUTURA | C25: ='PO - REFERENCIAL (2026)'!O289 -> 55581.831 | D25: 0.3 | E25: =D25*C25 -> 16674.549 | G25: 0.5 | H25: =G25*C25 -> 27790.915 | J25: 0.2 | K25: =J25*C25 -> 11116.366 | M25: 0 | N25: =M25*C25 -> 0 | P25: 0 | Q25: =P25*C25 -> 0 | S25: 0 | T25: =S25*C25 -> 0 | V25: 0 | W25: =V25*C25 -> 0 | Y25: 0 | Z25: =Y25*C25 -> 0 | AB25: 0 | AC25: =AB25*C25 -> 0 | AE25: 0 | AF25: =AE25*C25 -> 0 | AH25: =D25+G25+J25+M25+P25+S25+V25+Y25+AB25+AE25 -> 1 | AI25: =E25+H25+K25+N25+Q25+T25+W25+Z25+AC25+AF25 -> 55581.831
A26: ='PO - REFERENCIAL (2026)'!B290 -> 5.00 | B26: SISTEMA DE VEDAÇÃO VERTICAL INTERNO E EXTERNO [PAREDES] | C26: ='PO - REFERENCIAL (2026)'!O290 -> 70233.323 | D26: 0.2 | E26: =D26*C26 -> 14046.665 | G26: 0.2 | H26: =G26*C26 -> 14046.665 | J26: 0.2 | K26: =J26*C26 -> 14046.665 | M26: 0.4 | N26: =M26*C26 -> 28093.329 | P26: 0 | Q26: =P26*C26 -> 0 | S26: 0 | T26: =S26*C26 -> 0 | V26: 0 | W26: =V26*C26 -> 0 | Y26: 0 | Z26: =Y26*C26 -> 0 | AB26: 0 | AC26: =AB26*C26 -> 0 | AE26: 0 | AF26: =AE26*C26 -> 0 | AH26: =D26+G26+J26+M26+P26+S26+V26+Y26+AB26+AE26 -> 1 | AI26: =E26+H26+K26+N26+Q26+T26+W26+Z26+AC26+AF26 -> 70233.323
A27: ='PO - REFERENCIAL (2026)'!B291 -> 6.00 | B27: ESQUADRIAS | C27: ='PO - REFERENCIAL (2026)'!O291 -> 25043.369 | D27: 0 | E27: =D27*C27 -> 0 | G27: 0 | H27: =G27*C27 -> 0 | J27: 0.2 | K27: =J27*C27 -> 5008.6739 | M27: 0.2 | N27: =M27*C27 -> 5008.6739 | P27: 0.2 | Q27: =P27*C27 -> 5008.6739 | S27: 0.4 | T27: =S27*C27 -> 10017.348 | V27: 0 | W27: =V27*C27 -> 0 | Y27: 0 | Z27: =Y27*C27 -> 0 | AB27: 0 | AC27: =AB27*C27 -> 0 | AE27: 0 | AF27: =AE27*C27 -> 0 | AH27: =D27+G27+J27+M27+P27+S27+V27+Y27+AB27+AE27 -> 1 | AI27: =E27+H27+K27+N27+Q27+T27+W27+Z27+AC27+AF27 -> 25043.369
A28: ='PO - REFERENCIAL (2026)'!B292 -> 7.00 | B28: SISTEMA DE COBERTURA | C28: ='PO - REFERENCIAL (2026)'!O292 -> 0 | D28: 0 | E28: =D28*C28 -> 0 | G28: 0 | H28: =G28*C28 -> 0 | J28: 0 | K28: =J28*C28 -> 0 | M28: 0 | N28: =M28*C28 -> 0 | P28: 0 | Q28: =P28*C28 -> 0 | S28: 0 | T28: =S28*C28 -> 0 | V28: 0 | W28: =V28*C28 -> 0 | Y28: 0 | Z28: =Y28*C28 -> 0 | AB28: 0 | AC28: =AB28*C28 -> 0 | AE28: 0 | AF28: =AE28*C28 -> 0 | AH28: =D28+G28+J28+M28+P28+S28+V28+Y28+AB28+AE28 -> 0 | AI28: =E28+H28+K28+N28+Q28+T28+W28+Z28+AC28+AF28 -> 0
A29: ='PO - REFERENCIAL (2026)'!B293 -> 8.00 | B29: IMPERMEABILIZAÇÃO | C29: ='PO - REFERENCIAL (2026)'!O293 -> 8111.1385 | D29: 0.5 | E29: =D29*C29 -> 4055.5692 | G29: 0.5 | H29: =G29*C29 -> 4055.5692 | J29: 0 | K29: =J29*C29 -> 0 | M29: 0 | N29: =M29*C29 -> 0 | P29: 0 | Q29: =P29*C29 -> 0 | S29: 0 | T29: =S29*C29 -> 0 | V29: 0 | W29: =V29*C29 -> 0 | Y29: 0 | Z29: =Y29*C29 -> 0 | AB29: 0 | AC29: =AB29*C29 -> 0 | AE29: 0 | AF29: =AE29*C29 -> 0 | AH29: =D29+G29+J29+M29+P29+S29+V29+Y29+AB29+AE29 -> 1 | AI29: =E29+H29+K29+N29+Q29+T29+W29+Z29+AC29+AF29 -> 8111.1385
A30: ='PO - REFERENCIAL (2026)'!B294 -> 9.00 | B30: REVESTIMENTOS INTERNOS E EXTERNOS | C30: ='PO - REFERENCIAL (2026)'!O294 -> 116811.16 | D30: 0 | E30: =D30*C30 -> 0 | G30: 0.3 | H30: =G30*C30 -> 35043.347 | J30: 0.3 | K30: =J30*C30 -> 35043.347 | M30: 0.3 | N30: =M30*C30 -> 35043.347 | P30: 0.1 | Q30: =P30*C30 -> 11681.116 | S30: 0 | T30: =S30*C30 -> 0 | V30: 0 | W30: =V30*C30 -> 0 | Y30: 0 | Z30: =Y30*C30 -> 0 | AB30: 0 | AC30: =AB30*C30 -> 0 | AE30: 0 | AF30: =AE30*C30 -> 0 | AH30: =D30+G30+J30+M30+P30+S30+V30+Y30+AB30+AE30 -> 1 | AI30: =E30+H30+K30+N30+Q30+T30+W30+Z30+AC30+AF30 -> 116811.16
A31: ='PO - REFERENCIAL (2026)'!B295 -> 10.0 | B31: SISTEMAS DE PISOS INTERNOS E EXTERNOS [PAVIMENTAÇÃO] | C31: ='PO - REFERENCIAL (2026)'!O295 -> 179213.57 | D31: 0 | E31: =D31*C31 -> 0 | G31: 0 | H31: =G31*C31 -> 0 | J31: 0 | K31: =J31*C31 -> 0 | M31: 0.3 | N31: =M31*C31 -> 53764.072 | P31: 0.3 | Q31: =P31*C31 -> 53764.072 | S31: 0.3 | T31: =S31*C31 -> 53764.072 | V31: 0.1 | W31: =V31*C31 -> 17921.357 | Y31: 0 | Z31: =Y31*C31 -> 0 | AB31: 0 | AC31: =AB31*C31 -> 0 | AE31: 0 | AF31: =AE31*C31 -> 0 | AH31: =D31+G31+J31+M31+P31+S31+V31+Y31+AB31+AE31 -> 1 | AI31: =E31+H31+K31+N31+Q31+T31+W31+Z31+AC31+AF31 -> 179213.57
A32: ='PO - REFERENCIAL (2026)'!B296 -> 11.0 | B32: PINTURA | C32: ='PO - REFERENCIAL (2026)'!O296 -> 115969.65 | D32: 0 | E32: =D32*C32 -> 0 | G32: 0 | H32: =G32*C32 -> 0 | J32: 0 | K32: =J32*C32 -> 0 | M32: 0 | N32: =M32*C32 -> 0 | P32: 0.2 | Q32: =P32*C32 -> 23193.931 | S32: 0.2 | T32: =S32*C32 -> 23193.931 | V32: 0.3 | W32: =V32*C32 -> 34790.896 | Y32: 0.1 | Z32: =Y32*C32 -> 11596.965 | AB32: 0.1 | AC32: =AB32*C32 -> 11596.965 | AE32: 0.1 | AF32: =AE32*C32 -> 11596.965 | AH32: =D32+G32+J32+M32+P32+S32+V32+Y32+AB32+AE32 -> 1 | AI32: =E32+H32+K32+N32+Q32+T32+W32+Z32+AC32+AF32 -> 115969.65
A33: ='PO - REFERENCIAL (2026)'!B297 -> 12.0 | B33: INSTALAÇÕES HIDRAULICAS | C33: ='PO - REFERENCIAL (2026)'!O297 -> 11877.472 | D33: 0 | E33: =D33*C33 -> 0 | G33: 0.1 | H33: =G33*C33 -> 1187.7472 | J33: 0.1 | K33: =J33*C33 -> 1187.7472 | M33: 0.1 | N33: =M33*C33 -> 1187.7472 | P33: 0.1 | Q33: =P33*C33 -> 1187.7472 | S33: 0.1 | T33: =S33*C33 -> 1187.7472 | V33: 0.2 | W33: =V33*C33 -> 2375.4944 | Y33: 0.2 | Z33: =Y33*C33 -> 2375.4944 | AB33: 0.1 | AC33: =AB33*C33 -> 1187.7472 | AE33: 0 | AF33: =AE33*C33 -> 0 | AH33: =D33+G33+J33+M33+P33+S33+V33+Y33+AB33+AE33 -> 1 | AI33: =E33+H33+K33+N33+Q33+T33+W33+Z33+AC33+AF33 -> 11877.472
... A41: ='PO - REFERENCIAL (2026)'!B305 -> 20.0 | B41: SERVIÇOS FINAIS | C41: ='PO - REFERENCIAL (2026)'!O305 -> 24528.628 | D41: 0 | E41: =D41*C41 -> 0 | G41: 0 | H41: =G41*C41 -> 0 | J41: 0 | K41: =J41*C41 -> 0 | M41: 0 | N41: =M41*C41 -> 0 | P41: 0 | Q41: =P41*C41 -> 0 | S41: 0 | T41: =S41*C41 -> 0 | V41: 0 | W41: =V41*C41 -> 0 | Y41: 0 | Z41: =Y41*C41 -> 0 | AB41: 0 | AC41: =AB41*C41 -> 0 | AE41: 1 | AF41: =AE41*C41 -> 24528.628 | AH41: =D41+G41+J41+M41+P41+S41+V41+Y41+AB41+AE41 -> 1 | AI41: =E41+H41+K41+N41+Q41+T41+W41+Z41+AC41+AF41 -> 24528.628
A42: VALOR TOTAL DO ORÇAMENTO: | C42: =SUM(C22:C41) -> 822351.63 | D42: =E42*100%/C42 -> 0.06818523 | E42: =SUM(E22:F41) -> 56072.235 | G42: =H42*100%/C42 -> 0.14464467 | H42: =SUM(H22:I41) -> 118948.78 | J42: =K42*100%/C42 -> 0.11689507 | K42: =SUM(K22:L41) -> 96128.855 | M42: =N42*100%/C42 -> 0.15994104 | N42: =SUM(N22:O41) -> 131527.77 | P42: =Q42*100%/C42 -> 0.1255742 | Q42: =SUM(Q22:R41) -> 103266.14 | S42: =T42*100%/C42 -> 0.11746034 | T42: =SUM(T22:U41) -> 96593.703 | V42: =W42*100%/C42 -> 0.10745103 | W42: =SUM(W22:X41) -> 88362.533 | Y42: =Z42*100%/C42 -> 0.053078266 | Z42: =SUM(Z22:AA41) -> 43648.998 | AB42: =AC42*100%/C42 -> 0.048173682 | AC42: =SUM(AC22:AD41) -> 39615.706 | AE42: =AF42*100%/C42 -> 0.058596464 | AF42: =SUM(AF22:AG41) -> 48186.897 | AH42: =D42+G42+J42+M42+P42+S42+V42+Y42+AB42+AE42 -> 1 | AI42: =E42+H42+K42+N42+Q42+T42+W42+Z42+AC42+AF42 -> 822351.63
G43: =G42+D42 -> 0.2128299 | H43: =H42+E42 -> 175021.02 | J43: =J42+G43 -> 0.32972498 | K43: =K42+H43 -> 271149.87 | M43: =M42+J43 -> 0.48966602 | N43: =N42+K43 -> 402677.65 | P43: =P42+M43 -> 0.61524021 | Q43: =Q42+N43 -> 505943.79 | S43: =S42+P43 -> 0.73270055 | T43: =T42+Q43 -> 602537.5 | V43: =V42+S43 -> 0.84015159 | W43: =W42+T43 -> 690900.03 | Y43: =Y42+V43 -> 0.89322985 | Z43: =Z42+W43 -> 734549.03 | AB43: =AB42+Y43 -> 0.94140354 | AC43: =AC42+Z43 -> 774164.73 | AE43: =AE42+AB43 -> 1 | AF43: =AF42+AC43 -> 822351.63

Sheet PO - FORNECEDOR
B7: PO - PLANILHA ORÇAMENTARIA
B8: Orçamento Base para Licitação
B10: AÇÃO / MODALIDADE | F10: OBJETO
B11: Projeto Padrão FNDE - Quadra coberta com vestiario (PAC 2 - 001/2013) | F11: Repactuação de obra inacabada - CONSTRUÇÃO DE QUADRA COBERTA COM VESTIARIOS - EMEB MARIA FERNANDA LOPES PIFFER
Q13: PLANILHA ORÇAMENTÁRIA DE REPACTUAÇÃO DE OBRA INACABADA
B14: PREPONENTE / TOMADOR | G14: LOCALIDADE / ENDEREÇO
B15: PREFEITURA MUNICIPAL DE BEBEDOURO SP | G15: RUA DANTE CASSANO, Nº 2736 - RESIDENCIAL ANTONIA SANTAELLA, CEP 14.711-351
B17: SINAPI - Sistema Nacional de Pesquisa de Custos e Índices da Construção Civil | L17: VALOR FNDE | O17: 536881 | S17: SiNAPi - 01/2024 | T17: BDI = 27,0000%
B18: RELATÓRIO DE CUSTOS DE COMPOSIÇÕES | H18: Mês de Referência: 01/2025 | L18: SALDO DISPONIVEL NA CONTA BANCARIA | O18: 27877.79 | S18: ENVIO EM 23/01/2025 | T18: 622167.09
B19: Localidade: SAO PAULO - SP | F19: Data de emissão: 01/10/2025 | L19: VALOR CONTRAPARTIDA | O19: =O20-(O17+O18) -> -564758.79
B20: BDI SEM desoneração (Fórmula Acórdão TCU): | G20: 0 | L20: VALOR TOTAL DA OBRA | O20: =SUM(O23:O279)/2 -> 0
Q21: SERVIÇOS DA NOVA PACTUAÇÃO
B22: Código | C22: Descrição da Composição | K22: Unid. | L22: COM desoneração | M22: QUANT. | N22: BDI % | O22: VALOR TOTAL + BDI | Q22: CÓDIGO | R22: FONTE | S22: DESCRIÇÃO DOS SERVIÇOS | T22: UNID. | U22: QUANT. | V22: $ UNIT. S/ BDI | W22: $ UNIT. C/ BDI | X22: VALOR TOTAL
B23: 1.00 | C23: SERVIÇO PRELIMINARES | O23: =SUM(O24:O34) -> 0 | Q23: =B23 -> 1.00 | S23: =C23 -> SERVIÇO PRELIMINARES
B24: 103689 | C24: FORNECIMENTO E INSTALAÇÃO DE PLACA DE OBRA COM CHAPA GALVANIZADA E ESTRUTURA DE MADEIRA. AF_03/2022_PS | K24: m2 | L24: 0 | M24: 10 | N24: 0 | O24: =M24*(L24*N24+L24) -> 0 | Q24: 103689 | R24: SINAPI | S24: FORNECIMENTO E INSTALAÇÃO DE PLACA DE OBRA COM CHAPA GALVANIZADA E ESTRUTURA DE MADEIRA. AF_03/2022_PS | T24: M2 | U24: 10 | V24: 315.25 | W24: 400.37 | X24: =U24*W24 -> 4003.7
B25: 98458 | C25: TAPUME COM COMPENSADO DE MADEIRA. AF_03/2024 | K25: m2 | L25: 0 | M25: 312.4 | N25: 0 | O25: =M25*(L25*N25+L25) -> 0 | Q25: 98458 | R25: SINAPI | S25: TAPUME COM COMPENSADO DE MADEIRA. AF_05/2018 | T25: M2 | U25: 312.4 | V25: 152.03 | W25: 193.08 | X25: =U25*W25 -> 60318.192
B26: 98455 | C26: PAREDE DE MADEIRA COMPENSADA PARA CONSTRUÇÃO TEMPORÁRIA EM CHAPA DUPLA | K26: m2 | L26: 0 | M26: 54 | N26: 0 | O26: =M26*(L26*N26+L26) -> 0 | Q26: 93207 | R26: SINAPI | S26: EXECUÇÃO DE ESCRITÓRIO EM CANTEIRO DE OBRA EM CHAPA DE MADEIRA COMPENSADA, NÃO INCLUSO MOBILIÁRIO E EQUIPAMENTOS. AF_02/2016 | T26: M2 | U26: 20 | V26: 1228.65 | W26: 1560.39 | X26: =U26*W26 -> 31207.8
B27: 98460 | C27: PISO PARA CONSTRUÇÃO TEMPORÁRIA EM MADEIRA, SEM REAPROVEITAMENTO. AF_03/2024 | K27: m2 | L27: 0 | M27: 20 | N27: 0 | O27: =M27*(L27*N27+L27) -> 0
B28: 94207 | C28: TELHAMENTO COM TELHA ONDULADA DE FIBROCIMENTO E = 6 MM, COM RECOBRIMENTO LATERAL DE 1/4 DE ONDA PARA TELHADO COM INCLINAÇÃO MAIOR QUE 10°, COM ATÉ 2 ÁGUAS, INCLUSO IÇAMENTO. AF_07/2019 | K28: m2 | L28: 0 | M28: 30 | N28: 0 | O28: =M28*(L28*N28+L28) -> 0
C29: Locação de construção de edificação com gabarito de madeira | K29: m2 | L29: 0 | M29: 0 | N29: 0.27 | O29: =M29*(L29*N29+L29) -> 0 | Q29: 74077/3 | R29: SINAPI | S29: Locação de construção de edificação com gabarito de madeira | T29: M2 | U29: 0 | V29: 0 | W29: 0 | X29: =U29*W29 -> 0
B30: 101512 | C30: ENTRADA DE ENERGIA ELÉTRICA, AÉREA, TRIFÁSICA, COM CAIXA DE EMBUTIR, CABO DE 35 MM2 E DISJUNTOR DIN 50A (NÃO INCLUSO O POSTE DE CONCRETO). AF_07/2020 | K30: Unid. | L30: 0 | M30: 1 | N30: 0 | O30: =M30*(L30*N30+L30) -> 0 | Q30: 73960/1 | R30: SINAPI | S30: Ligação provisória de energia elétrica em canteiro de obra | T30: UNID. | U30: 1 | V30: 1396.23 | W30: 1773.21 | X30: =U30*W30 -> 1773.21
C31: INSTALAÇÃO PROVISORIAS DE AGUA | K31: Unid. | L31: 0 | M31: 0 | N31: 0.27 | O31: =M31*(L31*N31+L31) -> 0 | Q31: C2851 | R31: SEINFRA | S31: INSTALAÇÕES PROVISORIAS DE AGUA | T31: UNID. | V31: 0 | W31: 0 | X31: =U31*W31 -> 0
C32: INSTALAÇÃO PROVISORIAS DE ESGOTO | K32: Unid. | L32: 0 | M32: 1 | N32: 0.27 | O32: =M32*(L32*N32+L32) -> 0 | Q32: C2849 | R32: SEINFRA | S32: INSTALAÇÕES PROVISORIAS DE ESGOTO | T32: UNID. | U32: 1 | V32: 500 | W32: 635 | X32: =U32*W32 -> 635
C33: SONDAGEM DE TERRENO [1 FURO A CADA 200M²] | K33: Unid. | L33: 0 | M33: 0 | N33: 0.27 | O33: =M33*(L33*N33+L33) -> 0 | Q33: C2290 | R33: SEINFRA | S33: SONDAGEM DE TERRENO [1 FURO A CADA 200M²] | T33: UNID. | U33: 0 | V33: 0 | W33: 0 | X33: =U33*W33 -> 0
B34: 98524 | C34: LIMPEZA MANUAL DE VEGETAÇÃO EM TERRENO COM ENXADA. AF_03/2024 | K34: m2 | L34: 0 | M34: 1230 | N34: 0 | O34: =M34*(L34*N34+L34) -> 0 | Q34: 98524 | R34: SINAPI | S34: LIMPEZA MANUAL DE VEGETAÇÃO EM TERRENO COM ENXADA.AF_05/2018 | T34: M2 | U34: 1230 | V34: 3.71 | W34: 4.71 | X34: =U34*W34 -> 5793.3
B35: 2.00 | C35: MOVIMENTO DE TERRAS PARA FUNDAÇÃO | O35: =SUM(O36:O39) -> 0 | Q35: =B35 -> 2.00 | S35: =C35 -> MOVIMENTO DE TERRAS PARA FUNDAÇÃO
B36: 55835 | C36: Aterro apiloado em camadas de 0,20 m com material argiloso - arenoso (entre baldrames) | K36: M3 | L36: 0 | M36: 0 | N36: 0.27 | O36: =M36*(L36*N36+L36) -> 0 | Q36: 55835 | R36: SINAPI | S36: Aterro apiloado em camadas de 0,20 m com material argiloso - arenoso (entre baldrames) | T36: M3 | U36: 0 | V36: 0 | W36: 0 | X36: =U36*W36 -> 0
B37: 73965/10 | C37: Escavação manual de valas em qualquer terreno exceto rocha até h=1,50 m | K37: M3 | L37: 0 | M37: 0 | N37: 0.27 | O37: =M37*(L37*N37+L37) -> 0 | Q37: 73965/10 | R37: SINAPI | S37: Escavação manual de valas em qualquer terreno exceto rocha até h=1,50 m | T37: M3 | U37: 0 | V37: 0 | W37: 0 | X37: =U37*W37 -> 0
B38: 79483 | C38: Regularização e compactação do fundo de valas | K38: M2 | L38: 0 | M38: 0 | N38: 0.27 | O38: =M38*(L38*N38+L38) -> 0 | Q38: 79483 | R38: SINAPI | S38: Regularização e compactação do fundo de valas | T38: M2 | U38: 0 | V38: 0 | W38: 0 | X38: =U38*W38 -> 0
B39: 53527 | C39: Reaterro apiloado de vala com material da obra | K39: M3 | L39: 0 | M39: 0 | N39: 0.27 | O39: =M39*(L39*N39+L39) -> 0 | Q39: 53527 | R39: SINAPI | S39: Reaterro apiloado de vala com material da obra | T39: M3 | U39: 0 | V39: 0 | W39: 0 | X39: =U39*W39 -> 0
B40: 3.00 | C40: FUNDÇÕES | O40: =SUM(O41:O51) -> 0 | Q40: =B40 -> 3.00 | S40: =C40 -> FUNDÇÕES
C41: CONCRETO ARMADO PARA FUNDAÇÕES - SAPATAS | S41: =C41 -> CONCRETO ARMADO PARA FUNDAÇÕES - SAPATAS
B42: 73907/6 | C42: Lastro de concreto magro (e=3,0 cm) - preparo mecânico | K42: m2 | L42: 0 | M42: 0 | N42: 0.27 | O42: =M42*(L42*N42+L42) -> 0 | Q42: 73907/6 | R42: SINAPI | S42: Lastro de concreto magro (e=3,0 cm) - preparo mecânico | T42: m2 | U42: 0 | X42: =U42*W42 -> 0
B43: 5651 | C43: Forma de madeira comum para Fundações - reaproveitamento 5X | K43: m2 | L43: 0 | M43: 0 | N43: 0.27 | O43: =M43*(L43*N43+L43) -> 0 | Q43: 5651 | R43: SINAPI | S43: Forma de madeira comum para Fundações - reaproveitamento 5X | T43: m2 | U43: 0 | V43: 0 | W43: 0 | X43: =U43*W43 -> 0
B44: 74254/2 | C44: Armação aço CA-50, Diam. 6,3 (1/4) á 12,5mm(1/2) -Fornecimento/corte perda de 10%) / dobra / colocação. | K44: kg | L44: 0 | M44: 0 | N44: 0.27 | O44: =M44*(L44*N44+L44) -> 0 | Q44: 74254/2 | R44: SINAPI | S44: Armação aço CA-50, Diam. 6,3 (1/4) á 12,5mm(1/2) -Fornecimento/corte perda de 10%) / dobra / colocação. | T44: kg | U44: 0 | V44: 0 | W44: 0 | X44: =U44*W44 -> 0
B45: 73942/2 | C45: Armação de aço CA-60 Diam. 3,4 a 6,0mm-Fornecimento/corte perda de 10%) / dobra / colocação. | K45: kg | L45: 0 | M45: 0 | N45: 0.27 | O45: =M45*(L45*N45+L45) -> 0 | Q45: 73942/2 | R45: SINAPI | S45: Armação de aço CA-60 Diam. 3,4 a 6,0mm-Fornecimento/corte perda de 10%) / dobra / colocação. | T45: kg | U45: 0 | V45: 0 | W45: 0 | X45: =U45*W45 -> 0
B46: 74138/3 | C46: Concreto para Fundação fck=25MPa, incluindo preparo, lançamento, adensamento. | K46: m3 | L46: 0 | M46: 0 | N46: 0.27 | O46: =M46*(L46*N46+L46) -> 0 | Q46: 74138/3 | R46: SINAPI | S46: Concreto para Fundação fck=25MPa, incluindo preparo, lançamento, adensamento. | T46: m3 | U46: 0 | V46: 0 | W46: 0 | X46: =U46*W46 -> 0
C47: CONCRETO ARMADO PARA FUNDAÇÕES - VIGAS BALDRAMES | S47: =C47 -> CONCRETO ARMADO PARA FUNDAÇÕES - VIGAS BALDRAMES
B48: 5651 | C48: Forma de madeira comum para Fundções - reaproveitamento 5X | K48: M2 | L48: 0 | M48: 0 | N48: 0.27 | O48: =M48*(L48*N48+L48) -> 0 | Q48: 5651 | R48: SINAPI | S48: Forma de madeira comum para Fundções - reaproveitamento 5X | T48: M2 | U48: 0 | V48: 0 | W48: 0 | X48: =U48*W48 -> 0
B49: 74254/2 | C49: Armação aço CA-50, Diam. 6,3 (1/4) á 12,5mm(1/2) -Fornecimento/corte perda de 10%) / dobra / colocação. | K49: KG | L49: 0 | M49: 0 | N49: 0.27 | O49: =M49*(L49*N49+L49) -> 0 | Q49: 74254/2 | R49: SINAPI | S49: Armação aço CA-50, Diam. 6,3 (1/4) á 12,5mm(1/2) -Fornecimento/corte perda de 10%) / dobra / colocação. | T49: KG | U49: 0 | V49: 0 | W49: 0 | X49: =U49*W49 -> 0
...

Sheet CFF - FORNECEDOR
A10: CFF - CRONOGRAMA FISICO-FIANCEIRO | S10: CFF - CRONOGRAMA FISICO-FIANCEIRO
A11: CRONOGRAMA Base para Licitação | S11: CRONOGRAMA Base para Licitação
A13: AÇÃO / MODALIDADE | D13: OBJETO | M13: MUNICÍPIO / UF | S13: AÇÃO / MODALIDADE | X13: =D13 -> OBJETO | AH13: MUNICÍPIO / UF
A14: Projeto Padrão FNDE - Quadra coberta com vestiario (PAC 2 - 001/2013) | D14: Repactuação de obra inacabada - CONSTRUÇÃO DE QUADRA COBERTA COM VESTIARIOS - EMEB MARIA FERNANDA LOPES PIFFER | M14: BEBEDOURO SP | S14: Projeto Padrão FNDE - Quadra coberta com vestiario (PAC 2 - 001/2013) | X14: =D14 -> Repactuação de obra inacabada - CONSTRUÇÃO DE QUADRA COBERTA COM VESTIARIOS - EMEB MARIA FERNANDA LOPES PIFFER | AH14: BEBEDOURO SP
A16: PREPONENTE / TOMADOR | E16: LOCALIDADE / ENDEREÇO | S16: PREPONENTE / TOMADOR | Z16: LOCALIDADE / ENDEREÇO
A17: PREFEITURA MUNICIPAL DE BEBEDOURO SP | E17: RUA DANTE CASSANO, Nº 2736 - RESIDENCIAL ANTONIA SANTAELLA, CEP 14.711-351 | S17: PREFEITURA MUNICIPAL DE BEBEDOURO SP | Z17: RUA DANTE CASSANO, Nº 2736 - RESIDENCIAL ANTONIA SANTAELLA, CEP 14.711-351
D20: Á EXECUTAR | S20: Á EXECUTAR | AI20: TOTAL
A21: Código Atividade | B21: Descrição da Atividade | C21: Valor Orçado | D21: % | E21: Mês | F21: 1 | G21: % | H21: Mês | I21: =+F21+1 -> 2 | J21: % | K21: Mês | L21: =+I21+1 -> 3 | M21: % | N21: Mês | O21: =+L21+1 -> 4 | P21: % | Q21: Mês | R21: =+O21+1 -> 5 | S21: % | T21: Mês | U21: =+R21+1 -> 6 | V21: % | W21: Mês | X21: =+U21+1 -> 7 | Y21: % | Z21: Mês | AA21: =+X21+1 -> 8 | AB21: % | AC21: Mês | AD21: =+AA21+1 -> 9 | AE21: % | AF21: Mês | AG21: =+AD21+1 -> 10 | AH21: %
A22: ='PO - REFERENCIAL (2026)'!B286 -> 1.00 | B22: SERVIÇO PRELIMINARES | C22: ='PO - FORNECEDOR'!O282 -> 0 | D22: 0 | E22: =D22*C22 -> 0 | G22: 0 | H22: =G22*C22 -> 0 | J22: 0 | K22: =J22*C22 -> 0 | M22: 0 | N22: =M22*C22 -> 0 | P22: 0 | Q22: =P22*C22 -> 0 | S22: 0 | T22: =S22*C22 -> 0 | V22: 0 | W22: =V22*C22 -> 0 | Y22: 0 | Z22: =Y22*C22 -> 0 | AB22: 0 | AC22: =AB22*C22 -> 0 | AE22: 0 | AF22: =AE22*C22 -> 0 | AH22: =D22+G22+J22+M22+P22+S22+V22+Y22+AB22+AE22 -> 0 | AI22: =E22+H22+K22+N22+Q22+T22+W22+Z22+AC22+AF22 -> 0
A23: ='PO - REFERENCIAL (2026)'!B287 -> 2.00 | B23: MOVIMENTO DE TERRAS PARA FUNDAÇÃO | C23: ='PO - FORNECEDOR'!O283 -> 0 | D23: 0 | E23: =D23*C23 -> 0 | G23: 0 | H23: =G23*C23 -> 0 | J23: 0 | K23: =J23*C23 -> 0 | M23: 0 | N23: =M23*C23 -> 0 | P23: 0 | Q23: =P23*C23 -> 0 | S23: 0 | T23: =S23*C23 -> 0 | V23: 0 | W23: =V23*C23 -> 0 | Y23: 0 | Z23: =Y23*C23 -> 0 | AB23: 0 | AC23: =AB23*C23 -> 0 | AE23: 0 | AF23: =AE23*C23 -> 0 | AH23: =D23+G23+J23+M23+P23+S23+V23+Y23+AB23+AE23 -> 0 | AI23: =E23+H23+K23+N23+Q23+T23+W23+Z23+AC23+AF23 -> 0
A24: ='PO - REFERENCIAL (2026)'!B288 -> 3.00 | B24: FUNDÇÕES | C24: ='PO - FORNECEDOR'!O284 -> 0 | D24: 0 | E24: =D24*C24 -> 0 | G24: 0 | H24: =G24*C24 -> 0 | J24: 0 | K24: =J24*C24 -> 0 | M24: 0 | N24: =M24*C24 -> 0 | P24: 0 | Q24: =P24*C24 -> 0 | S24: 0 | T24: =S24*C24 -> 0 | V24: 0 | W24: =V24*C24 -> 0 | Y24: 0 | Z24: =Y24*C24 -> 0 | AB24: 0 | AC24: =AB24*C24 -> 0 | AE24: 0 | AF24: =AE24*C24 -> 0 | AH24: =D24+G24+J24+M24+P24+S24+V24+Y24+AB24+AE24 -> 0 | AI24: =E24+H24+K24+N24+Q24+T24+W24+Z24+AC24+AF24 -> 0
A25: ='PO - REFERENCIAL (2026)'!B289 -> 4.00 | B25: SUPERESTRUTURA | C25: ='PO - FORNECEDOR'!O285 -> 0 | D25: 0 | E25: =D25*C25 -> 0 | G25: 0 | H25: =G25*C25 -> 0 | J25: 0 | K25: =J25*C25 -> 0 | M25: 0 | N25: =M25*C25 -> 0 | P25: 0 | Q25: =P25*C25 -> 0 | S25: 0 | T25: =S25*C25 -> 0 | V25: 0 | W25: =V25*C25 -> 0 | Y25: 0 | Z25: =Y25*C25 -> 0 | AB25: 0 | AC25: =AB25*C25 -> 0 | AE25: 0 | AF25: =AE25*C25 -> 0 | AH25: =D25+G25+J25+M25+P25+S25+V25+Y25+AB25+AE25 -> 0 | AI25: =E25+H25+K25+N25+Q25+T25+W25+Z25+AC25+AF25 -> 0
A26: ='PO - REFERENCIAL (2026)'!B290 -> 5.00 | B26: SISTEMA DE VEDAÇÃO VERTICAL INTERNO E EXTERNO [PAREDES] | C26: ='PO - FORNECEDOR'!O286 -> 0 | D26: 0 | E26: =D26*C26 -> 0 | G26: 0 | H26: =G26*C26 -> 0 | J26: 0 | K26: =J26*C26 -> 0 | M26: 0 | N26: =M26*C26 -> 0 | P26: 0 | Q26: =P26*C26 -> 0 | S26: 0 | T26: =S26*C26 -> 0 | V26: 0 | W26: =V26*C26 -> 0 | Y26: 0 | Z26: =Y26*C26 -> 0 | AB26: 0 | AC26: =AB26*C26 -> 0 | AE26: 0 | AF26: =AE26*C26 -> 0 | AH26: =D26+G26+J26+M26+P26+S26+V26+Y26+AB26+AE26 -> 0 | AI26: =E26+H26+K26+N26+Q26+T26+W26+Z26+AC26+AF26 -> 0
A27: ='PO - REFERENCIAL (2026)'!B291 -> 6.00 | B27: ESQUADRIAS | C27: ='PO - FORNECEDOR'!O287 -> 0 | D27: 0 | E27: =D27*C27 -> 0 | G27: 0 | H27: =G27*C27 -> 0 | J27: 0 | K27: =J27*C27 -> 0 | M27: 0 | N27: =M27*C27 -> 0 | P27: 0 | Q27: =P27*C27 -> 0 | S27: 0 | T27: =S27*C27 -> 0 | V27: 0 | W27: =V27*C27 -> 0 | Y27: 0 | Z27: =Y27*C27 -> 0 | AB27: 0 | AC27: =AB27*C27 -> 0 | AE27: 0 | AF27: =AE27*C27 -> 0 | AH27: =D27+G27+J27+M27+P27+S27+V27+Y27+AB27+AE27 -> 0 | AI27: =E27+H27+K27+N27+Q27+T27+W27+Z27+AC27+AF27 -> 0
A28: ='PO - REFERENCIAL (2026)'!B292 -> 7.00 | B28: SISTEMA DE COBERTURA | C28: ='PO - FORNECEDOR'!O288 -> 0 | D28: 0 | E28: =D28*C28 -> 0 | G28: 0 | H28: =G28*C28 -> 0 | J28: 0 | K28: =J28*C28 -> 0 | M28: 0 | N28: =M28*C28 -> 0 | P28: 0 | Q28: =P28*C28 -> 0 | S28: 0 | T28: =S28*C28 -> 0 | V28: 0 | W28: =V28*C28 -> 0 | Y28: 0 | Z28: =Y28*C28 -> 0 | AB28: 0 | AC28: =AB28*C28 -> 0 | AE28: 0 | AF28: =AE28*C28 -> 0 | AH28: =D28+G28+J28+M28+P28+S28+V28+Y28+AB28+AE28 -> 0 | AI28: =E28+H28+K28+N28+Q28+T28+W28+Z28+AC28+AF28 -> 0
A29: ='PO - REFERENCIAL (2026)'!B293 -> 8.00 | B29: IMPERMEABILIZAÇÃO | C29: ='PO - FORNECEDOR'!O289 -> 0 | D29: 0 | E29: =D29*C29 -> 0 | G29: 0 | H29: =G29*C29 -> 0 | J29: 0 | K29: =J29*C29 -> 0 | M29: 0 | N29: =M29*C29 -> 0 | P29: 0 | Q29: =P29*C29 -> 0 | S29: 0 | T29: =S29*C29 -> 0 | V29: 0 | W29: =V29*C29 -> 0 | Y29: 0 | Z29: =Y29*C29 -> 0 | AB29: 0 | AC29: =AB29*C29 -> 0 | AE29: 0 | AF29: =AE29*C29 -> 0 | AH29: =D29+G29+J29+M29+P29+S29+V29+Y29+AB29+AE29 -> 0 | AI29: =E29+H29+K29+N29+Q29+T29+W29+Z29+AC29+AF29 -> 0
A30: ='PO - REFERENCIAL (2026)'!B294 -> 9.00 | B30: REVESTIMENTOS INTERNOS E EXTERNOS | C30: ='PO - FORNECEDOR'!O290 -> 0 | D30: 0 | E30: =D30*C30 -> 0 | G30: 0 | H30: =G30*C30 -> 0 | J30: 0 | K30: =J30*C30 -> 0 | M30: 0 | N30: =M30*C30 -> 0 | P30: 0 | Q30: =P30*C30 -> 0 | S30: 0 | T30: =S30*C30 -> 0 | V30: 0 | W30: =V30*C30 -> 0 | Y30: 0 | Z30: =Y30*C30 -> 0 | AB30: 0 | AC30: =AB30*C30 -> 0 | AE30: 0 | AF30: =AE30*C30 -> 0 | AH30: =D30+G30+J30+M30+P30+S30+V30+Y30+AB30+AE30 -> 0 | AI30: =E30+H30+K30+N30+Q30+T30+W30+Z30+AC30+AF30 -> 0
A31: ='PO - REFERENCIAL (2026)'!B295 -> 10.0 | B31: SISTEMAS DE PISOS INTERNOS E EXTERNOS [PAVIMENTAÇÃO] | C31: ='PO - FORNECEDOR'!O291 -> 0 | D31: 0 | E31: =D31*C31 -> 0 | G31: 0 | H31: =G31*C31 -> 0 | J31: 0 | K31: =J31*C31 -> 0 | M31: 0 | N31: =M31*C31 -> 0 | P31: 0 | Q31: =P31*C31 -> 0 | S31: 0 | T31: =S31*C31 -> 0 | V31: 0 | W31: =V31*C31 -> 0 | Y31: 0 | Z31: =Y31*C31 -> 0 | AB31: 0 | AC31: =AB31*C31 -> 0 | AE31: 0 | AF31: =AE31*C31 -> 0 | AH31: =D31+G31+J31+M31+P31+S31+V31+Y31+AB31+AE31 -> 0 | AI31: =E31+H31+K31+N31+Q31+T31+W31+Z31+AC31+AF31 -> 0
A32: ='PO - REFERENCIAL (2026)'!B296 -> 11.0 | B32: PINTURA | C32: ='PO - FORNECEDOR'!O292 -> 0 | D32: 0 | E32: =D32*C32 -> 0 | G32: 0 | H32: =G32*C32 -> 0 | J32: 0 | K32: =J32*C32 -> 0 | M32: 0 | N32: =M32*C32 -> 0 | P32: 0 | Q32: =P32*C32 -> 0 | S32: 0 | T32: =S32*C32 -> 0 | V32: 0 | W32: =V32*C32 -> 0 | Y32: 0 | Z32: =Y32*C32 -> 0 | AB32: 0 | AC32: =AB32*C32 -> 0 | AE32: 0 | AF32: =AE32*C32 -> 0 | AH32: =D32+G32+J32+M32+P32+S32+V32+Y32+AB32+AE32 -> 0 | AI32: =E32+H32+K32+N32+Q32+T32+W32+Z32+AC32+AF32 -> 0
A33: ='PO - REFERENCIAL (2026)'!B297 -> 12.0 | B33: INSTALAÇÕES HIDRAULICAS | C33: ='PO - FORNECEDOR'!O293 -> 0 | D33: 0 | E33: =D33*C33 -> 0 | G33: 0 | H33: =G33*C33 -> 0 | J33: 0 | K33: =J33*C33 -> 0 | M33: 0 | N33: =M33*C33 -> 0 | P33: 0 | Q33: =P33*C33 -> 0 | S33: 0 | T33: =S33*C33 -> 0 | V33: 0 | W33: =V33*C33 -> 0 | Y33: 0 | Z33: =Y33*C33 -> 0 | AB33: 0 | AC33: =AB33*C33 -> 0 | AE33: 0 | AF33: =AE33*C33 -> 0 | AH33: =D33+G33+J33+M33+P33+S33+V33+Y33+AB33+AE33 -> 0 | AI33: =E33+H33+K33+N33+Q33+T33+W33+Z33+AC33+AF33 -> 0
... A41: ='PO - REFERENCIAL (2026)'!B305 -> 20.0 | B41: SERVIÇOS FINAIS | C41: ='PO - FORNECEDOR'!O301 -> 0 | D41: 0 | E41: =D41*C41 -> 0 | G41: 0 | H41: =G41*C41 -> 0 | J41: 0 | K41: =J41*C41 -> 0 | M41: 0 | N41: =M41*C41 -> 0 | P41: 0 | Q41: =P41*C41 -> 0 | S41: 0 | T41: =S41*C41 -> 0 | V41: 0 | W41: =V41*C41 -> 0 | Y41: 0 | Z41: =Y41*C41 -> 0 | AB41: 0 | AC41: =AB41*C41 -> 0 | AE41: 0 | AF41: =AE41*C41 -> 0 | AH41: =D41+G41+J41+M41+P41+S41+V41+Y41+AB41+AE41 -> 0 | AI41: =E41+H41+K41+N41+Q41+T41+W41+Z41+AC41+AF41 -> 0
A42: VALOR TOTAL DO ORÇAMENTO: | C42: =SUM(C22:C41) -> 0 | D42: =E42*100%/C42 -> #DIV/0! | E42: =SUM(E22:F41) -> 0 | G42: =H42*100%/C42 -> #DIV/0! | H42: =SUM(H22:I41) -> 0 | J42: =K42*100%/C42 -> #DIV/0! | K42: =SUM(K22:L41) -> 0 | M42: =N42*100%/C42 -> #DIV/0! | N42: =SUM(N22:O41) -> 0 | P42: =Q42*100%/C42 -> #DIV/0! | Q42: =SUM(Q22:R41) -> 0 | S42: =T42*100%/C42 -> #DIV/0! | T42: =SUM(T22:U41) -> 0 | V42: =W42*100%/C42 -> #DIV/0! | W42: =SUM(W22:X41) -> 0 | Y42: =Z42*100%/C42 -> #DIV/0! | Z42: =SUM(Z22:AA41) -> 0 | AB42: =AC42*100%/C42 -> #DIV/0! | AC42: =SUM(AC22:AD41) -> 0 | AE42: =AF42*100%/C42 -> #DIV/0! | AF42: =SUM(AF22:AG41) -> 0 | AH42: =D42+G42+J42+M42+P42+S42+V42+Y42+AB42+AE42 -> #DIV/0! | AI42: =E42+H42+K42+N42+Q42+T42+W42+Z42+AC42+AF42 -> 0
G43: =G42+D42 -> #DIV/0! | H43: =H42+E42 -> 0 | J43: =J42+G43 -> #DIV/0! | K43: =K42+H43 -> 0 | M43: =M42+J43 -> #DIV/0! | N43: =N42+K43 -> 0 | P43: =P42+M43 -> #DIV/0! | Q43: =Q42+N43 -> 0 | S43: =S42+P43 -> #DIV/0! | T43: =T42+Q43 -> 0 | V43: =V42+S43 -> #DIV/0! | W43: =W42+T43 -> 0 | Y43: =Y42+V43 -> #DIV/0! | Z43: =Z42+W43 -> 0 | AB43: =AB42+Y43 -> #DIV/0! | AC43: =AC42+Z43 -> 0 | AE43: =AE42+AB43 -> #DIV/0! | AF43: =AF42+AC43 -> 0
